Workbook

Sheet 2025 Income
A1: Date | B1: DESCRIPTION | C1: REF | E1: INCOME | F1: INTEREST | G1: BONDS - STANDING ORDER | H1: COMMON PLATE | I1: BONDS - VIA WEEKLY ENVELOPES | J1: BONDS - VIA CHEQUES | K1: DONATION | L1: CHURCH OFFICER | M1: LIFE & WORK | N1: TREES at CHRISTMAS | O1: PULPIT SUPPLY REPAYMENT | P1: FUNERAL FEES | Q1: WEDDING FEES | R1: REFUND OF TAX ON BONDS | S1: REFUND OF CHURCH REPAIRS | T1: INSURANCE CLAIM Window Vandalism | U1: BEQUEST Stuart Macdonald | V1: SPARE | W1: SPARE | X1: SPARE | Y1: CHRISTIAN AID DONATION | Z1: REFUND ON INSURANCE FROM FABRIC FUND | AA1: REFUND ON ELECTRICITY FROM FABRIC FUND | AB1: CONCERTS - QUIZ / SOUP & SWEET | AC1: SPARE | AD1: SPARE
A2: 45659 | B2: Herries | C2: 1 | D2: D/D | E2: 500 | F2: 0 | G2: 500 | H2: 0 | I2: 0 | J2: 0 | K2: 0 | L2: 0 | M2: 0 | N2: 0 | O2: 0 | P2: 0 | Q2: 0 | R2: 0 | S2: 0 | T2: 0 | U2: 0 | V2: 0 | W2: 0 | X2: 0 | Y2: 0 | Z2: 0 | AA2: 0 | AB2: 0 | AC2: 0 | AD2: 0 | AE2: =SUM(F2:AD2)-E2 -> 0
A3: 45662 | B3: Common Plate | C3: 1 | E3: 75 | F3: 0 | G3: 0 | H3: 75 | I3: 0 | J3: 0 | K3: 0 | L3: 0 | M3: 0 | N3: 0 | O3: 0 | P3: 0 | Q3: 0 | R3: 0 | S3: 0 | T3: 0 | U3: 0 | V3: 0 | W3: 0 | X3: 0 | Y3: 0 | Z3: 0 | AA3: 0 | AB3: 0 | AC3: 0 | AD3: 0 | AE3: =SUM(F3:AD3)-E3 -> 0
A4: 45669 | B4: Common Plate | C4: 1 | D4: 500577 | E4: 90 | F4: 0 | G4: 0 | H4: 90 | I4: 0 | J4: 0 | K4: 0 | L4: 0 | M4: 0 | N4: 0 | O4: 0 | P4: 0 | Q4: 0 | R4: 0 | S4: 0 | T4: 0 | U4: 0 | V4: 0 | W4: 0 | X4: 0 | Y4: 0 | Z4: 0 | AA4: 0 | AB4: 0 | AC4: 0 | AD4: 0 | AE4: =SUM(F4:AD4)-E4 -> 0
A5: 45670 | B5: Funeral - McLachlan | C5: 1 | E5: 100 | F5: 0 | G5: 0 | H5: 0 | I5: 0 | J5: 0 | K5: 0 | L5: 0 | M5: 0 | N5: 0 | O5: 0 | P5: 100 | Q5: 0 | R5: 0 | S5: 0 | T5: 0 | U5: 0 | V5: 0 | W5: 0 | X5: 0 | Y5: 0 | Z5: 0 | AA5: 0 | AB5: 0 | AC5: 0 | AD5: 0 | AE5: =SUM(F5:AD5)-E5 -> 0
A6: 45676 | B6: Common Plate | C6: 1 | D6: 500578 | E6: 125 | F6: 0 | G6: 0 | H6: 125 | I6: 0 | J6: 0 | K6: 0 | L6: 0 | M6: 0 | N6: 0 | O6: 0 | P6: 0 | Q6: 0 | R6: 0 | S6: 0 | T6: 0 | U6: 0 | V6: 0 | W6: 0 | X6: 0 | Y6: 0 | Z6: 0 | AA6: 0 | AB6: 0 | AC6: 0 | AD6: 0 | AE6: =SUM(F6:AD6)-E6 -> 0
A7: 45683 | B7: Common Plate | C7: 1 | D7: 500579 | E7: 60 | F7: 0 | G7: 0 | H7: 60 | I7: 0 | J7: 0 | K7: 0 | L7: 0 | M7: 0 | N7: 0 | O7: 0 | P7: 0 | Q7: 0 | R7: 0 | S7: 0 | T7: 0 | U7: 0 | V7: 0 | W7: 0 | X7: 0 | Y7: 0 | Z7: 0 | AA7: 0 | AB7: 0 | AC7: 0 | AD7: 0 | AE7: =SUM(F7:AD7)-E7 -> 0
A8: 45687 | B8: McKean | C8: 1 | D8: D/D | E8: 13 | F8: 0 | G8: 13 | H8: 0 | I8: 0 | J8: 0 | K8: 0 | L8: 0 | M8: 0 | N8: 0 | O8: 0 | P8: 0 | Q8: 0 | R8: 0 | S8: 0 | T8: 0 | U8: 0 | V8: 0 | W8: 0 | X8: 0 | Y8: 0 | Z8: 0 | AA8: 0 | AB8: 0 | AC8: 0 | AD8: 0 | AE8: =SUM(F8:AD8)-E8 -> 0
A9: 45690 | B9: Common Plate | C9: 1 | D9: Transfer | E9: 60 | F9: 0 | G9: 0 | H9: 60 | I9: 0 | J9: 0 | K9: 0 | L9: 0 | M9: 0 | N9: 0 | O9: 0 | P9: 0 | Q9: 0 | R9: 0 | S9: 0 | T9: 0 | U9: 0 | V9: 0 | W9: 0 | X9: 0 | Y9: 0 | Z9: 0 | AA9: 0 | AB9: 0 | AC9: 0 | AD9: 0 | AE9: =SUM(F9:AD9)-E9 -> 0
A10: 45697 | B10: Common Plate | C10: 1 | D10: 500580 | E10: 95 | F10: 0 | G10: 0 | H10: 95 | I10: 0 | J10: 0 | K10: 0 | L10: 0 | M10: 0 | N10: 0 | O10: 0 | P10: 0 | Q10: 0 | R10: 0 | S10: 0 | T10: 0 | U10: 0 | V10: 0 | W10: 0 | X10: 0 | Y10: 0 | Z10: 0 | AA10: 0 | AB10: 0 | AC10: 0 | AD10: 0 | AE10: =SUM(F10:AD10)-E10 -> 0
A11: 45704 | B11: Common Plate | C11: 1 | D11: 500581 | E11: 135 | F11: 0 | G11: 0 | H11: 135 | I11: 0 | J11: 0 | K11: 0 | L11: 0 | M11: 0 | N11: 0 | O11: 0 | P11: 0 | Q11: 0 | R11: 0 | S11: 0 | T11: 0 | U11: 0 | V11: 0 | W11: 0 | X11: 0 | Y11: 0 | Z11: 0 | AA11: 0 | AB11: 0 | AC11: 0 | AD11: 0 | AE11: =SUM(F11:AD11)-E11 -> 0
A12: 45711 | B12: Common Plate | C12: 1 | D12: 500582 | E12: 85 | F12: 0 | G12: 0 | H12: 85 | I12: 0 | J12: 0 | K12: 0 | L12: 0 | M12: 0 | N12: 0 | O12: 0 | P12: 0 | Q12: 0 | R12: 0 | S12: 0 | T12: 0 | U12: 0 | V12: 0 | W12: 0 | X12: 0 | Y12: 0 | Z12: 0 | AA12: 0 | AB12: 0 | AC12: 0 | AD12: 0 | AE12: =SUM(F12:AD12)-E12 -> 0
A13: 45716 | B13: McKean | C13: 1 | D13: D/D | E13: 13 | F13: 0 | G13: 13 | H13: 0 | I13: 0 | J13: 0 | K13: 0 | L13: 0 | M13: 0 | N13: 0 | O13: 0 | P13: 0 | Q13: 0 | R13: 0 | S13: 0 | T13: 0 | U13: 0 | V13: 0 | W13: 0 | X13: 0 | Y13: 0 | Z13: 0 | AA13: 0 | AB13: 0 | AC13: 0 | AD13: 0 | AE13: =SUM(F13:AD13)-E13 -> 0
A14: 45718 | B14: Common Plate | C14: 1 | D14: 500583 | E14: 55 | F14: 0 | G14: 0 | H14: 55 | I14: 0 | J14: 0 | K14: 0 | L14: 0 | M14: 0 | N14: 0 | O14: 0 | P14: 0 | Q14: 0 | R14: 0 | S14: 0 | T14: 0 | U14: 0 | V14: 0 | W14: 0 | X14: 0 | Y14: 0 | Z14: 0 | AA14: 0 | AB14: 0 | AC14: 0 | AD14: 0 | AE14: =SUM(F14:AD14)-E14 -> 0
A15: 45725 | B15: Common Plate | C15: 1 | D15: 500584 | E15: 80 | F15: 0 | G15: 0 | H15: 80 | I15: 0 | J15: 0 | K15: 0 | L15: 0 | M15: 0 | N15: 0 | O15: 0 | P15: 0 | Q15: 0 | R15: 0 | S15: 0 | T15: 0 | U15: 0 | V15: 0 | W15: 0 | X15: 0 | Y15: 0 | Z15: 0 | AA15: 0 | AB15: 0 | AC15: 0 | AD15: 0 | AE15: =SUM(F15:AD15)-E15 -> 0
A16: 45732 | B16: Common Plate | C16: 1 | D16: 500585 | E16: 80 | F16: 0 | G16: 0 | H16: 80 | I16: 0 | J16: 0 | K16: 0 | L16: 0 | M16: 0 | N16: 0 | O16: 0 | P16: 0 | Q16: 0 | R16: 0 | S16: 0 | T16: 0 | U16: 0 | V16: 0 | W16: 0 | X16: 0 | Y16: 0 | Z16: 0 | AA16: 0 | AB16: 0 | AC16: 0 | AD16: 0 | AE16: =SUM(F16:AD16)-E16 -> 0
A17: 45732 | B17: Interest | C17: 1 | D17: BGC | E17: 60 | F17: 60 | G17: 0 | H17: 0 | I17: 0 | J17: 0 | K17: 0 | L17: 0 | M17: 0 | N17: 0 | O17: 0 | P17: 0 | Q17: 0 | R17: 0 | S17: 0 | T17: 0 | U17: 0 | V17: 0 | W17: 0 | X17: 0 | Y17: 0 | Z17: 0 | AA17: 0 | AB17: 0 | AC17: 0 | AD17: 0 | AE17: =SUM(F17:AD17)-E17 -> 0
A18: 45739 | B18: Common Plate | C18: 1 | D18: 500586 | E18: 136.45 | F18: 0 | G18: 0 | H18: 136.45 | I18: 0 | J18: 0 | K18: 0 | L18: 0 | M18: 0 | N18: 0 | O18: 0 | P18: 0 | Q18: 0 | R18: 0 | S18: 0 | T18: 0 | U18: 0 | V18: 0 | W18: 0 | X18: 0 | Y18: 0 | Z18: 0 | AA18: 0 | AB18: 0 | AC18: 0 | AD18: 0 | AE18: =SUM(F18:AD18)-E18 -> 0
A19: 45746 | B19: Common Plate | C19: 1 | D19: 500587 | E19: 35 | F19: 0 | G19: 0 | H19: 35 | I19: 0 | J19: 0 | K19: 0 | L19: 0 | M19: 0 | N19: 0 | O19: 0 | P19: 0 | Q19: 0 | R19: 0 | S19: 0 | T19: 0 | U19: 0 | V19: 0 | W19: 0 | X19: 0 | Y19: 0 | Z19: 0 | AA19: 0 | AB19: 0 | AC19: 0 | AD19: 0 | AE19: =SUM(F19:AD19)-E19 -> 0
A20: 45747 | B20: McKean | C20: 1 | D20: D/D | E20: 13 | F20: 0 | G20: 13 | H20: 0 | I20: 0 | J20: 0 | K20: 0 | L20: 0 | M20: 0 | N20: 0 | O20: 0 | P20: 0 | Q20: 0 | R20: 0 | S20: 0 | T20: 0 | U20: 0 | V20: 0 | W20: 0 | X20: 0 | Y20: 0 | Z20: 0 | AA20: 0 | AB20: 0 | AC20: 0 | AD20: 0 | AE20: =SUM(F20:AD20)-E20 -> 0
A21: 45748 | B21: Herries | C21: 1 | D21: D/D | E21: 500 | F21: 0 | G21: 500 | H21: 0 | I21: 0 | J21: 0 | K21: 0 | L21: 0 | M21: 0 | N21: 0 | O21: 0 | P21: 0 | Q21: 0 | R21: 0 | S21: 0 | T21: 0 | U21: 0 | V21: 0 | W21: 0 | X21: 0 | Y21: 0 | Z21: 0 | AA21: 0 | AB21: 0 | AC21: 0 | AD21: 0 | AE21: =SUM(F21:AD21)-E21 -> 0
A22: 45748 | B22: Funeral - Allison | C22: 1 | E22: 150 | F22: 0 | G22: 0 | H22: 0 | I22: 0 | J22: 0 | K22: 0 | L22: 0 | M22: 0 | N22: 0 | O22: 0 | P22: 150 | Q22: 0 | R22: 0 | S22: 0 | T22: 0 | U22: 0 | V22: 0 | W22: 0 | X22: 0 | Y22: 0 | Z22: 0 | AA22: 0 | AB22: 0 | AC22: 0 | AD22: 0 | AE22: =SUM(F22:AD22)-E22 -> 0
A23: 45753 | B23: Common Plate | C23: 1 | D23: 500588 | E23: 93 | F23: 0 | G23: 0 | H23: 93 | I23: 0 | J23: 0 | K23: 0 | L23: 0 | M23: 0 | N23: 0 | O23: 0 | P23: 0 | Q23: 0 | R23: 0 | S23: 0 | T23: 0 | U23: 0 | V23: 0 | W23: 0 | X23: 0 | Y23: 0 | Z23: 0 | AA23: 0 | AB23: 0 | AC23: 0 | AD23: 0 | AE23: =SUM(F23:AD23)-E23 -> 0
A24: 45760 | B24: Common Plate | C24: 1 | D24: Transfer | E24: 85 | F24: 0 | G24: 0 | H24: 85 | I24: 0 | J24: 0 | K24: 0 | L24: 0 | M24: 0 | N24: 0 | O24: 0 | P24: 0 | Q24: 0 | R24: 0 | S24: 0 | T24: 0 | U24: 0 | V24: 0 | W24: 0 | X24: 0 | Y24: 0 | Z24: 0 | AA24: 0 | AB24: 0 | AC24: 0 | AD24: 0 | AE24: =SUM(F24:AD24)-E24 -> 0
A25: 45767 | B25: Common Plate | C25: 1 | D25: 500590 | E25: 128 | F25: 0 | G25: 0 | H25: 128 | I25: 0 | J25: 0 | K25: 0 | L25: 0 | M25: 0 | N25: 0 | O25: 0 | P25: 0 | Q25: 0 | R25: 0 | S25: 0 | T25: 0 | U25: 0 | V25: 0 | W25: 0 | X25: 0 | Y25: 0 | Z25: 0 | AA25: 0 | AB25: 0 | AC25: 0 | AD25: 0 | AE25: =SUM(F25:AD25)-E25 -> 0
A26: 45774 | B26: Common Plate | C26: 1 | D26: 500591 | E26: 105 | F26: 0 | G26: 0 | H26: 105 | I26: 0 | J26: 0 | K26: 0 | L26: 0 | M26: 0 | N26: 0 | O26: 0 | P26: 0 | Q26: 0 | R26: 0 | S26: 0 | T26: 0 | U26: 0 | V26: 0 | W26: 0 | X26: 0 | Y26: 0 | Z26: 0 | AA26: 0 | AB26: 0 | AC26: 0 | AD26: 0 | AE26: =SUM(F26:AD26)-E26 -> 0
A27: 45777 | B27: McKean | C27: 1 | D27: D/D | E27: 13 | F27: 0 | G27: 13 | H27: 0 | I27: 0 | J27: 0 | K27: 0 | L27: 0 | M27: 0 | N27: 0 | O27: 0 | P27: 0 | Q27: 0 | R27: 0 | S27: 0 | T27: 0 | U27: 0 | V27: 0 | W27: 0 | X27: 0 | Y27: 0 | Z27: 0 | AA27: 0 | AB27: 0 | AC27: 0 | AD27: 0 | AE27: =SUM(F27:AD27)-E27 -> 0
A28: 45781 | B28: Common Plate | C28: 1 | D28: 500592 | E28: 100 | F28: 0 | G28: 0 | H28: 100 | I28: 0 | J28: 0 | K28: 0 | L28: 0 | M28: 0 | N28: 0 | O28: 0 | P28: 0 | Q28: 0 | R28: 0 | S28: 0 | T28: 0 | U28: 0 | V28: 0 | W28: 0 | X28: 0 | Y28: 0 | Z28: 0 | AA28: 0 | AB28: 0 | AC28: 0 | AD28: 0 | AE28: =SUM(F28:AD28)-E28 -> 0
A29: 45788 | B29: Funeral - Robertson | C29: 1 | E29: 100 | F29: 0 | G29: 0 | H29: 0 | I29: 0 | J29: 0 | K29: 0 | L29: 0 | M29: 0 | N29: 0 | O29: 0 | P29: 100 | Q29: 0 | R29: 0 | S29: 0 | T29: 0 | U29: 0 | V29: 0 | W29: 0 | X29: 0 | Y29: 0 | Z29: 0 | AA29: 0 | AB29: 0 | AC29: 0 | AD29: 0 | AE29: =SUM(F29:AD29)-E29 -> 0
A30: 45788 | B30: Common Plate | C30: 1 | D30: Transfer | E30: 60 | F30: 0 | G30: 0 | H30: 60 | I30: 0 | J30: 0 | K30: 0 | L30: 0 | M30: 0 | N30: 0 | O30: 0 | P30: 0 | Q30: 0 | R30: 0 | S30: 0 | T30: 0 | U30: 0 | V30: 0 | W30: 0 | X30: 0 | Y30: 0 | Z30: 0 | AA30: 0 | AB30: 0 | AC30: 0 | AD30: 0 | AE30: =SUM(F30:AD30)-E30 -> 0
A31: 45792 | B31: Interest | C31: 1 | D31: D/D | E31: 216.6 | F31: 216.6 | G31: 0 | H31: 0 | I31: 0 | J31: 0 | K31: 0 | L31: 0 | M31: 0 | N31: 0 | O31: 0 | P31: 0 | Q31: 0 | R31: 0 | S31: 0 | T31: 0 | U31: 0 | V31: 0 | W31: 0 | X31: 0 | Y31: 0 | Z31: 0 | AA31: 0 | AB31: 0 | AC31: 0 | AD31: 0 | AE31: =SUM(F31:AD31)-E31 -> 0
A32: 45793 | B32: Wedding - Riddick | C32: 1 | E32: 250 | F32: 0 | G32: 0 | H32: 0 | I32: 0 | J32: 0 | K32: 0 | L32: 0 | M32: 0 | N32: 0 | O32: 0 | P32: 0 | Q32: 250 | R32: 0 | S32: 0 | T32: 0 | U32: 0 | V32: 0 | W32: 0 | X32: 0 | Y32: 0 | Z32: 0 | AA32: 0 | AB32: 0 | AC32: 0 | AD32: 0 | AE32: =SUM(F32:AD32)-E32 -> 0
A33: 45795 | B33: Common Plate | C33: 1 | D33: Transfer | E33: 158.3 | F33: 0 | G33: 0 | H33: 158.3 | I33: 0 | J33: 0 | K33: 0 | L33: 0 | M33: 0 | N33: 0 | O33: 0 | P33: 0 | Q33: 0 | R33: 0 | S33: 0 | T33: 0 | U33: 0 | V33: 0 | W33: 0 | X33: 0 | Y33: 0 | Z33: 0 | AA33: 0 | AB33: 0 | AC33: 0 | AD33: 0 | AE33: =SUM(F33:AD33)-E33 -> 0
A34: 45802 | B34: Common Plate | C34: 1 | D34: Transfer | E34: 75 | F34: 0 | G34: 0 | H34: 75 | I34: 0 | J34: 0 | K34: 0 | L34: 0 | M34: 0 | N34: 0 | O34: 0 | P34: 0 | Q34: 0 | R34: 0 | S34: 0 | T34: 0 | U34: 0 | V34: 0 | W34: 0 | X34: 0 | Y34: 0 | Z34: 0 | AA34: 0 | AB34: 0 | AC34: 0 | AD34: 0 | AE34: =SUM(F34:AD34)-E34 -> 0
A35: 45808 | B35: McKean | C35: 1 | D35: D/D | E35: 13 | F35: 0 | G35: 13 | H35: 0 | I35: 0 | J35: 0 | K35: 0 | L35: 0 | M35: 0 | N35: 0 | O35: 0 | P35: 0 | Q35: 0 | R35: 0 | S35: 0 | T35: 0 | U35: 0 | V35: 0 | W35: 0 | X35: 0 | Y35: 0 | Z35: 0 | AA35: 0 | AB35: 0 | AC35: 0 | AD35: 0 | AE35: =SUM(F35:AD35)-E35 -> 0
A36: 45809 | B36: Common Plate | C36: 1 | D36: 500593 | E36: 35 | F36: 0 | G36: 0 | H36: 35 | I36: 0 | J36: 0 | K36: 0 | L36: 0 | M36: 0 | N36: 0 | O36: 0 | P36: 0 | Q36: 0 | R36: 0 | S36: 0 | T36: 0 | U36: 0 | V36: 0 | W36: 0 | X36: 0 | Y36: 0 | Z36: 0 | AA36: 0 | AB36: 0 | AC36: 0 | AD36: 0 | AE36: =SUM(F36:AD36)-E36 -> 0
A37: 45816 | B37: Common Plate | C37: 1 | D37: Transfer | E37: 110 | F37: 0 | G37: 0 | H37: 110 | I37: 0 | J37: 0 | K37: 0 | L37: 0 | M37: 0 | N37: 0 | O37: 0 | P37: 0 | Q37: 0 | R37: 0 | S37: 0 | T37: 0 | U37: 0 | V37: 0 | W37: 0 | X37: 0 | Y37: 0 | Z37: 0 | AA37: 0 | AB37: 0 | AC37: 0 | AD37: 0 | AE37: =SUM(F37:AD37)-E37 -> 0
A38: 45823 | B38: Common Plate | C38: 1 | D38: Transfer | E38: 55 | F38: 0 | G38: 0 | H38: 55 | I38: 0 | J38: 0 | K38: 0 | L38: 0 | M38: 0 | N38: 0 | O38: 0 | P38: 0 | Q38: 0 | R38: 0 | S38: 0 | T38: 0 | U38: 0 | V38: 0 | W38: 0 | X38: 0 | Y38: 0 | Z38: 0 | AA38: 0 | AB38: 0 | AC38: 0 | AD38: 0 | AE38: =SUM(F38:AD38)-E38 -> 0
A39: 45830 | B39: Common Plate | C39: 1 | D39: Transfer | E39: 40 | F39: 0 | G39: 0 | H39: 40 | I39: 0 | J39: 0 | K39: 0 | L39: 0 | M39: 0 | N39: 0 | O39: 0 | P39: 0 | Q39: 0 | R39: 0 | S39: 0 | T39: 0 | U39: 0 | V39: 0 | W39: 0 | X39: 0 | Y39: 0 | Z39: 0 | AA39: 0 | AB39: 0 | AC39: 0 | AD39: 0 | AE39: =SUM(F39:AD39)-E39 -> 0
A40: 45837 | B40: Common Plate | C40: 1 | D40: 500594 | E40: 100 | F40: 0 | G40: 0 | H40: 100 | I40: 0 | J40: 0 | K40: 0 | L40: 0 | M40: 0 | N40: 0 | O40: 0 | P40: 0 | Q40: 0 | R40: 0 | S40: 0 | T40: 0 | U40: 0 | V40: 0 | W40: 0 | X40: 0 | Y40: 0 | Z40: 0 | AA40: 0 | AB40: 0 | AC40: 0 | AD40: 0 | AE40: =SUM(F40:AD40)-E40 -> 0
...

Sheet 2025 Expenses
A1: Date | B1: DESCRIPTION | C1: REF / CHQ No | D1: EXPENSES | E1: MINISTERS SALARY & LOCUM COSTS | F1: SPARE | G1: HEAT & LIGHT | H1: CHURCH OFFICER | J1: FLOWERS, CANDLES & OTHER DECORATIONS Etc | K1: HALL RENT - SUNDAY SCHOOL & OTHER EVENTS | L1: SPARE | M1: ORGANIST WAGES | N1: PULPIT SUPPLY | O1: RETIRAL & OTHER PRESENTATIONS | P1: MINISTERS TELEPHONE | Q1: MANSE COUNCIL TAX | R1: MANSE REPAIRS | S1: MINISTERS TRAVELLING EXPENSES | T1: LIFE & WORK | U1: FLORENCE CRAIG | V1: PRINT/STAT, CLEANING MATERIALS Etc., | W1: COMMUNION & FELLOWSHIP EXPENSES | X1: CHURCH REPAIRS | Y1: CHURCH INSURANCE | Z1: SPARE | AA1: DONATIONS TO CHRISTIAN AID | AB1: SOUND SYSTEM & PROJECTOR | AC1: FLOWER FESTIVAL | AD1: SPARE | AE1: CONCERTS & OTHER FUND RAISING EVENTS | AF1: PRESBYTERY DUES | AG1: ORGAN REPAIRS | AH1: FUNERAL & WEDDING EXPENSES | AI1: SPARE | AJ1: FABRIC FUND
A2: 45680 | B2: Ministers Salary | C2: D/D | D2: 695 | E2: 695 | F2: 0 | G2: 0 | H2: 0 | I2: 0 | J2: 0 | K2: 0 | L2: 0 | M2: 0 | N2: 0 | O2: 0 | P2: 0 | Q2: 0 | R2: 0 | S2: 0 | T2: 0 | U2: 0 | V2: 0 | W2: 0 | X2: 0 | Y2: 0 | Z2: 0 | AA2: 0 | AB2: 0 | AC2: 0 | AD2: 0 | AE2: 0 | AF2: 0 | AG2: 0 | AH2: 0 | AI2: 0 | AJ2: 0 | AK2: =SUM(E2:AJ2)-D2 -> 0
A3: 45691 | B3: Andrea Irving | C3: D/D | D3: 86.4 | E3: 0 | F3: 0 | G3: 0 | H3: 86.4 | I3: 0 | J3: 0 | K3: 0 | L3: 0 | M3: 0 | N3: 0 | O3: 0 | P3: 0 | Q3: 0 | R3: 0 | S3: 0 | T3: 0 | U3: 0 | V3: 0 | W3: 0 | X3: 0 | Y3: 0 | Z3: 0 | AA3: 0 | AB3: 0 | AC3: 0 | AD3: 0 | AE3: 0 | AF3: 0 | AG3: 0 | AH3: 0 | AI3: 0 | AJ3: 0 | AK3: =SUM(E3:AJ3)-D3 -> 0
A4: 45700 | B4: Currys - Powerpoint Pointer | C4: CARD | D4: 28.99 | E4: 0 | F4: 0 | G4: 0 | H4: 0 | I4: 0 | J4: 0 | K4: 0 | L4: 0 | M4: 0 | N4: 0 | O4: 0 | P4: 0 | Q4: 0 | R4: 0 | S4: 0 | T4: 0 | U4: 0 | V4: 28.99 | W4: 0 | X4: 0 | Y4: 0 | Z4: 0 | AA4: 0 | AB4: 0 | AC4: 0 | AD4: 0 | AE4: 0 | AF4: 0 | AG4: 0 | AH4: 0 | AI4: 0 | AJ4: 0 | AK4: =SUM(E4:AJ4)-D4 -> 0
A5: 45700 | B5: Ministers Salary | C5: D/D | D5: 695 | E5: 695 | F5: 0 | G5: 0 | H5: 0 | I5: 0 | J5: 0 | K5: 0 | L5: 0 | M5: 0 | N5: 0 | O5: 0 | P5: 0 | Q5: 0 | R5: 0 | S5: 0 | T5: 0 | U5: 0 | V5: 0 | W5: 0 | X5: 0 | Y5: 0 | Z5: 0 | AA5: 0 | AB5: 0 | AC5: 0 | AD5: 0 | AE5: 0 | AF5: 0 | AG5: 0 | AH5: 0 | AI5: 0 | AJ5: 0 | AK5: =SUM(E5:AJ5)-D5 -> 0
A6: 45719 | B6: Andrea Irving | C6: D/D | D6: 86.4 | E6: 0 | F6: 0 | G6: 0 | H6: 86.4 | I6: 0 | J6: 0 | K6: 0 | L6: 0 | M6: 0 | N6: 0 | O6: 0 | P6: 0 | Q6: 0 | R6: 0 | S6: 0 | T6: 0 | U6: 0 | V6: 0 | W6: 0 | X6: 0 | Y6: 0 | Z6: 0 | AA6: 0 | AB6: 0 | AC6: 0 | AD6: 0 | AE6: 0 | AF6: 0 | AG6: 0 | AH6: 0 | AI6: 0 | AJ6: 0 | AK6: =SUM(E6:AJ6)-D6 -> 0
A7: 45728 | B7: Ministers Salary | C7: D/D | D7: 695 | E7: 695 | F7: 0 | G7: 0 | H7: 0 | I7: 0 | J7: 0 | K7: 0 | L7: 0 | M7: 0 | N7: 0 | O7: 0 | P7: 0 | Q7: 0 | R7: 0 | S7: 0 | T7: 0 | U7: 0 | V7: 0 | W7: 0 | X7: 0 | Y7: 0 | Z7: 0 | AA7: 0 | AB7: 0 | AC7: 0 | AD7: 0 | AE7: 0 | AF7: 0 | AG7: 0 | AH7: 0 | AI7: 0 | AJ7: 0 | AK7: =SUM(E7:AJ7)-D7 -> 0
A8: 45736 | B8: Organ repair - Eddie Connor | C8: 119 | D8: 250 | E8: 0 | F8: 0 | G8: 0 | H8: 0 | I8: 0 | J8: 0 | K8: 0 | L8: 0 | M8: 0 | N8: 0 | O8: 0 | P8: 0 | Q8: 0 | R8: 0 | S8: 0 | T8: 0 | U8: 0 | V8: 0 | W8: 0 | X8: 0 | Y8: 0 | Z8: 0 | AA8: 0 | AB8: 0 | AC8: 0 | AD8: 0 | AE8: 0 | AF8: 0 | AG8: 250 | AH8: 0 | AI8: 0 | AJ8: 0 | AK8: =SUM(E8:AJ8)-D8 -> 0
A9: 45741 | B9: SSE - Heat & Light | C9: D/D | D9: 1702.19 | E9: 0 | F9: 0 | G9: 1702.19 | H9: 0 | I9: 0 | J9: 0 | K9: 0 | L9: 0 | M9: 0 | N9: 0 | O9: 0 | P9: 0 | Q9: 0 | R9: 0 | S9: 0 | T9: 0 | U9: 0 | V9: 0 | W9: 0 | X9: 0 | Y9: 0 | Z9: 0 | AA9: 0 | AB9: 0 | AC9: 0 | AD9: 0 | AE9: 0 | AF9: 0 | AG9: 0 | AH9: 0 | AI9: 0 | AJ9: 0 | AK9: =SUM(E9:AJ9)-D9 -> 0
A10: 45748 | B10: Funeral Fee - Andrea Irving | C10: 120 | D10: 60 | E10: 0 | F10: 0 | G10: 0 | H10: 0 | I10: 0 | J10: 0 | K10: 0 | L10: 0 | M10: 0 | N10: 0 | O10: 0 | P10: 0 | Q10: 0 | R10: 0 | S10: 0 | T10: 0 | U10: 0 | V10: 0 | W10: 0 | X10: 0 | Y10: 0 | Z10: 0 | AA10: 0 | AB10: 0 | AC10: 0 | AD10: 0 | AE10: 0 | AF10: 0 | AG10: 0 | AH10: 60 | AI10: 0 | AJ10: 0 | AK10: =SUM(E10:AJ10)-D10 -> 0
A11: 45748 | B11: Funeral Fee - Andrea Irving | C11: 120 | D11: -60 | E11: 0 | F11: 0 | G11: 0 | H11: 0 | I11: 0 | J11: 0 | K11: 0 | L11: 0 | M11: 0 | N11: 0 | O11: 0 | P11: 0 | Q11: 0 | R11: 0 | S11: 0 | T11: 0 | U11: 0 | V11: 0 | W11: 0 | X11: 0 | Y11: 0 | Z11: 0 | AA11: 0 | AB11: 0 | AC11: 0 | AD11: 0 | AE11: 0 | AF11: 0 | AG11: 0 | AH11: -60 | AI11: 0 | AJ11: 0 | AK11: =SUM(E11:AJ11)-D11 -> 0
A12: 45748 | B12: Funeral Fee - Isobel Riddick | C12: 121 | D12: 60 | E12: 0 | F12: 0 | G12: 0 | H12: 0 | I12: 0 | J12: 0 | K12: 0 | L12: 0 | M12: 0 | N12: 0 | O12: 0 | P12: 0 | Q12: 0 | R12: 0 | S12: 0 | T12: 0 | U12: 0 | V12: 0 | W12: 0 | X12: 0 | Y12: 0 | Z12: 0 | AA12: 0 | AB12: 0 | AC12: 0 | AD12: 0 | AE12: 0 | AF12: 0 | AG12: 0 | AH12: 60 | AI12: 0 | AJ12: 0 | AK12: =SUM(E12:AJ12)-D12 -> 0
A13: 45748 | B13: Funeral Fee - Andrea Irving | C13: 122 | D13: 40 | E13: 0 | F13: 0 | G13: 0 | H13: 0 | I13: 0 | J13: 0 | K13: 0 | L13: 0 | M13: 0 | N13: 0 | O13: 0 | P13: 0 | Q13: 0 | R13: 0 | S13: 0 | T13: 0 | U13: 0 | V13: 0 | W13: 0 | X13: 0 | Y13: 0 | Z13: 0 | AA13: 0 | AB13: 0 | AC13: 0 | AD13: 0 | AE13: 0 | AF13: 0 | AG13: 0 | AH13: 40 | AI13: 0 | AJ13: 0 | AK13: =SUM(E13:AJ13)-D13 -> 0
A14: 45749 | B14: Supersave - Batteries & Candles | C14: CARD | D14: 24.95 | E14: 0 | F14: 0 | G14: 0 | H14: 0 | I14: 0 | J14: 0 | K14: 0 | L14: 0 | M14: 0 | N14: 0 | O14: 0 | P14: 0 | Q14: 0 | R14: 0 | S14: 0 | T14: 0 | U14: 0 | V14: 24.95 | W14: 0 | X14: 0 | Y14: 0 | Z14: 0 | AA14: 0 | AB14: 0 | AC14: 0 | AD14: 0 | AE14: 0 | AF14: 0 | AG14: 0 | AH14: 0 | AI14: 0 | AJ14: 0 | AK14: =SUM(E14:AJ14)-D14 -> 0
A15: 45750 | B15: Andrea Irving | C15: D/D | D15: 86.4 | E15: 0 | F15: 0 | G15: 0 | H15: 86.4 | I15: 0 | J15: 0 | K15: 0 | L15: 0 | M15: 0 | N15: 0 | O15: 0 | P15: 0 | Q15: 0 | R15: 0 | S15: 0 | T15: 0 | U15: 0 | V15: 0 | W15: 0 | X15: 0 | Y15: 0 | Z15: 0 | AA15: 0 | AB15: 0 | AC15: 0 | AD15: 0 | AE15: 0 | AF15: 0 | AG15: 0 | AH15: 0 | AI15: 0 | AJ15: 0 | AK15: =SUM(E15:AJ15)-D15 -> 0
A16: 45761 | B16: Ministers Salary | C16: D/D | D16: 695 | E16: 695 | F16: 0 | G16: 0 | H16: 0 | I16: 0 | J16: 0 | K16: 0 | L16: 0 | M16: 0 | N16: 0 | O16: 0 | P16: 0 | Q16: 0 | R16: 0 | S16: 0 | T16: 0 | U16: 0 | V16: 0 | W16: 0 | X16: 0 | Y16: 0 | Z16: 0 | AA16: 0 | AB16: 0 | AC16: 0 | AD16: 0 | AE16: 0 | AF16: 0 | AG16: 0 | AH16: 0 | AI16: 0 | AJ16: 0 | AK16: =SUM(E16:AJ16)-D16 -> 0
A17: 45777 | B17: Small Print - Communion Printing | C17: CARD | D17: 13.2 | E17: 0 | F17: 0 | G17: 0 | H17: 0 | I17: 0 | J17: 0 | K17: 0 | L17: 0 | M17: 0 | N17: 0 | O17: 0 | P17: 0 | Q17: 0 | R17: 0 | S17: 0 | T17: 0 | U17: 0 | V17: 0 | W17: 13.2 | X17: 0 | Y17: 0 | Z17: 0 | AA17: 0 | AB17: 0 | AC17: 0 | AD17: 0 | AE17: 0 | AF17: 0 | AG17: 0 | AH17: 0 | AI17: 0 | AJ17: 0 | AK17: =SUM(E17:AJ17)-D17 -> 0
A18: 45777 | B18: Small Print - Ink Cartridge | C18: CARD | D18: 61.4 | E18: 0 | F18: 0 | G18: 0 | H18: 0 | I18: 0 | J18: 0 | K18: 0 | L18: 0 | M18: 0 | N18: 0 | O18: 0 | P18: 0 | Q18: 0 | R18: 0 | S18: 0 | T18: 0 | U18: 0 | V18: 61.4 | W18: 0 | X18: 0 | Y18: 0 | Z18: 0 | AA18: 0 | AB18: 0 | AC18: 0 | AD18: 0 | AE18: 0 | AF18: 0 | AG18: 0 | AH18: 0 | AI18: 0 | AJ18: 0 | AK18: =SUM(E18:AJ18)-D18 -> 0
A19: 45779 | B19: Organist - Isobel Riddick | C19: 124 | D19: 225 | E19: 0 | F19: 0 | G19: 0 | H19: 0 | I19: 0 | J19: 0 | K19: 0 | L19: 0 | M19: 225 | N19: 0 | O19: 0 | P19: 0 | Q19: 0 | R19: 0 | S19: 0 | T19: 0 | U19: 0 | V19: 0 | W19: 0 | X19: 0 | Y19: 0 | Z19: 0 | AA19: 0 | AB19: 0 | AC19: 0 | AD19: 0 | AE19: 0 | AF19: 0 | AG19: 0 | AH19: 0 | AI19: 0 | AJ19: 0 | AK19: =SUM(E19:AJ19)-D19 -> 0
A20: 45779 | B20: Organist - Rory McLatchie | C20: 125 | D20: 200 | E20: 0 | F20: 0 | G20: 0 | H20: 0 | I20: 0 | J20: 0 | K20: 0 | L20: 0 | M20: 200 | N20: 0 | O20: 0 | P20: 0 | Q20: 0 | R20: 0 | S20: 0 | T20: 0 | U20: 0 | V20: 0 | W20: 0 | X20: 0 | Y20: 0 | Z20: 0 | AA20: 0 | AB20: 0 | AC20: 0 | AD20: 0 | AE20: 0 | AF20: 0 | AG20: 0 | AH20: 0 | AI20: 0 | AJ20: 0 | AK20: =SUM(E20:AJ20)-D20 -> 0
A21: 45780 | B21: Andrea Irving | C21: D/D | D21: 86.4 | E21: 0 | F21: 0 | G21: 0 | H21: 86.4 | I21: 0 | J21: 0 | K21: 0 | L21: 0 | M21: 0 | N21: 0 | O21: 0 | P21: 0 | Q21: 0 | R21: 0 | S21: 0 | T21: 0 | U21: 0 | V21: 0 | W21: 0 | X21: 0 | Y21: 0 | Z21: 0 | AA21: 0 | AB21: 0 | AC21: 0 | AD21: 0 | AE21: 0 | AF21: 0 | AG21: 0 | AH21: 0 | AI21: 0 | AJ21: 0 | AK21: =SUM(E21:AJ21)-D21 -> 0
A22: 45785 | B22: Currys - Ink Cartridge | C22: CARD | D22: 57.48 | E22: 0 | F22: 0 | G22: 0 | H22: 0 | I22: 0 | J22: 0 | K22: 0 | L22: 0 | M22: 0 | N22: 0 | O22: 0 | P22: 0 | Q22: 0 | R22: 0 | S22: 0 | T22: 0 | U22: 0 | V22: 57.48 | W22: 0 | X22: 0 | Y22: 0 | Z22: 0 | AA22: 0 | AB22: 0 | AC22: 0 | AD22: 0 | AE22: 0 | AF22: 0 | AG22: 0 | AH22: 0 | AI22: 0 | AJ22: 0 | AK22: =SUM(E22:AJ22)-D22 -> 0
A23: 45786 | B23: Tesco - Wine,Bread | C23: CARD | D23: 83.52 | E23: 0 | F23: 0 | G23: 0 | H23: 0 | I23: 0 | J23: 0 | K23: 0 | L23: 0 | M23: 0 | N23: 0 | O23: 0 | P23: 0 | Q23: 0 | R23: 0 | S23: 0 | T23: 0 | U23: 0 | V23: 0 | W23: 83.52 | X23: 0 | Y23: 0 | Z23: 0 | AA23: 0 | AB23: 0 | AC23: 0 | AD23: 0 | AE23: 0 | AF23: 0 | AG23: 0 | AH23: 0 | AI23: 0 | AJ23: 0 | AK23: =SUM(E23:AJ23)-D23 -> 0
A24: 45789 | B24: Ministers Salary | C24: D/D | D24: 695 | E24: 695 | F24: 0 | G24: 0 | H24: 0 | I24: 0 | J24: 0 | K24: 0 | L24: 0 | M24: 0 | N24: 0 | O24: 0 | P24: 0 | Q24: 0 | R24: 0 | S24: 0 | T24: 0 | U24: 0 | V24: 0 | W24: 0 | X24: 0 | Y24: 0 | Z24: 0 | AA24: 0 | AB24: 0 | AC24: 0 | AD24: 0 | AE24: 0 | AF24: 0 | AG24: 0 | AH24: 0 | AI24: 0 | AJ24: 0 | AK24: =SUM(E24:AJ24)-D24 -> 0
A25: 45793 | B25: Tesco - Wine,Bread | C25: D/D | D25: 12.68 | E25: 0 | F25: 0 | G25: 0 | H25: 0 | I25: 0 | J25: 0 | K25: 0 | L25: 0 | M25: 0 | N25: 0 | O25: 0 | P25: 0 | Q25: 0 | R25: 0 | S25: 0 | T25: 0 | U25: 0 | V25: 0 | W25: 12.68 | X25: 0 | Y25: 0 | Z25: 0 | AA25: 0 | AB25: 0 | AC25: 0 | AD25: 0 | AE25: 0 | AF25: 0 | AG25: 0 | AH25: 0 | AI25: 0 | AJ25: 0 | AK25: =SUM(E25:AJ25)-D25 -> 0
A26: 45811 | B26: Andrea Irving | C26: D/D | D26: 86.4 | E26: 0 | F26: 0 | G26: 0 | H26: 86.4 | I26: 0 | J26: 0 | K26: 0 | L26: 0 | M26: 0 | N26: 0 | O26: 0 | P26: 0 | Q26: 0 | R26: 0 | S26: 0 | T26: 0 | U26: 0 | V26: 0 | W26: 0 | X26: 0 | Y26: 0 | Z26: 0 | AA26: 0 | AB26: 0 | AC26: 0 | AD26: 0 | AE26: 0 | AF26: 0 | AG26: 0 | AH26: 0 | AI26: 0 | AJ26: 0 | AK26: =SUM(E26:AJ26)-D26 -> 0
A27: 45820 | B27: Ministers Salary | C27: D/D | D27: 695 | E27: 695 | F27: 0 | G27: 0 | H27: 0 | I27: 0 | J27: 0 | K27: 0 | L27: 0 | M27: 0 | N27: 0 | O27: 0 | P27: 0 | Q27: 0 | R27: 0 | S27: 0 | T27: 0 | U27: 0 | V27: 0 | W27: 0 | X27: 0 | Y27: 0 | Z27: 0 | AA27: 0 | AB27: 0 | AC27: 0 | AD27: 0 | AE27: 0 | AF27: 0 | AG27: 0 | AH27: 0 | AI27: 0 | AJ27: 0 | AK27: =SUM(E27:AJ27)-D27 -> 0
A28: 45833 | B28: Organist - Stand in Organist | C28: 125 | D28: 25 | E28: 0 | F28: 0 | G28: 0 | H28: 0 | I28: 0 | J28: 0 | K28: 0 | L28: 0 | M28: 25 | N28: 0 | O28: 0 | P28: 0 | Q28: 0 | R28: 0 | S28: 0 | T28: 0 | U28: 0 | V28: 0 | W28: 0 | X28: 0 | Y28: 0 | Z28: 0 | AA28: 0 | AB28: 0 | AC28: 0 | AD28: 0 | AE28: 0 | AF28: 0 | AG28: 0 | AH28: 0 | AI28: 0 | AJ28: 0 | AK28: =SUM(E28:AJ28)-D28 -> 0
A29: 45839 | B29: SSE - Heat & Light | C29: D/D | D29: 584.79 | E29: 0 | F29: 0 | G29: 584.79 | H29: 0 | I29: 0 | J29: 0 | K29: 0 | L29: 0 | M29: 0 | N29: 0 | O29: 0 | P29: 0 | Q29: 0 | R29: 0 | S29: 0 | T29: 0 | U29: 0 | V29: 0 | W29: 0 | X29: 0 | Y29: 0 | Z29: 0 | AA29: 0 | AB29: 0 | AC29: 0 | AD29: 0 | AE29: 0 | AF29: 0 | AG29: 0 | AH29: 0 | AI29: 0 | AJ29: 0 | AK29: =SUM(E29:AJ29)-D29 -> 0
A30: 45841 | B30: Andrea Irving | C30: D/D | D30: 86.4 | E30: 0 | F30: 0 | G30: 0 | H30: 86.4 | I30: 0 | J30: 0 | K30: 0 | L30: 0 | M30: 0 | N30: 0 | O30: 0 | P30: 0 | Q30: 0 | R30: 0 | S30: 0 | T30: 0 | U30: 0 | V30: 0 | W30: 0 | X30: 0 | Y30: 0 | Z30: 0 | AA30: 0 | AB30: 0 | AC30: 0 | AD30: 0 | AE30: 0 | AF30: 0 | AG30: 0 | AH30: 0 | AI30: 0 | AJ30: 0 | AK30: =SUM(E30:AJ30)-D30 -> 0
A31: 45852 | B31: Ministers Salary | C31: D/D | D31: 695 | E31: 695 | F31: 0 | G31: 0 | H31: 0 | I31: 0 | J31: 0 | K31: 0 | L31: 0 | M31: 0 | N31: 0 | O31: 0 | P31: 0 | Q31: 0 | R31: 0 | S31: 0 | T31: 0 | U31: 0 | V31: 0 | W31: 0 | X31: 0 | Y31: 0 | Z31: 0 | AA31: 0 | AB31: 0 | AC31: 0 | AD31: 0 | AE31: 0 | AF31: 0 | AG31: 0 | AH31: 0 | AI31: 0 | AJ31: 0 | AK31: =SUM(E31:AJ31)-D31 -> 0
A32: 45872 | B32: Andrea Irving | C32: D/D | D32: 86.4 | E32: 0 | F32: 0 | G32: 0 | H32: 86.4 | I32: 0 | J32: 0 | K32: 0 | L32: 0 | M32: 0 | N32: 0 | O32: 0 | P32: 0 | Q32: 0 | R32: 0 | S32: 0 | T32: 0 | U32: 0 | V32: 0 | W32: 0 | X32: 0 | Y32: 0 | Z32: 0 | AA32: 0 | AB32: 0 | AC32: 0 | AD32: 0 | AE32: 0 | AF32: 0 | AG32: 0 | AH32: 0 | AI32: 0 | AJ32: 0 | AK32: =SUM(E32:AJ32)-D32 -> 0
A33: 45881 | B33: Ministers Salary | C33: D/D | D33: 695 | E33: 695 | F33: 0 | G33: 0 | H33: 0 | I33: 0 | J33: 0 | K33: 0 | L33: 0 | M33: 0 | N33: 0 | O33: 0 | P33: 0 | Q33: 0 | R33: 0 | S33: 0 | T33: 0 | U33: 0 | V33: 0 | W33: 0 | X33: 0 | Y33: 0 | Z33: 0 | AA33: 0 | AB33: 0 | AC33: 0 | AD33: 0 | AE33: 0 | AF33: 0 | AG33: 0 | AH33: 0 | AI33: 0 | AJ33: 0 | AK33: =SUM(E33:AJ33)-D33 -> 0
A34: 45886 | B34: Pipe Repairs to Church water supply | C34: 127 | D34: 43 | E34: 0 | F34: 0 | G34: 0 | H34: 0 | I34: 0 | J34: 0 | K34: 0 | L34: 0 | M34: 0 | N34: 0 | O34: 0 | P34: 0 | Q34: 0 | R34: 0 | S34: 0 | T34: 0 | U34: 0 | V34: 0 | W34: 0 | X34: 43 | Y34: 0 | Z34: 0 | AA34: 0 | AB34: 0 | AC34: 0 | AD34: 0 | AE34: 0 | AF34: 0 | AG34: 0 | AH34: 0 | AI34: 0 | AJ34: 0 | AK34: =SUM(E34:AJ34)-D34 -> 0
A35: 45886 | B35: PAT Testing Etc., | C35: 127 | D35: 51.96 | E35: 0 | F35: 0 | G35: 0 | H35: 0 | I35: 0 | J35: 0 | K35: 0 | L35: 0 | M35: 0 | N35: 0 | O35: 0 | P35: 0 | Q35: 0 | R35: 0 | S35: 0 | T35: 0 | U35: 0 | V35: 0 | W35: 0 | X35: 51.96 | Y35: 0 | Z35: 0 | AA35: 0 | AB35: 0 | AC35: 0 | AD35: 0 | AE35: 0 | AF35: 0 | AG35: 0 | AH35: 0 | AI35: 0 | AJ35: 0 | AK35: =SUM(E35:AJ35)-D35 -> 0
A36: 45889 | B36: Church Insurance | C36: 128 | D36: 3265.84 | E36: 0 | F36: 0 | G36: 0 | H36: 0 | I36: 0 | J36: 0 | K36: 0 | L36: 0 | M36: 0 | N36: 0 | O36: 0 | P36: 0 | Q36: 0 | R36: 0 | S36: 0 | T36: 0 | U36: 0 | V36: 0 | W36: 0 | X36: 0 | Y36: 3265.84 | Z36: 0 | AA36: 0 | AB36: 0 | AC36: 0 | AD36: 0 | AE36: 0 | AF36: 0 | AG36: 0 | AH36: 0 | AI36: 0 | AJ36: 0 | AK36: =SUM(E36:AJ36)-D36 -> 0
A37: 45901 | B37: Riddick - Window Protection Etc., | C37: 129 | D37: 17245.06 | E37: 0 | F37: 0 | G37: 0 | H37: 0 | I37: 0 | J37: 0 | K37: 0 | L37: 0 | M37: 0 | N37: 0 | O37: 0 | P37: 0 | Q37: 0 | R37: 0 | S37: 0 | T37: 0 | U37: 0 | V37: 0 | W37: 0 | X37: 17245.06 | Y37: 0 | Z37: 0 | AA37: 0 | AB37: 0 | AC37: 0 | AD37: 0 | AE37: 0 | AF37: 0 | AG37: 0 | AH37: 0 | AI37: 0 | AJ37: 0 | AK37: =SUM(E37:AJ37)-D37 -> 0
A38: 45903 | B38: Andrea Irving | C38: D/D | D38: 86.4 | E38: 0 | F38: 0 | G38: 0 | H38: 86.4 | I38: 0 | J38: 0 | K38: 0 | L38: 0 | M38: 0 | N38: 0 | O38: 0 | P38: 0 | Q38: 0 | R38: 0 | S38: 0 | T38: 0 | U38: 0 | V38: 0 | W38: 0 | X38: 0 | Y38: 0 | Z38: 0 | AA38: 0 | AB38: 0 | AC38: 0 | AD38: 0 | AE38: 0 | AF38: 0 | AG38: 0 | AH38: 0 | AI38: 0 | AJ38: 0 | AK38: =SUM(E38:AJ38)-D38 -> 0
A39: 45912 | B39: Ministers Salary | C39: D/D | D39: 695 | E39: 695 | F39: 0 | G39: 0 | H39: 0 | I39: 0 | J39: 0 | K39: 0 | L39: 0 | M39: 0 | N39: 0 | O39: 0 | P39: 0 | Q39: 0 | R39: 0 | S39: 0 | T39: 0 | U39: 0 | V39: 0 | W39: 0 | X39: 0 | Y39: 0 | Z39: 0 | AA39: 0 | AB39: 0 | AC39: 0 | AD39: 0 | AE39: 0 | AF39: 0 | AG39: 0 | AH39: 0 | AI39: 0 | AJ39: 0 | AK39: =SUM(E39:AJ39)-D39 -> 0
A40: 45916 | B40: Anne Morris - Golf Fee | C40: Card | D40: 20 | E40: 0 | F40: 0 | G40: 0 | H40: 0 | I40: 0 | J40: 0 | K40: 0 | L40: 0 | M40: 0 | N40: 0 | O40: 0 | P40: 0 | Q40: 0 | R40: 0 | S40: 0 | T40: 0 | U40: 0 | V40: 20 | W40: 0 | X40: 0 | Y40: 0 | Z40: 0 | AA40: 0 | AB40: 0 | AC40: 0 | AD40: 0 | AE40: 0 | AF40: 0 | AG40: 0 | AH40: 0 | AI40: 0 | AJ40: 0 | AK40: =SUM(E40:AJ40)-D40 -> 0
...

Sheet 2025 Trial Balance
D1: 2025
A2: ACCOUNTS LOCATION | B2: DESCRIPTION | C2: P/B | D2: RECEIPTS | E2: PAYMENTS
A3: Receipts & Payments | B3: ='2025 Income'!F1 -> INTEREST | D3: ='2025 Income'!F100 -> 427.8 | E3: 0
A4: Notes to Accounts | B4: ='2025 Income'!G1 -> BONDS - STANDING ORDER | D4: ='2025 Income'!G100 -> 2156 | E4: 0 | L4: =SUM(D4+D6+D7) -> 2406
A5: Notes to Accounts | B5: ='2025 Income'!H1 -> COMMON PLATE | D5: ='2025 Income'!H100 -> 4811.75 | E5: 0 | L5: =SUM(D13:D14) -> 600
A6: Notes to Accounts | B6: ='2025 Income'!I1 -> BONDS - VIA WEEKLY ENVELOPES | D6: ='2025 Income'!I100 -> 0 | E6: 0 | L6: =D15 -> 3654.21
A7: Notes to Accounts | B7: ='2025 Income'!J1 -> BONDS - VIA CHEQUES | D7: ='2025 Income'!J100 -> 250 | E7: 0 | G7: =SUM(D4:D7) -> 7217.75 | H7: 3277 | I7: 1040 | J7: 278 | L7: =D5 -> 4811.75
A8: Notes to Accounts | B8: ='2025 Income'!K1 -> DONATION | D8: ='2025 Income'!K100 -> 0 | E8: 0 | J8: 2019
A9: Notes to Accounts | B9: ='2025 Income'!L1 -> CHURCH OFFICER | D9: ='2025 Income'!L100 -> 0 | E9: 0
A10: Notes to Accounts | B10: ='2025 Income'!M1 -> LIFE & WORK | D10: ='2025 Income'!M100 -> 0 | E10: 0 | L10: =SUM(L4:L7) -> 11471.96
A11: Notes to Accounts | B11: ='2025 Income'!N1 -> TREES at CHRISTMAS | D11: ='2025 Income'!N100 -> 0 | E11: 0
A12: Notes to Accounts | B12: ='2025 Income'!O1 -> PULPIT SUPPLY REPAYMENT | D12: ='2025 Income'!O100 -> 0 | E12: 0 | H12: =SUM(D3:D27) -> 11899.76
A13: Notes to Accounts | B13: ='2025 Income'!P1 -> FUNERAL FEES | D13: ='2025 Income'!P100 -> 350 | E13: 0
A14: Notes to Accounts | B14: ='2025 Income'!Q1 -> WEDDING FEES | D14: ='2025 Income'!Q100 -> 250 | E14: 0 | H14: ='2025 Income'!E100 -> 11899.76
A15: Notes to Accounts | B15: ='2025 Income'!R1 -> REFUND OF TAX ON BONDS | D15: ='2025 Income'!R100 -> 3654.21 | E15: 0
A16: Notes to Accounts | B16: ='2025 Income'!S1 -> REFUND OF CHURCH REPAIRS | D16: ='2025 Income'!S100 -> 0 | E16: 0 | H16: =SUM(H12-H14) -> -3.6379788e-12
A17: Notes to Accounts | B17: ='2025 Income'!T1 -> INSURANCE CLAIM Window Vandalism | D17: ='2025 Income'!T100 -> 0 | E17: 0
A18: Notes to Accounts | B18: ='2025 Income'!U1 -> BEQUEST Stuart Macdonald | D18: ='2025 Income'!U100 -> 0 | E18: 0
A19: Notes to Accounts | B19: ='2025 Income'!V1 -> SPARE | D19: ='2025 Income'!V100 -> 0 | E19: 0
A20: Notes to Accounts | B20: ='2025 Income'!W1 -> SPARE | D20: ='2025 Income'!W100 -> 0 | E20: 0
A21: Notes to Accounts | B21: ='2025 Income'!X1 -> SPARE | D21: ='2025 Income'!X100 -> 0 | E21: 0
A22: Notes to Accounts | B22: ='2025 Income'!Y1 -> CHRISTIAN AID DONATION | D22: ='2025 Income'!Y100 -> 0 | E22: 0
A23: Notes to Accounts | B23: ='2025 Income'!Z1 -> REFUND ON INSURANCE FROM FABRIC FUND | D23: ='2025 Income'!Z100 -> 0 | E23: 0
A24: Notes to Accounts | B24: ='2025 Income'!AA1 -> REFUND ON ELECTRICITY FROM FABRIC FUND | D24: ='2025 Income'!AA100 -> 0 | E24: 0
A25: Notes to Accounts / Receipts & Payments | B25: ='2025 Income'!AB1 -> CONCERTS - QUIZ / SOUP & SWEET | D25: ='2025 Income'!AB100 -> 0 | E25: 0 | L25: =SUM(D16+D23+D24) -> 0
A26: Notes to Accounts | B26: ='2025 Income'!AC1 -> SPARE | D26: ='2025 Income'!AC100 -> 0 | E26: 0
A27: Notes to Accounts | B27: ='2025 Income'!AD1 -> SPARE | D27: ='2025 Income'!AD100 -> 0 | E27: 0
A28: Notes to Accounts | B28: ='2025 Expenses'!E1 -> MINISTERS SALARY & LOCUM COSTS | D28: 0 | E28: ='2025 Expenses'!E88 -> 8340 | F28: .
A29: Notes to Accounts | B29: ='2025 Expenses'!F1 -> SPARE | D29: 0 | E29: ='2025 Expenses'!F88 -> 0
A30: Notes to Accounts / General Trustees | B30: ='2025 Expenses'!G1 -> HEAT & LIGHT | D30: 0 | E30: ='2025 Expenses'!G88 -> 2834.19 | F30: .
A31: Notes to Accounts | B31: ='2025 Expenses'!H1 -> CHURCH OFFICER | D31: 0 | E31: ='2025 Expenses'!H88 -> 950.4 | F31: .
A32: Notes to Accounts | B32: ='2025 Expenses'!I1 | D32: 0 | E32: ='2025 Expenses'!I88 -> 0
A33: Notes to Accounts | B33: ='2025 Expenses'!J1 -> FLOWERS, CANDLES & OTHER DECORATIONS Etc | D33: 0 | E33: ='2025 Expenses'!J88 -> 112.98 | H33: =SUM(E28:E60) -> 39699.55
A34: Notes to Accounts | B34: ='2025 Expenses'!K1 -> HALL RENT - SUNDAY SCHOOL & OTHER EVENTS | D34: 0 | E34: ='2025 Expenses'!K88 -> 0
A35: Notes to Accounts | B35: ='2025 Expenses'!L1 -> SPARE | D35: 0 | E35: ='2025 Expenses'!L88 -> 0 | H35: ='2025 Expenses'!D88 -> 39699.55
A36: Notes to Accounts | B36: ='2025 Expenses'!M1 -> ORGANIST WAGES | D36: 0 | E36: ='2025 Expenses'!M88 -> 1325 | F36: .
A37: Notes to Accounts | B37: ='2025 Expenses'!N1 -> PULPIT SUPPLY | D37: 0 | E37: ='2025 Expenses'!N88 -> 0 | F37: . | H37: =SUM(H33-H35) -> -7.2759576e-12
A38: Notes to Accounts | B38: ='2025 Expenses'!O1 -> RETIRAL & OTHER PRESENTATIONS | D38: 0 | E38: ='2025 Expenses'!O88 -> 0 | F38: .
A39: Notes to Accounts | B39: ='2025 Expenses'!P1 -> MINISTERS TELEPHONE | D39: 0 | E39: ='2025 Expenses'!P88 -> 291.11 | F39: . | H39: =E39+E40+E41+E42 -> 1065.75 | I39: MINISTER'S EXPENSES
A40: Notes to Accounts | B40: ='2025 Expenses'!Q1 -> MANSE COUNCIL TAX | D40: 0 | E40: ='2025 Expenses'!Q88 -> 774.64 | F40: .
...

Sheet Front Page 1
A1: THE CHURCH OF SCOTLAND
A2: URR PARISH CHURCH
A3: TRUSTEES' REPORT AND RECEIPTS AND PAYMENTS ACCOUNT
A4: FOR THE YEAR ENDED
A5: =R5 -> 46022 | R5: 46022
A6: Congregation No: 080487
A7: Charity No: SCO 14465

Sheet Ref & Admin 2
A1: THE CHURCH OF SCOTLAND
A2: URR PARISH CHURCH
A3: INFORMATION
A5: Year Ended | B5: ='Front Page 1'!R5 -> 46022
A7: Charity Name: | B7: Urr Parish Church
A8: Charity Registration Number: | B8: SCO 14465
A9: Congregation Reference No: | B9: 80487
A11: Contact Address: | B11: Isla Cottage
B12: Springholm
B13: Castle Douglas
B14: DG7 3LP
A15: Trustees
A16: Kirk Session | B16: Rev.Fiona | C16: Wilson
B17: Jan | C17: Barbour
B18: James | C18: Brown
B19: Douglas | C19: Kerr
B20: James | C20: McCrae
B21: Stewart | C21: McKean
B22: Jane | C22: McMiken
B23: Elizabeth | C23: Smith
B24: Keith | C24: Warford
A27: Congregational Board Members | B27: N/A
A28: Moved to Unitery Constituion 2019/20
A30: Principal Office-bearers
A31: Minister | B31: Rev. Fiona | C31: Wilson
A32: Session Clerk | B32: Mr Stewart | C32: McKean
A33: Clerk to the Board | B33: Mr Keith | C33: Warford
A34: Church Treasurer | B34: Mr Stewart | C34: McKean
A36: Independent Examiner | B36: Miss A.P. | C36: Morris | D36: FCA DL
B37: Chartered Accountant
B38: Hardgate
B39: DG7 3LD
A41: Bankers | B41: The Bank of Scotland
B42: 192 King Street
B43: Castle Douglas
B44: DG7 1DB

Sheet Trustees' Annual Report 3
A1: ='Ref & Admin 2'!A1 -> THE CHURCH OF SCOTLAND
A2: ='Ref & Admin 2'!A2 -> URR PARISH CHURCH
A3: TRUSTEES' ANNUAL REPORT
A5: Year ended | C5: ='Front Page 1'!R5 -> 46022
A7: Structure, Governance and Management
A9: Governing Document
A10: The Church is administered in accordance with the terms of the Deed of Constitution
A12: Recruitment and Appointment of Trustees
A13: Members of the Kirk Session and the Congregational Board are the charity trustees. The Kirk Session members are the elders of the church and are chosen from those members of the church who are considered to have the appropriate gifts and skills. The minister, who is a member of the Kirk Session, is elected by the congregation and inducted by Presbytery. The Congregational Board is appointed from within the congregation and members of the congregation are invited to nominate individuals who are believed to have the skills and commitment to contribute to the management affairs of the Church, to become members of the Board. Board Members are then appointed at the Stated Annual Meeting and serve for a period of three years after which they must seek re-election at the next Stated Annual Meeting.
A14: Organisational Structure
A15: The Congregational Board is chaired by the minister and meets three times in a year. Certain responsibilities are delegated to the Finance Committee and the Property Committee as appropriate. The Kirk Session which meets three times a year is responsible for spiritual affairs within the church.
A16: Objectives and Activities
A17: The Church of Scotland is Trinitarian in doctrine, Reformed in tradition and Presbyterian in polity. It exists to glorify God and to work for the advancement of Christ’s Kingdom throughout the world. As a national Church, it acknowledges a distinctive call and duty to bring the ordinances of religion to the people in every parish of Scotland through a territorial ministry. It co-operates with other Churches in various ecumenical bodies in Scotland and beyond.
A18: Services are conducted each Sunday at 10.00 am. The Sunday School (Suspended at Present) meets in the Haugh of Urr Village Hall
A20: Achievements and Performance
A21: Attendances at Church vary between 6 and 20 People. There were 3 Funerals carried out in Church and 1 Wedding conducted from the Church this year.
A23: Financial Review
A24: The principal source of income is the weekly offerings (Including Gift aid), which has seen an increase of 67.5% from the previous year. | O24: ='Notes to Accounts 7,8,9'!G35+'Notes to Accounts 7,8,9'!G36+'Notes to Accounts 7,8,9'!G37 -> 10873 | P24: ='Notes to Accounts 7,8,9'!M35+'Notes to Accounts 7,8,9'!M36+'Notes to Accounts 7,8,9'!M37 -> 6491 | Q24: =(P24-O24)/P24 -> -0.67508858
A25: A generous bequest of £29,483.42 was received from Stewart MacDonald in 2024. | L25: ='Statement of Funds 14'!H15 -> 33497 | S25: 17457 | T25: 17106 | V25: =S25-T25 -> 351
A27: Reserves Policy | L27: ='Statement of Funds 14'!H16 -> 31197 | V27: =V25/T25*100 -> 2.0519116
A28: It is the Trustees’ policy to hold reserves of approximately six months expenditure including designated funds. At the year end the Church held under local control £64,694. Of this sum, £33,497 has been designated for Fabric Fund. Although this exceeds the amount stated in the policy, the Trustees believe it is prudent to retain these funds to ensure future expenditure can be met. | L28: =SUM(L25:L27) -> 64694 | M28: ='Statement of Funds 14'!H15 -> 33497 | N28: ='Notes to Accounts 7,8,9'!M24 -> 64694
A29: Funds of £111,602 are held by the Church of Scotland General Trustees on behalf of the congregation and the income from these funds is available to meet certain types of Fabric expenditure. Investments with a market value of £17,964 are held with Church of Scotland Investors Trust. | L29: ='Statement of Balances 6'!E20 -> 17964.4 | M29: ='Appendix 10'!C14 -> 24472 | N29: ='Appendix 10'!C12 -> 87130
A31: Statement of Trustees' Responsibilities | M31: =SUM(M29:N29) -> 111602
A32: The members of the Kirk Session / Congregational Board must prepare financial statements which give sufficient detail to enable an appreciation of the transactions of the Church during the financial year. The members of the Kirk Session / Congregational Board are responsible for keeping proper accounting records which, on request, must reflect the financial position of the Church at that time. This must be done to ensure that the financial statements comply with the Charities and Trustee Investment (Scotland) Act 2005, the Charities Accounts (Scotland) Regulations 2006 (as amended) and the Regulations Anent Congregational Finance approved by the General Assembly of the Church of Scotland in 2007. They are also responsible for safeguarding the assets of the Church and must take reasonable steps for the prevention and/or detection of fraud and other irregularities.
A33: Approved by the Trustees on | D33: 46107 | F33: and signed on their behalf by
A34: W.S.McKean
A35: Treasurer

Sheet Independent Examiner 4 
A1: ='Ref & Admin 2'!A1 -> THE CHURCH OF SCOTLAND
A2: ='Ref & Admin 2'!A2 -> URR PARISH CHURCH
A3: INDEPENDENT EXAMINER'S REPORT TO THE TRUSTEES OF URR PARISH CHURCH
A5: I report on the accounts of the charity for the year ended 31st December 2025, which are set out on pages 5 to 10.
A7: Respective responsibilities of trustees and examiner
A8: The charity's trustees are responsible for the preparation of the accounts in accordance with the terms of the Charities and Trustee Investment (Scotland) Act 2005 and the Charities Accounts (Scotland) Regulations 2006. The trustees consider that the audit requirement of Regulation 10(1) (d) of the 2006 Regulations does not apply. It is my responsibility to examine the accounts as required under section 44(1) (c) of the Act and to state whether particular matters have come to my attention.
A10: Basis of independent examiner’s statement
A11: My examination was conducted in accordance with Regulation 11 of the 2006 Accounts Regulations. An examination includes a review of the accounting records kept by the charity, and a comparison of the accounts presented with those records. It also includes consideration of any unusual items or disclosures in the accounts, and seeks explanations from the trustees concerning any such matters. The procedures undertaken do not provide all the evidence that would be required in an audit, and consequently I do not express an audit opinion on the view given by the accounts.
A12: Independent examiner’s statement
A13: In the course of my examination, no matter has come to my attention:
A14: 1. | C14: which gives me reasonable cause to believe that in any material respect the requirements:
B15:  | C15: to keep accounting records in accordance with Section 44 (1)(a) of the 2005 Act and Regulation 4 of the 2006 Accounts Regulations, and
B16:  | C16: to prepare accounts which accord with the accounting records and comply with Regulation 9 of the 2006 Accounts Regulations have not been met, or
A17: 2. | C17: to which, in my opinion, attention should be drawn in order to enable a proper understanding of the accounts to be reached.
A18: ANNE P MORRIS FCA DL
A20: Chartered Accountant
A21: Hardgate
A22: DG7 3LD
A24: ='Trustees'' Annual Report 3'!D33 -> 46107

Sheet Receipts & Payments Acc 5
A1: ='Ref & Admin 2'!A1 -> THE CHURCH OF SCOTLAND
A2: ='Ref & Admin 2'!A2 -> URR PARISH CHURCH
A3: RECEIPTS AND PAYMENTS ACCOUNT
A5: Year ended | C5: ='Ref & Admin 2'!B5 -> 46022
E6: Unrestricted | G6: Restricted
E7: Funds | G7: Funds | J7: Total | L7: Total
E8: 2025 | G8: =E8 -> 2025 | J8: =E8 -> 2025 | L8: 2024
A9: RECEIPTS | C9: Note | E9: £ | G9: £ | J9: £ | L9: £ | O9: Expenses from Trial Balance | R9: TOTAL | S9: Income from Trial Balance | X9: TOTAL
B10: Donations | C10: 3 | E10: ='Notes to Accounts 7,8,9'!G40 -> 11373 | G10: 0 | J10: =SUM(E10:H10) -> 11373 | L10: 36815
B11: Fund raising events | E11: =N11 -> 0 | G11: 0 | J11: =SUM(E11:H11) -> 0 | L11: 0 | N11: =ROUNDUP(Y11,0) -> 0 | O11: 0 | P11: ='2025 Trial Balance'!E54 -> 0 | Q11: 0 | R11: =SUM(O11:Q11) -> 0 | S11: ='2025 Trial Balance'!D25 -> 0 | T11: 0 | U11: 0 | V11: 0 | W11: 0 | X11: =SUM(S11:W11) -> 0 | Y11: =SUM(X11-R11) -> 0
B12: Bank and deposit interest | E12: =N12 -> 0 | G12: =N14 -> 0 | J12: =SUM(E12:H12) -> 0 | L12: 1664 | N12: =ROUNDUP(Y12,0) -> 0 | O12: 0 | P12: 0 | Q12: 0 | R12: 0 | S12: ='2025 Trial Balance'!D87 -> 0 | T12: 0 | U12: 0 | V12: 0 | W12: 0 | X12: 0 | Y12: =SUM(O12:X12) -> 0
B13: Investment income | E13: =N13 -> 428 | G13: 0 | J13: =SUM(E13:H13) -> 428 | L13: 428 | N13: =ROUNDUP(Y13,0) -> 428 | O13: 0 | P13: 0 | Q13: 0 | R13: 0 | S13: =SUM('2025 Trial Balance'!D3) -> 427.8 | T13: 0 | U13: 0 | V13: 0 | W13: 0 | X13: 0 | Y13: =SUM(O13:X13) -> 427.8
E14: =SUM(E10:E13) -> 11801 | G14: =SUM(G10:G13) -> 0 | J14: =SUM(E14:H14) -> 11801 | L14: =SUM(L10:L13) -> 38907 | N14: =ROUNDUP(Y14,0) -> 0 | O14: 0 | P14: 0 | Q14: 0 | R14: 0 | S14: 0 | T14: 0 | U14: 0 | V14: 0 | W14: 0 | X14: 0 | Y14: =SUM(O14:X14) -> 0
B16: Receipts from General Trustees | E16: ='General Trustees 13'!G26 -> 0 | G16: 0 | J16: =SUM(E16:H16) -> 0 | L16: 0 | N16: =ROUNDUP(Y16,0) -> 0 | O16: 0 | P16: 0 | Q16: 0 | R16: 0 | S16: 0 | T16: 0 | U16: 0 | V16: 0 | W16: 0 | X16: 0 | Y16: =SUM(O16:X16) -> 0
A18: TOTAL RECEIPTS | E18: =SUM(E14:E16) -> 11801 | G18: =SUM(G14:G16) -> 0 | J18: =SUM(J14:J16) -> 11801 | L18: =SUM(L14:L16) -> 38907
A20: PAYMENTS | C20: 4
B21: Charitable activities | E21: ='Notes to Accounts 7,8,9'!G61 -> 39604 | G21: ='Notes to Accounts 7,8,9'!I61 -> 0 | J21: =SUM(E21:H21) -> 39604 | L21: 18295 | N21: =ROUNDUP(Y21,0) -> 0 | O21: 0 | P21: 0 | Q21: 0 | R21: 0 | S21: 0 | T21: 0 | U21: 0 | V21: 0 | W21: 0 | X21: 0 | Y21: =SUM(O21:X21) -> 0
B22: Payments to General Trustees | E22: =N22 -> 0 | J22: =SUM(E22:H22) -> 0 | L22: 0 | N22: =ROUNDUP(Y22,0) -> 0 | O22: ='2025 Trial Balance'!E59 -> 0 | P22: 0 | Q22: 0 | R22: 0 | S22: =SUM('2025 Trial Balance'!D12) -> 0 | T22: 0 | U22: 0 | V22: 0 | W22: 0 | X22: 0 | Y22: =SUM(O22:X22) -> 0
B23: Governance costs | E23: ='Notes to Accounts 7,8,9'!G63 -> 0 | J23: =SUM(E23:H23) -> 0 | L23: 0
A25: TOTAL PAYMENTS | E25: =SUM(E21:E23) -> 39604 | G25: =SUM(G21:G23) -> 0 | J25: =SUM(J21:J23) -> 39604 | L25: =SUM(L21:L23) -> 18295
A28: EXCESS OF RECEIPTS OVER PAYMENTS FOR THE YEAR | E28: =SUM(E18-E25) -> -27803 | G28: =SUM(G18-G25) -> 0 | J28: =SUM(J18-J25) -> -27803 | L28: =SUM(L18-L25) -> 20612

Sheet Statement of Balances 6
A1: THE CHURCH OF SCOTLAND
A2: URR PARISH CHURCH
A3: STATEMENT OF BALANCES
A5: As at | C5: ='Ref & Admin 2'!B5 -> 46022
E6: Unrestricted | G6: Restricted
E7: Funds | G7: Funds | I7: Total | K7: Total
E8: 2025 | G8: =E8 -> 2025 | I8: =E8 -> 2025 | K8: 2024
D9: Note | E9: £ | G9: £ | I9: £ | K9: £ | O9: Expenses from Trial Balance | R9: TOTAL | S9: Income from Trial Balance | X9: TOTAL
A10: Bank and deposit balances
A11: Brought forward | E11: =N11 -> 31203 | G11: =N12 -> 0 | I11: =SUM(E11:G11) -> 31203 | K11: 71885 | N11: =ROUNDUP(Y11,0) -> 31203 | O11: 0 | P11: 0 | Q11: 0 | R11: =SUM(O11:Q11) -> 0 | S11: ='2025 Trial Balance'!D88 -> 0 | T11: 0 | U11: ='2025 Trial Balance'!D89 -> 31202.75 | V11: 0 | X11: =SUM(S11:W11) -> 31202.75 | Y11: =SUM(X11-R11) -> 31202.75
N12: =ROUNDUP(Y12,0) -> 0 | O12: 0 | P12: 0 | Q12: 0 | R12: =SUM(O12:Q12) -> 0 | S12: 0 | T12: 0 | U12: 0 | V12: 0 | X12: =SUM(S12:W12) -> 0 | Y12: =SUM(X12-R12) -> 0
A13: Movement in year
A14: Excess of receipts/(payments) for the year | E14: ='Receipts & Payments Acc 5'!E28 -> -27803 | G14: ='Receipts & Payments Acc 5'!G28 -> 0 | I14: =SUM(E14:G14) -> -27803 | K14: 20612
A16: Bank and deposit balances
A17: Carried forward | E17: =SUM(E11:E16) -> 3400 | G17: =SUM(G11:G16) -> 0 | I17: =SUM(E17:G17) -> 3400 | K17: =SUM(K11:K16) -> 92497
O18: Expenses from Trial Balance | R18: TOTAL | S18: Income from Trial Balance | X18: TOTAL
A19: Investments at cost | E19: 3583 | G19: 0 | I19: 3583 | K19: 3583 | N19: =ROUNDUP(Y19,0) -> 0 | O19: 0 | P19: 0 | Q19: 0 | R19: =SUM(O19:Q19) -> 0 | S19: 0 | T19: 0 | U19: 0 | V19: 0 | X19: =SUM(S19:W19) -> 0 | Y19: =SUM(X19-R19) -> 0
A20: Investments at market value | E20: ='2025 Trial Balance'!D79+'2025 Trial Balance'!D80 -> 17964.4 | G20: 0 | I20: =SUM(E20:G20) -> 17964.4 | K20: 16758 | N20: =ROUNDUP(Y20,0) -> 0 | O20: 0 | P20: 0 | Q20: 0 | R20: =SUM(O20:Q20) -> 0 | S20: 0 | T20: 0 | U20: 0 | V20: 0 | X20: =SUM(S20:W20) -> 0 | Y20: =SUM(X20-R20) -> 0
A25: The accounts were approved by the Kirk Session and Financial Board on :- | H25: ='Trustees'' Annual Report 3'!D33 -> 46107
A26: For and on behalf of the Kirk Session and Financial Board
A27: __________________________________________________ -W.S.McKean - Session Clerk
A28: __________________________________________________ - W.S. McKean - Church Treasurer
A30: The notes on pages 7 to 10 form an integral part of these financial statements

Sheet Notes to Accounts 7,8,9
A1: ='Ref & Admin 2'!A1 -> THE CHURCH OF SCOTLAND
A2: ='Ref & Admin 2'!A2 -> URR PARISH CHURCH
A3: NOTES TO THE ACCOUNTS
A5: Year ended | D5: ='Front Page 1'!R5 -> 46022
A7: 1. | B7: Trustee Remuneration and Related Party Transactions
C8: During the year the Minister received reimbursement of travelling and other expenses totalling £1015
A10: 2. | B10: Movements in Funds
E11: At 1 Jan | M11: At 31 Dec
E12: 2025 | G12: Transfer | I12: Receipts | K12: Payments | M12: 2025 | P12: Expenses from Trial Balance | U12: TOTAL | V12: Income from Trial Balance | AA12: TOTAL
E13: £ | G13: £ | I13: £ | K13: £ | M13: £
B14: Unrestricted funds
B15: Designated Fabric Fund | E15: 33497 | G15: 0 | I15: =O15 -> 0 | K15: 0 | M15: =SUM(E15+G15+I15-K15) -> 33497 | O15: =ROUNDUP(AB15,0) -> 0 | P15: 0 | Q15: 0 | R15: 0 | S15: 0 | T15: 0 | U15: =SUM(P15:T15) -> 0 | V15: ='2025 Trial Balance'!D87 -> 0 | W15: 0 | X15: 0 | Y15: 0 | Z15: 0 | AA15: =SUM(V15:Z15) -> 0 | AB15: =SUM(AA15-U15) -> 0
B16: General Fund | E16: 59000 | G16: 0 | I16: ='Receipts & Payments Acc 5'!E18-I15 -> 11801 | K16: ='Receipts & Payments Acc 5'!E25-K15 -> 39604 | M16: =SUM(E16+G16+I16-K16) -> 31197 | O16: =ROUNDUP(AB16,0) -> 0 | P16: 0 | Q16: 0 | R16: 0 | S16: 0 | T16: 0 | U16: =SUM(P16:T16) -> 0 | V16: 0 | W16: 0 | X16: 0 | Y16: 0 | Z16: 0 | AA16: =SUM(V16:Z16) -> 0 | AB16: =SUM(AA16-U16) -> 0
E17: =SUM(E15:E16) -> 92497 | G17: =SUM(G15:G16) -> 0 | I17: =SUM(I15:I16) -> 11801 | K17: =SUM(K15:K16) -> 39604 | M17: =SUM(E17+G17+I17-K17) -> 64694 | AB17: =SUM(AA17-U17) -> 0
B18: Restricted funds | AB18: =SUM(AA18-U18) -> 0
E19: 0 | G19: 0 | I19: 0 | K19: 0 | M19: =SUM(E19+G19+I19-K19) -> 0 | O19: =ROUNDUP(AB19,0) -> 0 | P19: 0 | Q19: 0 | R19: 0 | S19: 0 | T19: 0 | U19: =SUM(P19:T19) -> 0 | V19: ='2025 Trial Balance'!E67 -> 0 | W19: 0 | X19: 0 | Y19: 0 | Z19: 0 | AA19: =SUM(V19:Z19) -> 0 | AB19: =SUM(AA19-U19) -> 0
E20: =S20 -> 0 | G20: =U20 -> 0 | I20: =W20 -> 0 | K20: 0 | M20: 0 | O20: =ROUNDUP(AB20,0) -> 0 | P20: 0 | Q20: 0 | R20: 0 | S20: 0 | T20: 0 | U20: =SUM(P20:T20) -> 0 | V20: ='2025 Trial Balance'!E69 -> 0 | W20: 0 | X20: 0 | Y20: 0 | Z20: 0 | AA20: =SUM(V20:Z20) -> 0 | AB20: =SUM(AA20-U20) -> 0
E21: =SUM(E19:E20) -> 0 | G21: =SUM(G19:G20) -> 0 | I21: =SUM(I19:I20) -> 0 | K21: =SUM(K19:K20) -> 0 | M21: =SUM(E21+G21+I21-K21) -> 0 | AB21: =SUM(AA21-U21) -> 0
AB22: =SUM(AA22-U22) -> 0
AB23: =SUM(AA23-U23) -> 0
B24: Total funds | E24: =SUM(E17+E21) -> 92497 | G24: =SUM(G17+G21) -> 0 | I24: =SUM(I17+I21) -> 11801 | K24: =SUM(K17+K21) -> 39604 | M24: =SUM(M17+M21) -> 64694 | AB24: =SUM(AA24-U24) -> 0
AB25: =SUM(AA25-U25) -> 0
B26: Purposes of Designated Funds | AB26: =SUM(AA26-U26) -> 0
B27: Fabric Fund: The Trustees have set aside funds for the maintenance of the Church property, including Organ repairs. | Q27: =SUM(M35:M37) -> 6491 | R27: =SUM(G35:G37) -> 10873 | S27: =SUM(Q27-R27) -> -4382 | T27: =SUM(S27/Q27) -> -0.67508858 | AB27: =SUM(AA27-U27) -> 0
AB28: =SUM(AA28-U28) -> 0
AB29: =SUM(AA29-U29) -> 0
A30: ='Ref & Admin 2'!A1 -> THE CHURCH OF SCOTLAND | G30: Unrestricted | I30: Restricted | AB30: =SUM(AA30-U30) -> 0
A31: ='Ref & Admin 2'!A2 -> URR PARISH CHURCH | G31: Funds | I31: Funds | K31: Total | M31: Total | AB31: =SUM(AA31-U31) -> 0
A32: NOTES TO THE ACCOUNTS | G32: 2025 | I32: =G32 -> 2025 | K32: =G32 -> 2025 | M32: 2024 | AB32: =SUM(AA32-U32) -> 0
G33: £ | I33: £ | K33: £ | M33: £ | AB33: =SUM(AA33-U33) -> 0
A34: 3. | B34: Analysis of Donations | AB34: =SUM(AA34-U34) -> 0
C35: Gift Aid Donations | G35: =O35 -> 2406 | I35: 0 | K35: =SUM(E35:I35) -> 2406 | M35: 2156 | O35: =ROUNDUP(AB35,0) -> 2406 | P35: 0 | Q35: 0 | R35: 0 | S35: 0 | T35: 0 | U35: =SUM(P35:T35) -> 0 | V35: ='2025 Trial Balance'!D4 -> 2156 | W35: ='2025 Trial Balance'!D6 -> 0 | X35: ='2025 Trial Balance'!D7 -> 250 | Y35: 0 | Z35: 0 | AA35: =SUM(V35:Z35) -> 2406 | AB35: =SUM(AA35-U35) -> 2406
C36: Tax Recovered on Gift Aid Donations | G36: =O36 -> 3655 | I36: 0 | K36: =SUM(E36:I36) -> 3655 | M36: -1075 | O36: =ROUNDUP(AB36,0) -> 3655 | P36: 0 | Q36: 0 | R36: 0 | S36: 0 | T36: 0 | U36: =SUM(P36:T36) -> 0 | V36: ='2025 Trial Balance'!D15 -> 3654.21 | W36: 0 | X36: 0 | Y36: 0 | Z36: 0 | AA36: =SUM(V36:Z36) -> 3654.21 | AB36: =SUM(AA36-U36) -> 3654.21
C37: Ordinary Offerings (Open Plate) | G37: =O37 -> 4812 | I37: 0 | K37: =SUM(E37:I37) -> 4812 | M37: 5410 | O37: =ROUNDUP(AB37,0) -> 4812 | P37: 0 | Q37: 0 | R37: 0 | S37: 0 | T37: 0 | U37: =SUM(P37:T37) -> 0 | V37: ='2025 Trial Balance'!D5 -> 4811.75 | W37: 0 | X37: 0 | Y37: 0 | Z37: 0 | AA37: =SUM(V37:Z37) -> 4811.75 | AB37: =SUM(AA37-U37) -> 4811.75
C38: Weddings and Funerals | G38: =O38 -> 500 | I38: 0 | K38: =SUM(E38:I38) -> 500 | M38: 840 | O38: =ROUNDUP(AB38,0) -> 500 | P38: ='2025 Trial Balance'!E57 -> 100 | Q38: 0 | R38: 0 | S38: 0 | T38: 0 | U38: =SUM(P38:T38) -> 100 | V38: ='2025 Trial Balance'!D13 -> 350 | W38: ='2025 Trial Balance'!D14 -> 250 | X38: 0 | Y38: 0 | Z38: 0 | AA38: =SUM(V38:Z38) -> 600 | AB38: =SUM(AA38-U38) -> 500
C39: Other Offerings, Donations etc | G39: =O39 -> 0 | I39: 0 | K39: =SUM(E39:I39) -> 0 | M39: 29484 | O39: =ROUNDUP(AB39,0) -> 0 | P39: 0 | Q39: ='2025 Trial Balance'!E50 -> 0 | R39: 0 | S39: 0 | T39: 0 | U39: =SUM(P39:T39) -> 0 | V39: 0 | W39: ='2025 Trial Balance'!D8 -> 0 | X39: 0 | Y39: ='2025 Trial Balance'!D22 -> 0 | Z39: ='2025 Trial Balance'!D18 -> 0 | AA39: =SUM(V39:Z39) -> 0 | AB39: =SUM(AA39-U39) -> 0
G40: =SUM(G35:G39) -> 11373 | I40: =SUM(I35:I39) -> 0 | K40: =SUM(K35:K39) -> 11373 | M40: =SUM(M35:M39) -> 36815 | AB40: =SUM(AA40-U40) -> 0
A41: 4. | B41: Analysis of Payments | AB41: =SUM(AA41-U41) -> 0
B42: Charitable activities
C43: Ministries and Mission allocation | G43: =O43 -> 8340 | I43: 0 | K43: =SUM(E43:I43) -> 8340 | M43: 8555 | O43: =ROUNDUP(AB43,0) -> 8340 | P43: ='2025 Trial Balance'!E28 -> 8340 | Q43: 0 | R43: 0 | S43: 0 | T43: 0 | U43: =SUM(P43:T43) -> 8340 | V43: 0 | W43: 0 | X43: 0 | Y43: 0 | Z43: 0 | AA43: =SUM(V43:Z43) -> 0 | AB43: =SUM(U43-AA43) -> 8340
...

Sheet Appendix 10
A1: ='Ref & Admin 2'!A1 -> THE CHURCH OF SCOTLAND
A2: ='Ref & Admin 2'!A2 -> URR PARISH CHURCH
A4: APPENDIX
A6: FUNDS HELD ON BEHALF OF THE CONGREGATION
A7: BY THE CHURCH OF SCOTLAND GENERAL TRUSTEES
C8: 2025 | E8: 2024 | H8: Expenses from Trial Balance | K8: TOTAL | L8: Income from Trial Balance | Q8: TOTAL
C9: £ | E9: £
A10: CAPITAL ACCOUNT
A11: Investments held at 31 December at cost | C11: ='General Trustees 13'!G10 -> 56781 | E11: 56781 | G11: =ROUNDUP(R11,0) -> 0 | H11: 0 | I11: 0 | J11: 0 | K11: =SUM(H11:J11) -> 0 | L11: 0 | M11: 0 | N11: 0 | O11: 0 | Q11: =SUM(L11:P11) -> 0 | R11: =SUM(Q11-K11) -> 0
A12: At Market Value at 31 December | C12: ='General Trustees 13'!G12 -> 87130 | E12: 83117 | G12: =ROUNDUP(R12,0) -> 0 | H12: 0 | I12: 0 | J12: 0 | K12: =SUM(H12:J12) -> 0 | L12: 0 | M12: 0 | N12: 0 | O12: 0 | Q12: =SUM(L12:P12) -> 0 | R12: =SUM(Q12-K12) -> 0
A13: REVENUE ACCOUNT
A14: Credit Balance at 31 December | C14: ='General Trustees 13'!G30 -> 24472 | E14: 20964 | G14: =ROUNDUP(R14,0) -> 24472 | H14: 0 | I14: 0 | J14: 0 | K14: =SUM(H14:J14) -> 0 | L14: ='General Trustees 13'!G30 -> 24472 | M14: 0 | N14: 0 | O14: 0 | Q14: =SUM(L14:P14) -> 24472 | R14: =SUM(Q14-K14) -> 24472
A17: TOTAL FUNDS HELD AT 31 DECEMBER | C17: =C12+C14 -> 111602 | E17: =E12+E14 -> 104081

Sheet Cong I and E 11,12
A1: ='Ref & Admin 2'!A1 -> THE CHURCH OF SCOTLAND
A2: ='Ref & Admin 2'!A2 -> URR PARISH CHURCH
A3: CONGREGATIONAL INCOME AND EXPENDITURE ACCOUNT
A5: ='Receipts & Payments Acc 5'!A5 -> Year ended | C5: ='Front Page 1'!R5 -> 46022
H6: 2025 | J6: 2024 | M6: Expenses from Trial Balance | P6: TOTAL | Q6: Income from Trial Balance | V6: TOTAL
H7: £ | J7: £
A8: INCOME
A9: Offerings
A10: Gift Aid | H10: ='Notes to Accounts 7,8,9'!G35 -> 2406 | J10: 2156 | L10: =ROUNDUP(W10,0) -> 0 | M10: 0 | N10: 0 | O10: 0 | P10: =SUM(M10:O10) -> 0 | Q10: 0 | R10: 0 | S10: 0 | T10: 0 | V10: =SUM(Q10:U10) -> 0 | W10: =SUM(V10-P10) -> 0
A11: Income tax recovered on Gift Aid | H11: ='Notes to Accounts 7,8,9'!G36 -> 3655 | J11: -1075 | L11: =ROUNDUP(W11,0) -> 0 | M11: 0 | N11: 0 | O11: 0 | P11: =SUM(M11:O11) -> 0 | Q11: 0 | R11: 0 | S11: 0 | T11: 0 | V11: =SUM(Q11:U11) -> 0 | W11: =SUM(V11-P11) -> 0
A12: Ordinary Offerings | H12: ='Notes to Accounts 7,8,9'!G37 -> 4812 | J12: 5410 | L12: =ROUNDUP(W12,0) -> 0 | M12: 0 | N12: 0 | O12: 0 | P12: =SUM(M12:O12) -> 0 | Q12: 0 | R12: 0 | S12: 0 | T12: 0 | V12: =SUM(Q12:U12) -> 0 | W12: =SUM(V12-P12) -> 0
A13: Other Offerings and Donations | H13: ='Notes to Accounts 7,8,9'!G39 -> 0 | J13: 29484 | L13: =ROUNDUP(W13,0) -> 0 | M13: 0 | N13: 0 | O13: 0 | P13: =SUM(M13:O13) -> 0 | Q13: 0 | R13: 0 | S13: 0 | T13: 0 | V13: =SUM(Q13:U13) -> 0 | W13: =SUM(V13-P13) -> 0
H14: =SUM(H10:H13) -> 10873 | J14: =SUM(J10:J13) -> 35975
A15: Other Ordinary General Income
A16: Weddings and funerals | H16: ='Notes to Accounts 7,8,9'!G38 -> 500 | J16: 840 | L16: =ROUNDUP(W16,0) -> 0 | M16: 0 | N16: 0 | O16: 0 | P16: =SUM(M16:O16) -> 0 | Q16: 0 | R16: 0 | S16: 0 | T16: 0 | V16: =SUM(Q16:U16) -> 0 | W16: =SUM(V16-P16) -> 0
A17: Receipts from General Trustees | H17: ='General Trustees 13'!G26 -> 0 | J17: 0 | L17: =ROUNDUP(W17,0) -> 0 | M17: 0 | N17: 0 | O17: 0 | P17: =SUM(M17:O17) -> 0 | Q17: 0 | R17: 0 | S17: 0 | T17: 0 | V17: =SUM(Q17:U17) -> 0 | W17: =SUM(V17-P17) -> 0
A18: Investment income | H18: ='Receipts & Payments Acc 5'!E13 -> 428 | J18: 428 | L18: =ROUNDUP(W18,0) -> 0 | M18: 0 | N18: 0 | O18: 0 | P18: =SUM(M18:O18) -> 0 | Q18: 0 | R18: 0 | S18: 0 | T18: 0 | V18: =SUM(Q18:U18) -> 0 | W18: =SUM(V18-P18) -> 0
A19: Fund raising events | H19: ='Receipts & Payments Acc 5'!E11 -> 0 | J19: 0 | L19: =ROUNDUP(W19,0) -> 0 | M19: 0 | N19: 0 | O19: 0 | P19: =SUM(M19:O19) -> 0 | Q19: 0 | R19: 0 | S19: 0 | T19: 0 | V19: =SUM(Q19:U19) -> 0 | W19: =SUM(V19-P19) -> 0
A20: Flower fund | H20: ='Notes to Accounts 7,8,9'!G16 -> 0 | J20: 0 | L20: =ROUNDUP(W20,0) -> 0 | M20: 0 | N20: 0 | O20: 0 | P20: =SUM(M20:O20) -> 0 | Q20: 0 | R20: 0 | S20: 0 | T20: 0 | V20: =SUM(Q20:U20) -> 0 | W20: =SUM(V20-P20) -> 0
H21: =SUM(H16:H20) -> 928 | J21: =SUM(J16:J20) -> 1268
A23: TOTAL ORDINARY GENERAL INCOME | H23: =H14+H21 -> 11801 | J23: =J14+J21 -> 37243
A25: TOTAL ORDINARY GENERAL EXPENDITURE | H25: =H78 -> 39604 | J25: =J78 -> 18295 | L25: =ROUNDUP(W25,0) -> 0 | M25: 0 | N25: 0 | O25: 0 | P25: =SUM(M25:O25) -> 0 | R25: 0 | S25: 0 | T25: 0 | V25: =SUM(Q25:U25) -> 0 | W25: =SUM(V25-P25) -> 0
A27: EXCESS GENERAL INCOME/(EXPENDITURE) | H27: =H23-H25 -> -27803 | J27: =J23-J25 -> 18948
A28: TRANSFERS TO DESIGNATED FABRIC FUND | H28: 0 | J28: 0 | L28: =ROUNDUP(W28,0) -> 0 | M28: 0 | N28: 0 | O28: 0 | P28: =SUM(M28:O28) -> 0 | Q28: 0 | R28: 0 | S28: 0 | T28: 0 | V28: =SUM(Q28:U28) -> 0 | W28: =SUM(V28-P28) -> 0
A29: GENERAL FUND BALANCE AT 1 JANUARY 2024 | H29: =J31 -> 59000 | J29: 40052
A31: GENERAL FUND BALANCE AT 31 DECEMBER 2024 | H31: =H27+H29+H28 -> 31197 | J31: =J27+J28+J29 -> 59000
A34: =A1 -> THE CHURCH OF SCOTLAND
A35: =A2 -> URR PARISH CHURCH
A36: CONGREGATIONAL INCOME AND EXPENDITURE ACCOUNT
A38: =A5 -> Year ended | C38: =C5 -> 46022
H39: =H6 -> 2025 | J39: =J6 -> 2024
H40: £ | J40: £
A41: EXPENDITURE
A42: National Ministry and Mission and wider work | M42: Expenses from Trial Balance | P42: TOTAL | Q42: Income from Trial Balance | V42: TOTAL | W42: =SUM(S42:V42) -> 0
