Workbook

Sheet Instructions for use
A1: Instructions
A3: On the INCOME tab enter your unit's name, charity number (if applicable) and year end date, in B3, B4 and B5 respectively . These will copy across to subsequent pages. Do not add these manually to the other sheets.
A5: On the INCOME tab enter all of the income for the year, starting in cell A8. Add the value into the relevant column of the sheet (for example column E for subscriptions income). In the method select the method of payment from the list. The sheet will add up the values in each column automatically and provide an overall total in cell O7. Use the reference column to record any additional information, for example if a girl is paying subscriptions in instalments, you can add in the instalment number for ease.
A7: All totals will copy across to the relevant subsequent pages.
A9: On the EXPENDITURE tab enter all of the expenditure for the year starting in cell A8. Add the value into the relevant column of the sheet (for example column F for subscriptions). In the method select the method of payment from the list. The sheet will add up the values in each column automatically and provide an overall total in cell P5. In the reference column you can add in detail about what the payment was for ease of reference or information that allows you to easily check amounts against the bank account / cash tin.
A11: In the STATEMENT OF INCOME AND PAYMENTS, the values for the current year will automatically copy for the previous sheets. Add in the values from the previous year in column D. The sheet will calculate the surplus / deficit for the year.
A13: In the STATEMENT OF BALANCES tab, add in the relevant start and end of year bank balances and the amount held in cash at the start and end of the year. Add in the value of any cheques written during the year, but not cashed at the year end. The values in B13 and B20 should be the same.
A15: In the TRUSTEES REPORT tab add in your district and division details (as relevant - delete one of the lines if you do not require both). Add in the name of the trustees (unit leaders), the registered address (as is registered with OSCR) and the total number of girls who have been in the unit within the year in line 25 (not necessarily all at the same time). In line 26, if your accounts vary significantly from those of the previous year, add in any reasons why this might be.
A17: In the INDEPENDENT EXAMINER tab, once the accounts have been examined, the independent examiner should add their name, address and signature.
A19: The STATEMENT OF BALANCES and TRUSTEES ANNUAL REPORT needs to be signed by the leader who prepared the accounts .
A21: 3RD PARTY FUNDRAISING: if your unit has raised money for another charity, the amount raised should be shown in the in the ‘INCOME’ tab, and the expenses/donation in the ‘EXPENDITURE’ tab. These 2 values must be the same. For example, if you hold a coffee morning for Children In Need, the money collected (i.e. £43.50) should be shown in ‘INCOME’ and £43.50 should be shown also in ‘EXPENDITURE’. This could be the whole £43.50 was donated to Children in Need, or £38 was donated to Children in Need & £5.50 was spent on tea/coffee/biscuits for the event. Please note: The money your unit receives in donations or subscriptions (whether OSCR registered or not) should be used for the unit, so should not be used to donate to other charities (i.e. rounding up the Payment to Children in Need to £50)
A23: Some things to be mindful of:
... A30: The independent examiner need not be an accountant. If you are having trouble finding someone to sign off your accounts, please speak to your commissioner in the first instance. The independent examiner should NOT be your local commissioner if she is linked at all with your unit (i.e. she is a leader within it, related to one of the leaders, is a bank signatory, or the registered contact for OSCR).

Sheet Income 
A1: INCOME
A3: Unit: | B3: Kingskettle Brownies
A4: Charity number: | B4: 30833
A5: Year end date: | B5: June 30th 2026
A6: Date | B6: Received from | C6: Method | D6: Reference | E6: Membership subscriptions | F6: Trips | G6: Residential events | H6: 3rd Party fundraising | I6: Unit fundraising | J6: Bank interest | K6: Donations received | L6: Gift aid | M6: Grants received | N6: Miscellaneous | O6: TOTAL
A7: TOTALS | E7: 1122 | F7: =SUM(F8:F318) -> 65 | G7: =SUM(G8:G318) -> 0 | H7: =SUM(H8:H318) -> 0 | I7: =SUM(I8:I318) -> 0 | J7: =SUM(J8:J318) -> 9.4 | K7: =SUM(K8:K318) -> 0 | L7: =SUM(L8:L318) -> 0 | M7: =SUM(M8:M318) -> 0 | N7: =SUM(N8:N318) -> 0 | O7: =SUM(E7:N7) -> 1196.4
A8: 45839 | B8: Mia | C8: Bank transfer | E8: 13 | O8: =SUM(E8:N8) -> 13
A9: 45845 | B9: Rhona | C9: Bank transfer | E9: 13 | O9: =SUM(E9:N9) -> 13
A10: 45866 | B10: Elsa | C10: Bank transfer | E10: 13 | O10: =SUM(E10:N10) -> 13
A11: 45866 | B11: Lena | C11: Bank transfer | E11: 13 | O11: =SUM(E11:N11) -> 13
A12: 45866 | B12: Sphia | C12: Bank transfer | E12: 13 | O12: =SUM(E12:N12) -> 13
A13: 45868 | B13: Abigail&Emily | C13: Bank transfer | E13: 26 | O13: =SUM(E13:N13) -> 26
A14: 45869 | B14: Mia | C14: Bank transfer | E14: 13 | O14: =SUM(E14:N14) -> 13
A15: 45874 | B15: Rhona | C15: Bank transfer | E15: 13 | O15: =SUM(E15:N15) -> 13
A16: 45897 | B16: Lena | C16: Bank transfer | E16: 13 | O16: =SUM(E16:N16) -> 13
A17: 45897 | B17: Elsa | C17: Bank transfer | E17: 13 | O17: =SUM(E17:N17) -> 13
A18: 45897 | B18: Sophia | C18: Bank transfer | E18: 13 | O18: =SUM(E18:N18) -> 13
A19: 45901 | B19: Abigail &Emily | C19: Bank transfer | E19: 26 | O19: =SUM(E19:N19) -> 26
... A21: 45905 | B21: Rhona | C21: Bank transfer | E21: 13 | O21: =SUM(E21:N21) -> 13
A22: 45929 | B22: Bank Intrest | J22: 2.54 | O22: =SUM(E22:N22) -> 2.54
A23: 45929 | B23: Lena | C23: Bank transfer | E23: 13 | O23: =SUM(E23:N23) -> 13
A24: 45929 | B24: Elsa | C24: Bank transfer | E24: 13 | O24: =SUM(E24:N24) -> 13
A25: 45929 | B25: Sophia | C25: Bank transfer | E25: 13 | O25: =SUM(E25:N25) -> 13
A26: 45930 | B26: Abigail&Emily | C26: Bank transfer | E26: 26 | O26: =SUM(E26:N26) -> 26
A27: 45931 | B27: Mia | C27: Bank Transfer | E27: 13 | O27: =SUM(E27:N27) -> 13
A28: 45936 | B28: Rhona | C28: Bank Transfer | E28: 13 | O28: =SUM(E28:N28) -> 13
A29: 45958 | B29: Lena | C29: Bank Transfer | E29: 13 | O29: =SUM(E29:N29) -> 13
B30: Elsa | C30: Bank Transfer | E30: 13 | O30: =SUM(E30:N30) -> 13
B31: Sophia | C31: Bank Transfer | E31: 13 | O31: =SUM(E31:N31) -> 13
B32: Abigail &Emily | C32: Bank Transfer | E32: 26 | O32: =SUM(E32:N32) -> 26
A33: 45964 | B33: Mia | C33: Bank transfer | E33: 13 | O33: =SUM(E33:N33) -> 13
A34: 45966 | B34: Rhona | C34: Bank transfer | E34: 13 | O34: =SUM(E34:N34) -> 13
A35: 45968 | B35: Sophia | C35: Bank transfer | F35: 5 | O35: =SUM(E35:N35) -> 5
A36: 45971 | B36: Rhona | C36: Bank transfer | F36: 5 | O36: =SUM(E36:N36) -> 5
A37: 45972 | B37: Mia | C37: Bank transfer | F37: 5 | O37: =SUM(E37:N37) -> 5
A38: 45972 | B38: Lena | C38: Bank transfer | F38: 5 | O38: =SUM(E38:N38) -> 5
A39: 45974 | B39: Elsa | C39: Bank transfer | F39: 5 | O39: =SUM(E39:N39) -> 5
A40: 45985 | B40: Abigail&Emily | C40: Bank transfer | F40: 10 | O40: =SUM(E40:N40) -> 10
A41: 45989 | B41: Lena | C41: Bank transfer | E41: 13 | O41: =SUM(E41:N41) -> 13
B42: Elsa | C42: Bank transfer | E42: 13 | O42: =SUM(E42:N42) -> 13
...

Sheet Expenditure
A1: EXPENDITURE
A3: Unit: | B3: ='Income '!B3 -> Kingskettle Brownies
A4: Charity number: | B4: ='Income '!B4 -> 30833
A5: Year end date: | B5: ='Income '!B5 -> June 30th 2026
A6: Date | B6: Payee | C6: Method | D6: Reference | E6: Meeting expenses | F6: Membership subscriptions | G6: Property costs and rent | H6: Unit Fundraising | I6: 3rd Party Fundraising | J6: Trips | K6: Residential events | L6: Admin, stationery / postage | M6: Training | N6: Badges and resources | O6: Miscellaneous expenditure | P6: TOTAL
A7: TOTAL | E7: =SUM(E8:E308) -> 41.7 | F7: =SUM(F8:F229) -> 590 | G7: =SUM(G8:G229) -> 228 | H7: =SUM(H8:H229) -> 0 | I7: =SUM(I8:I229) -> 0 | J7: =SUM(J8:J229) -> 131.52 | K7: =SUM(K8:K229) -> 0 | L7: =SUM(L8:L229) -> 0 | M7: =SUM(M8:M229) -> 0 | ... O7: =SUM(O8:O229) -> 0 | P7: =SUM(E7:O7) -> 1193.82
A8: 45841 | B8: E.Coates | C8: Cheque | D8: 337 | E8: 17.51 | P8: =SUM(E8:O8) -> 17.51
A9: 45841 | B9: E.Coates | C9: Cheque | D9: 339 | E9: 16.94 | P9: =SUM(E9:O9) -> 16.94
A10: 45841 | B10: E.Coates | C10: Cheque | D10: 340 | E10: 7.25 | P10: =SUM(E10:O10) -> 7.25
A11: 45855 | B11: Church | C11: Cheque | D11: 341 | G11: 72 | P11: =SUM(E11:O11) -> 72
A12: 45922 | B12: Guide Shop | C12: Cheque | D12: 342 | N12: 33 | P12: =SUM(E12:O12) -> 33
A13: 45936 | D13: 343 | J13: 25 | P13: =SUM(E13:O13) -> 25
A14: 45961 | D14: 344 | G14: 28 | P14: =SUM(E14:O14) -> 28
A15: 45966 | D15: 345 | N15: 19.8 | P15: =SUM(E15:O15) -> 19.8
A16: 45974 | D16: 346 | J16: 66 | P16: =SUM(E16:O16) -> 66
A17: 45993 | D17: 347 | J17: 25.52 | P17: =SUM(E17:O17) -> 25.52
A18: 46037 | D18: 349 | G18: 64 | P18: =SUM(E18:O18) -> 64
D19: 352 | N19: 38.25 | P19: =SUM(E19:O19) -> 38.25
A20: 46070 | D20: 353 | N20: 83.85 | P20: =SUM(E20:O20) -> 83.85
A21: 46078 | D21: 354 | F21: 590 | P21: =SUM(E21:O21) -> 590
A22: 46088 | D22: 355 | N22: 17.7 | P22: =SUM(E22:O22) -> 17.7
A23: 46155 | D23: 357 | G23: 64 | P23: =SUM(E23:O23) -> 64
A24: 46170 | D24: 358 | P24: =SUM(E24:O24) -> 0
A25: 46192 | D25: 359 | J25: 15 | N25: 10 | P25: =SUM(E25:O25) -> 25
P26: =SUM(E26:O26) -> 0
P27: =SUM(E27:O27) -> 0
P28: =SUM(E28:O28) -> 0
P29: =SUM(E29:O29) -> 0
P30: =SUM(E30:O30) -> 0
P31: =SUM(E31:O31) -> 0
P32: =SUM(E32:O32) -> 0
P33: =SUM(E33:O33) -> 0
P34: =SUM(E34:O34) -> 0
P35: =SUM(E35:O35) -> 0
P36: =SUM(E36:O36) -> 0
P37: =SUM(E37:O37) -> 0
... P69: =SUM(E69:O69) -> 0

Sheet Statement of Income & Payments
A1: Receipts and Payments Account
A3: For the Year ended | B3: ='Income '!B5 -> June 30th 2026
A4: Unit name | B4: ='Income '!B3 -> Kingskettle Brownies
A5: Charity Number | B5: ='Income '!B4 -> 30833
B7: 2026 | D7: 2025
A8: Receipts
A9: Membership Subscriptions | B9: 1122 | D9: 1142.3
A10: Donations received | B10: ='Income '!K7 -> 0 | D10: 0
A11: Unit Fundraising | B11: ='Income '!I7 -> 0 | D11: 0
A12: 3rd Party Fundraising | B12: ='Income '!H7 -> 0 | D12: 0
A13: Bank Interest | B13: 9.4 | D13: 10.92
A14: Gift Aid | B14: ='Income '!L7 -> 0 | D14: 0
A15: Trips | B15: 65 | D15: 82
A16: Grants received | B16: ='Income '!M7 -> 0 | D16: 0
A17: Residential events | B17: ='Income '!G7 -> 0 | D17: 0
A18: Miscellaneous Income | B18: ='Income '!N7 -> 0 | D18: 220
A19: Total Receipts | B19: 1196.4 | D19: =SUM(D9:D18) -> 1455.22
A21: Payments
A22: Fundraising expenses
A23: Unit fundraising | B23: =Expenditure!H7 -> 0 | D23: 0
A24: 3rd Party Fundraising/Donation | B24: =Expenditure!I7 -> 0 | D24: 0
A26: Payments for charitable activities
A27: Subscriptions | B27: 590 | D27: 550
A28: Meeting expenses | B28: 41.7 | D28: 48.85
A29: Property costs/rent | B29: 228 | D29: 264
A30: Trips | B30: 131.52 | D30: 60.2
A31: Residential events | B31: =Expenditure!K7 -> 0 | D31: 0
A32: Admin/Postage & Stationery | B32: =Expenditure!L7 -> 0 | D32: 0
A33: Training | B33: =Expenditure!M7 -> 0 | D33: 0
A34: Badges & Resources | B34: 202.6 | D34: 101.17
A35: Miscellaneous Expenditure | B35: =Expenditure!O7 -> 0 | D35: 25.81
A36: Total Payments | B36: 1193.82 | D36: =SUM(D23:D35) -> 1050.03
A38: Surplus/(Deficit) for year | B38: =SUM(B19-B36) -> 2.58 | D38: =SUM(D19-D36) -> 405.19

Sheet Statement of Balances
A1: Statement of balances
A3: For the year ended | B3: ='Income '!B5 -> June 30th 2026
A4: ='Statement of Income & Payments'!A4 -> Unit name | B4: ='Income '!B3 -> Kingskettle Brownies
A5: Charity Number | B5: ='Income '!B4 -> 30833
B7: 2026 | D7: 2025
A8: Opening Balances
A9: Cash | B9: 0.29 | D9: 0.29
A10: Bank | B10: 952.29 | D10: 547.1
A12: Surplus/(Deficit) for year | B12: ='Statement of Income & Payments'!B38 -> 2.58 | D12: ='Statement of Income & Payments'!D38 -> 405.19
A13: Total | B13: =SUM(B9+B10+B12) -> 955.16 | D13: =SUM(D9+D10+D12) -> 952.58
A16: Closing Balances
A17: Cash | B17: 0.29 | D17: 0.29
A18: Bank | B18: 954.87 | D18: 952.29
A19: less outstanding cheques | B19: 0 | D19: 0
A20: Total | B20: =SUM(B17+B18-B19) -> 955.16 | D20: =SUM(D17+D18-D19) -> 952.58
A22: Assets & Liabilities:
A23: In addition to the above cash & bank balances, the unit has equipment to the value of: | D23: 0
A26: Prepared by (signature): _______________________________ | B26: E.Coates | D26: Unit Leader | E26: Brownie Leader
A28: 46219

Sheet Trustees Report
A1: Trustees Annual Report
A3: For year ended: | B3: ='Income '!B5 -> June 30th 2026
A5: Charity (Unit) Name: | B5: ='Income '!B3 -> Kingskettle Brownies
A7: Charity Number | B7: ='Income '!B4 -> 30833
A9: District | B9: INSERT DISTRICT | C9: Lomond
A10: Division | B10: INSERT DIVISION | C10: North
A12: Charity Trustees | B12: Unit leader: | C12: Elizabeth Coates
B13: Unit / assistant leader: | C13: Leanne Bruce
B14: ADD IN ADDITIONAL ROWS IF REQUIRED
A16: Charity Address | B16: Hawthorn Cottage
B17: 50,Rumdewan
B18: Kingskettle
B19: Fife.
B20: KY15 7QR
A21: The above charity (unit) is an unincorporated association. It has no written constitution, but operates in accordance with the policies and procedures, published by Girlguiding, the operating name of the Guide Association.
A23: Its trustees are the volunteer adult leaders trained and appointed as per the Girlguiding policies and procedures. Update training is available throughout the year.
A25: The charity's aim is to deliver a programme of informal education in accordance with the ethos and principles of Girlguiding. During the above period the charity provided this programme to X girls.
A26: The charity's main income is subscription income. The charity aims to hold sufficient cash funds to meet all expenditure due and anticipated during a 2 month period. If the accounts for the year differ substantially from those of the previous year, add in a short explanation as to why (for example, a trip or large camp).
A27: During the year the trustees did not receive any remuneration.
A29: Signed on behalf of the trustees by
A31: E.Coates
A32: ____________________________ | E32: 46232
A33: Signature | E33: Date:
A36: Elizabeth Coates

Sheet Ind Examiner Report
A1: Independent examiners report
A2: For the year ended | C2: ='Income '!B5 -> June 30th 2026
A3: For | C3: ='Income '!B3 -> Kingskettle Brownies
A4: Charity number | C4: ='Income '!B4 -> 30833
A6: Respective responsibilities of trustees and examiner
A7: The charity’s trustees are responsible for the preparation of the accounts in accordance with the terms of the Charities and Trustee Investment (Scotland) 2005 Act and the Charities Accounts (Scotland) Regulations 2006. The charity trustees consider that the audit requirement of Regulation 10(1) (a) to (c) of the Accounts Regulations does not apply. It is my responsibility to examine the accounts as required under section 44(1) (c) of the Act and to state whether particular matters have come to my attention.
A9: Basis of Independent Examiners Statement
A10: My examination is carried out in accordance with Regulation 11 of the Charities Accounts (Scotland) Regulations 2006. An examination includes a review of the accounting records kept by the charity and a comparison of the accounts presented with those records. It also includes consideration of any unusual items or disclosures in the accounts and seeks explanations from the trustees concerning any such matters. The procedures undertaken do not provide all the evidence that would be required in an audit and, consequently, I do not express an audit opinion on the accounts.
A12: Independent Examiners Statement
A13: In the course of my examination, no matter has come to my attention
A15: 1 | B15: which gives me reasonable cause to believe that in any material respect the requirements:
A16: • | B16: to keep accounting records in accordance with section 44(1) (a) of the 2005 Act and Regulation 4 of the 2006 Accounts Regulations, and
A17: • | B17: to prepare accounts which accord with the accounting records and comply with Regulation 9 of the 2006 Accounts Regulations
A19: have not been met, or
A21: 2 | B21: to which, in my opinion, attention should be drawn in order to enable a proper understanding of the accounts to be reached.
A25: ____________________________ | G25: 46232
A26: Signature | G26: Date
A29: Name: Dr Jeff Hooper
A32: Address: 36 Bankton Park, Kingskettle, Fife, KY15 7PY
