Workbook

Sheet Instructions for use
A1: Instructions
A3: On the INCOME tab enter your unit's name, charity number (if applicable) and year end date, in B3, B4 and B5 respectively . These will copy across to subsequent pages. Do not add these manually to the other sheets.
A5: On the INCOME tab enter all of the income for the year, starting in cell A8. Add the value into the relevant column of the sheet (for example column E for subscriptions income). In the method select the method of payment from the list. The sheet will add up the values in each column automatically and provide an overall total in cell O7. Use the reference column to record any additional information, for example if a girl is paying subscriptions in instalments, you can add in the instalment number for ease.
A7: All totals will copy across to the relevant subsequent pages.
A9: On the EXPENDITURE tab enter all of the expenditure for the year starting in cell A8. Add the value into the relevant column of the sheet (for example column F for subscriptions). In the method select the method of payment from the list. The sheet will add up the values in each column automatically and provide an overall total in cell P5. In the reference column you can add in detail about what the payment was for ease of reference or information that allows you to easily check amounts against the bank account / cash tin.
A11: In the STATEMENT OF INCOME AND PAYMENTS, the values for the current year will automatically copy for the previous sheets. Add in the values from the previous year in column D. The sheet will calculate the surplus / deficit for the year.
A13: In the STATEMENT OF BALANCES tab, add in the relevant start and end of year bank balances and the amount held in cash at the start and end of the year. Add in the value of any cheques written during the year, but not cashed at the year end. The values in B13 and B20 should be the same.
A15: In the TRUSTEES REPORT tab add in your district and division details (as relevant - delete one of the lines if you do not require both). Add in the name of the trustees (unit leaders), the registered address (as is registered with OSCR) and the total number of girls who have been in the unit within the year in line 25 (not necessarily all at the same time). In line 26, if your accounts vary significantly from those of the previous year, add in any reasons why this might be.
A17: In the INDEPENDENT EXAMINER tab, once the accounts have been examined, the independent examiner should add their name, address and signature.
A19: The STATEMENT OF BALANCES and TRUSTEES ANNUAL REPORT needs to be signed by the leader who prepared the accounts .
A21: 3RD PARTY FUNDRAISING: if your unit has raised money for another charity, the amount raised should be shown in the in the ‘INCOME’ tab, and the expenses/donation in the ‘EXPENDITURE’ tab. These 2 values must be the same. For example, if you hold a coffee morning for Children In Need, the money collected (i.e. £43.50) should be shown in ‘INCOME’ and £43.50 should be shown also in ‘EXPENDITURE’. This could be the whole £43.50 was donated to Children in Need, or £38 was donated to Children in Need & £5.50 was spent on tea/coffee/biscuits for the event. Please note: The money your unit receives in donations or subscriptions (whether OSCR registered or not) should be used for the unit, so should not be used to donate to other charities (i.e. rounding up the Payment to Children in Need to £50)
A23: Some things to be mindful of:
... A30: The independent examiner need not be an accountant. If you are having trouble finding someone to sign off your accounts, please speak to your commissioner in the first instance. The independent examiner should NOT be your local commissioner if she is linked at all with your unit (i.e. she is a leader within it, related to one of the leaders, is a bank signatory, or the registered contact for OSCR).

Sheet Income 
A1: INCOME
A3: Unit: | B3: 1st Alva Guides
A4: Charity number: | B4: SC040382
A5: Year end date: | B5: 31st March 2026
A6: Date | B6: Received from | C6: Method | D6: Reference | E6: From Bank | F6: Membership subscriptions | G6: Trips | H6: Residential events | I6: 3rd Party fundraising | J6: Unit fundraising | K6: Bank interest | L6: Donations received | M6: Gift aid | N6: Grants received | O6: Miscellaneous | P6: TOTAL | Q6: Check total | R6: drift
A7: TOTALS | F7: =SUM(F8:F393) -> 3015 | G7: =SUM(G8:G393) -> 1539 | H7: =SUM(H8:H393) -> 0 | I7: =SUM(I8:I393) -> 0 | J7: =SUM(J8:J393) -> 0 | K7: =SUM(K8:K393) -> 0 | L7: =SUM(L8:L393) -> 20.18 | M7: =SUM(M8:M393) -> 0 | ... O7: =SUM(O8:O393) -> 21.7 | P7: =SUM(F7:O7) -> 4595.88 | Q7: =SUM(P8:P148) -> 4595.88 | R7: =P7-Q7 -> 0
A8: 45750 | B8: NICOLA FINDLAY AMY BRYCE 00157738632BFYMHLW 090128 10 03APR25 15:20 | C8: Bank transfer | D8: Subs | E8: 45 | F8: 45 | P8: =SUM(F8:O8) -> 45
A9: 45750 | B9: NICOLA FINDLAY AMY BRYCE 00157738632BFYMHLM 090128 10 03APR25 15:19 | C9: Bank transfer | D9: Subs | E9: 45 | F9: 45 | P9: =SUM(F9:O9) -> 45
A10: 45769 | B10: STEPHEN TITTERINGT SOPHIE TITTERINGTO 00151655632BBKKLQQ 090126 10 22APR25 18:55 | C10: Bank transfer | D10: Subs | E10: 45 | F10: 45 | P10: =SUM(F10:O10) -> 45
A11: 45769 | B11: SPRUCE R & C SPRUCE SUBS 21101929464053000R 831518 10 22APR25 10:19 | C11: Bank transfer | D11: Subs | E11: 45 | F11: 45 | P11: =SUM(F11:O11) -> 45
A12: 45769 | B12: A HARROWER MIA H SUBS 600000001546020176 110895 10 22APR25 08:18 | C12: Bank transfer | D12: Subs | E12: 45 | F12: 45 | P12: =SUM(F12:O12) -> 45
A13: 45769 | B13: L HUNTER SUMMER FEE EVA H 500000001546255784 800677 10 22APR25 07:12 | C13: Bank transfer | D13: Subs | E13: 45 | F13: 45 | P13: =SUM(F13:O13) -> 45
A14: 45770 | B14: ALYSON IRVINE KAITLYN GARDNER 250423214858865623 874308 10 23APR25 21:48 | C14: Bank transfer | D14: Subs | E14: 45 | F14: 45 | P14: =SUM(F14:O14) -> 45
A15: 45770 | B15: E TYRRELL ROWAN T SUBS 400000001551963369 804614 10 23APR25 17:43 | C15: Bank transfer | D15: Subs | E15: 45 | F15: 45 | P15: =SUM(F15:O15) -> 45
A16: 45770 | B16: L HODGE LUCY HODGE 100000001537724549 804519 10 23APR25 10:29 | C16: Bank transfer | D16: Subs | E16: 45 | F16: 45 | P16: =SUM(F16:O16) -> 45
A17: 45770 | B17: JOANNE LAUDER ORLA WISHART FEES 250423073436035075 873451 10 23APR25 07:34 | C17: Bank transfer | D17: Subs | E17: 45 | F17: 45 | P17: =SUM(F17:O17) -> 45
A18: 45771 | B18: STEPHEN TITTERINGT SOPHIE TITTERINGTO 00151655632BBKKNFQ 090126 10 24APR25 17:02 | C18: Bank transfer | D18: Kayak | E18: 9 | G18: 9 | P18: =SUM(F18:O18) -> 9
A19: 45771 | B19: A HARROWER MIA H KAYAKING 400000001552429238 110895 10 24APR25 15:05 | C19: Bank transfer | D19: Kayak | E19: 9 | G19: 9 | P19: =SUM(F19:O19) -> 9
A20: 45771 | B20: MCEWAN L LORNA MCEWAN KAYAK 63124457128427000R 831603 10 24APR25 12:44 | C20: Bank transfer | D20: Kayak | E20: 9 | G20: 9 | P20: =SUM(F20:O20) -> 9
A21: 45771 | B21: MCEWAN L LORNA MCEWAN SUBS 44124425906693000R 831603 10 24APR25 12:44 | C21: Bank transfer | D21: Subs | E21: 45 | F21: 45 | P21: =SUM(F21:O21) -> 45
A22: 45771 | B22: N MURRAY EVE M FEES 100000001538334009 800528 10 24APR25 12:16 | C22: Bank transfer | D22: Subs | E22: 45 | F22: 45 | P22: =SUM(F22:O22) -> 45
A23: 45771 | B23: RYLES MRS K M CHALLENGE HIKE 40113010253734000R 831518 10 24APR25 11:30 | C23: Bank transfer | D23: Challenge Hike | E23: 5 | G23: 5 | P23: =SUM(F23:O23) -> 5
A24: 45771 | B24: RYLES MRS K M CHLOE RYLES 32112124467545000R 831518 10 24APR25 11:21 | C24: Bank transfer | D24: Subs | E24: 45 | F24: 45 | P24: =SUM(F24:O24) -> 45
A25: 45771 | B25: RYLES MRS K M CHLOE RYLES 15111817546914000R 831518 10 24APR25 11:18 | C25: Bank transfer | D25: Kayak | E25: 9 | G25: 9 | P25: =SUM(F25:O25) -> 9
A26: 45771 | B26: RYLES MRS K M FUN FALLS & FRISBE 63111505336539000R 831518 10 24APR25 11:15 | C26: Bank transfer | D26: Fun, Falls & Frisbe's | E26: 50 | G26: 50 | P26: =SUM(F26:O26) -> 50
A27: 45772 | B27: ALDERSON A & E DARCEY SUBS 54082810652094000R 832709 10 25APR25 08:28 | C27: Bank transfer | D27: Subs | E27: 45 | F27: 45 | P27: =SUM(F27:O27) -> 45
A28: 45775 | B28: LEDBETTER MOIRA LEADERS - 2 FP25118O04434314 070436 10 28APR25 17:50 | C28: Bank transfer | D28: Badge | E28: 1.7 | O28: 1.7 | P28: =SUM(F28:O28) -> 1.7
A29: 45775 | B29: NICOLA FINDLAY AMY BRYCE KAYAK 00157738632BFYZGMQ 090128 10 27APR25 08:06 | C29: Bank transfer | D29: Kayak | E29: 9 | G29: 9 | P29: =SUM(F29:O29) -> 9
A30: 45775 | B30: NICOLA FINDLAY AMY BRYCE HIKE 00157738632BFYZGMH 090128 10 27APR25 08:01 | C30: Bank transfer | D30: Challenge Hike | E30: 5 | G30: 5 | P30: =SUM(F30:O30) -> 5
A31: 45775 | B31: NICOLA FINDLAY AMY BRYCE 00157738632BFYZGMF 090128 10 27APR25 08:01 | C31: Bank transfer | D31: Subs | E31: 45 | F31: 45 | P31: =SUM(F31:O31) -> 45
A32: 45776 | B32: R HARROWER PENNY H SUBS 200000001546477495 804856 10 29APR25 09:18 | C32: Bank transfer | D32: Subs | E32: 35 | G32: 35 | P32: =SUM(F32:O32) -> 35
A33: 45777 | B33: ROSS TAYLOR EILIDH TAYLOR KAYA 00152053632CCBHNGT 090135 10 30APR25 18:40 | C33: Bank transfer | D33: Kayak | E33: 9 | G33: 9 | P33: =SUM(F33:O33) -> 9
A34: 45777 | B34: ROSS TAYLOR EILIDH TAYLOR SUB 00152053632CCBHNFV 090135 10 30APR25 18:39 | C34: Bank transfer | D34: Subs | E34: 45 | G34: 45 | P34: =SUM(F34:O34) -> 45
A35: 45777 | B35: R HARROWER PENNY H KAYAK 18TH 600000001551334460 804856 10 30APR25 18:01 | C35: Bank transfer | D35: Kayak | E35: 9 | G35: 9 | P35: =SUM(F35:O35) -> 9
A36: 45777 | B36: R HARROWER PENNY H SUBS 400000001556438053 804856 10 30APR25 18:01 | C36: Bank transfer | D36: Subs Balance | E36: 10 | G36: 10 | P36: =SUM(F36:O36) -> 10
A37: 45783 | B37: MCARTHUR K & R EVIEMCARTHUR 21172825522380000N 603021 10 05MAY25 17:28 | C37: Bank transfer | D37: Subs | E37: 45 | G37: 45 | P37: =SUM(F37:O37) -> 45
A38: 45783 | B38: RHONA FERRANS FERRANS - HIKE 250504220033762586 873764 10 04MAY25 22:00 | C38: Bank transfer | D38: Challenge Hike | E38: 10 | G38: 10 | P38: =SUM(F38:O38) -> 10
A39: 45783 | B39: RHONA FERRANS FERRANS - DUES 250504215555892408 873764 10 04MAY25 21:55 | C39: Bank transfer | D39: Subs X2 | E39: 90 | F39: 90 | P39: =SUM(F39:O39) -> 90
A40: 45783 | B40: RAMSAY ANNE LUCY RAMSAY SUBS FP25124O09826748 070116 10 04MAY25 18:22 | C40: Bank transfer | D40: Subs | E40: 45 | F40: 45 | P40: =SUM(F40:O40) -> 45
A41: 45784 | B41: C BRANDER FEES LEXI +POPPY 200000001551801680 804519 10 07MAY25 19:25 | C41: Bank transfer | D41: Subs X2 | E41: 90 | F41: 90 | P41: =SUM(F41:O41) -> 90
...

Sheet Expenditure
A1: EXPENDITURE
A3: Unit: | E3: ='Income '!B3 -> 1st Alva Guides
A4: Charity number: | E4: ='Income '!B4 -> SC040382
A5: Year end date: | E5: ='Income '!B5 -> 31st March 2026
A6: Date | E6: Payee | F6: Method | G6: Reference | H6: Meeting expenses | I6: Membership subscriptions | J6: Property costs and rent | K6: Unit Fundraising | L6: 3rd Party Fundraising | M6: Trips | N6: Residential events | O6: Admin, stationery / postage | P6: Training | Q6: Badges and resources | R6: Miscellaneous expenditure | S6: TOTAL | T6: check total | U6: drift
A7: TOTAL | H7: =SUM(H8:H310) -> 801.72 | I7: =SUM(I8:I231) -> 1566 | J7: =SUM(J8:J231) -> 677 | K7: =SUM(K8:K231) -> 0 | L7: =SUM(L8:L231) -> 0 | M7: =SUM(M8:M231) -> 871 | N7: =SUM(N8:N231) -> 6.23 | O7: =SUM(O8:O231) -> 10.99 | P7: =SUM(P8:P231) -> 0 | Q7: =SUM(Q10:Q231) -> 406.99 | R7: =SUM(R8:R231) -> 8.42 | S7: =SUM(H7:R7) -> 4348.35 | T7: =SUM(S8:S70) -> 4348.35 | U7: =S7-T7 -> 0
A8: 45770 | B8: DEB | C8: WWW.GIRLGUIDINGSCO CD 9914 | D8: 15.28 | E8: Food for meeting Aldi | F8: Cash | H8: 15.28 | S8: =SUM(H8:R8) -> 15.28
A9: 45773 | D9: 7.99 | E9: Pouches from Amazon | F9: Cash | O9: 7.99 | S9: =SUM(H9:R9) -> 7.99
A10: 45772 | D10: 55.19 | E10: WWW.GIRLGUIDINGSCO CD 9914 | F10: Debit card | Q10: 55.19 | S10: =SUM(H10:R10) -> 55.19
A11: 45776 | B11: DEB | C11: SQ *GIRLGUIDING TA CD 9914 | D11: 60 | E11: SQ *GIRLGUIDING TA CD 9914 | F11: Debit card | M11: 60 | S11: =SUM(H11:R11) -> 60
A12: 45746 | D12: 7 | E12: Accounts | F12: Cash | R12: 7 | S12: =SUM(H12:R12) -> 7
A13: 45778 | B13: DEB | C13: CO-OP GROUP 010411 CD 9914 | D13: 2.81 | E13: CO-OP GROUP 010411 CD 9914 | F13: Debit card | H13: 2.81 | S13: =SUM(H13:R13) -> 2.81
A14: 45783 | B14: DEB | C14: SQ *GIRLGUIDING TA CD 9914 | D14: 20.54 | E14: SQ *GIRLGUIDING TA CD 9914 | F14: Debit card | M14: 20.54 | S14: =SUM(H14:R14) -> 20.54
A15: 45784 | B15: DEB | C15: SQ *GIRLGUIDING TA CD 9914 | D15: 40 | E15: SQ *GIRLGUIDING TA CD 9914 | F15: Debit card | M15: 40 | S15: =SUM(H15:R15) -> 40
A16: 45785 | B16: DEB | C16: WWW.GIRLGUIDINGSCO CD 9914 | D16: 43.49 | E16: WWW.GIRLGUIDINGSCO CD 9914 | F16: Debit card | Q16: 43.49 | S16: =SUM(H16:R16) -> 43.49
A17: 45785 | B17: DEB | C17: SQ *GIRLGUIDING TA CD 9914 | D17: 40 | E17: SQ *GIRLGUIDING TA CD 9914 | F17: Debit card | M17: 40 | S17: =SUM(H17:R17) -> 40
A18: 45785 | B18: DEB | C18: SQ *GIRLGUIDING TA CD 9914 | D18: 5.32 | E18: SQ *GIRLGUIDING TA CD 9914 | F18: Debit card | M18: 5.32 | S18: =SUM(H18:R18) -> 5.32
A19: 45790 | D19: 20.86 | E19: Sives from Amazon | F19: Cash | H19: 20.86 | S19: =SUM(H19:R19) -> 20.86
A20: 45792 | B20: CHQ | C20: 11712 | D20: 294 | E20: 11712 (Hall Rent) | F20: Cheque | J20: 294 | S20: =SUM(H20:R20) -> 294
A21: 45805 | B21: DEB | C21: SQ *GIRLGUIDING TA CD 9914 | D21: 180 | E21: SQ *GIRLGUIDING TA CD 9914 | F21: Debit card | M21: 180 | S21: =SUM(H21:R21) -> 180
A22: 45838 | B22: CHQ | C22: 11713 | D22: 366 | E22: 11713 (CR Cats) | F22: Cheque | J22: 213 | M22: 153 | S22: =SUM(H22:R22) -> 366
A23: 45882 | B23: DEB | C23: WM MORRISONS STORE CD 9914 | D23: 36.09 | E23: WM MORRISONS STORE CD 9914 | F23: Debit card | H23: 36.09 | S23: =SUM(H23:R23) -> 36.09
A24: 45882 | B24: DEB | C24: GIRLGUIDING TRADIN CD 9914 | D24: 27 | E24: GIRLGUIDING TRADIN CD 9914 | F24: Debit card | Q24: 27 | S24: =SUM(H24:R24) -> 27
A25: 45885 | D25: 6.23 | E25: hot chocolate from camp | F25: Cash | N25: 6.23 | S25: =SUM(H25:R25) -> 6.23
A26: 45888 | D26: 3 | E26: Tape from works | F26: Cash | O26: 3 | S26: =SUM(H26:R26) -> 3
A27: 45889 | D27: 7.5 | E27: tennis balls from B&M | F27: Cash | H27: 7.5 | S27: =SUM(H27:R27) -> 7.5
A28: 45897 | B28: DEB | C28: GIRLGUIDING TRADIN CD 9914 | D28: 22.65 | E28: GIRLGUIDING TRADIN CD 9914 | F28: Debit card | Q28: 22.65 | S28: =SUM(H28:R28) -> 22.65
A29: 45898 | B29: DEB | C29: AMAZON* R43MI07C4 CD 9914 | D29: 25.47 | E29: AMAZON* R43MI07C4 CD 9914 | F29: Debit card | H29: 25.47 | S29: =SUM(H29:R29) -> 25.47
A30: 45909 | B30: DEB | C30: AMAZON* ZT7W11RV4 CD 9914 | D30: 29.97 | E30: AMAZON* ZT7W11RV4 CD 9914 | F30: Debit card | H30: 29.97 | S30: =SUM(H30:R30) -> 29.97
A31: 45910 | B31: DEB | C31: AMAZON* Z82VT44M4 CD 9914 | D31: 24.99 | E31: AMAZON* Z82VT44M4 CD 9914 | F31: Debit card | H31: 24.99 | S31: =SUM(H31:R31) -> 24.99
A32: 45911 | B32: DEB | C32: GIRLGUIDING TRADIN CD 9914 | D32: 27.1 | E32: GIRLGUIDING TRADIN CD 9914 | F32: Debit card | Q32: 27.1 | S32: =SUM(H32:R32) -> 27.1
A33: 45915 | B33: DEB | C33: WM MORRISONS STORE CD 9914 13SEP25 | D33: 185.37 | E33: WM MORRISONS STORE CD 9914 13SEP25 | F33: Debit card | M33: 185.37 | S33: =SUM(H33:R33) -> 185.37
A34: 45915 | B34: DEB | C34: WM MORRISONS STORE CD 9914 13SEP25 | D34: 13.63 | E34: WM MORRISONS STORE CD 9914 13SEP25 | F34: Debit card | M34: 13.63 | S34: =SUM(H34:R34) -> 13.63
A35: 45931 | B35: DEB | C35: TESCO STORES 2040 CD 9914 | D35: 17.08 | E35: TESCO STORES 2040 CD 9914 | F35: Debit card | M35: 17.08 | S35: =SUM(H35:R35) -> 17.08
A36: 45938 | B36: DEB | C36: B&M 406 - ALLOA CD 9914 | D36: 4.4 | E36: B&M 406 - ALLOA CD 9914 | F36: Debit card | M36: 4.4 | S36: =SUM(H36:R36) -> 4.4
A37: 45938 | B37: DEB | C37: WM MORRISONS STORE CD 9914 | D37: 1.75 | E37: WM MORRISONS STORE CD 9914 | F37: Debit card | M37: 1.75 | S37: =SUM(H37:R37) -> 1.75
A38: 45957 | D38: 17.4 | E38: unit meeting activity Morrisons | F38: Cash | H38: 17.4 | S38: =SUM(H38:R38) -> 17.4
A39: 45957 | D39: 1.6 | E39: Higgetly Pigelty | F39: Cash | H39: 1.6 | S39: =SUM(H39:R39) -> 1.6
A40: 45958 | B40: DEB | C40: WM MORRISONS STORE CD 9914 | D40: 17.4 | E40: WM MORRISONS STORE CD 9914 | F40: Debit card | M40: 17.4 | S40: =SUM(H40:R40) -> 17.4
A41: 45958 | B41: DEB | C41: B&M 406 - ALLOA CD 9914 | D41: 10.46 | E41: B&M 406 - ALLOA CD 9914 | F41: Debit card | M41: 10.46 | S41: =SUM(H41:R41) -> 10.46
...

Sheet Statement of Income & Payments
A1: Receipts and Payments Account
A3: For the Year ended | B3: ='Income '!B5 -> 31st March 2026
A4: Unit name | B4: ='Income '!B3 -> 1st Alva Guides
A5: Charity Number | B5: ='Income '!B4 -> SC040382
B7: 2025 | D7: 2024
A8: Receipts
A9: Membership Subscriptions | B9: ='Income '!F7 -> 3015 | D9: 0
A10: Donations received | B10: ='Income '!L7 -> 20.18 | D10: 0
A11: Unit Fundraising | B11: ='Income '!J7 -> 0 | D11: 0
A12: 3rd Party Fundraising | B12: ='Income '!I7 -> 0 | D12: 0
A13: Bank Interest | B13: ='Income '!K7 -> 0 | D13: 0
A14: Gift Aid | B14: ='Income '!M7 -> 0 | D14: 0
A15: Trips | B15: ='Income '!G7 -> 1539 | D15: 0
A16: Grants received | B16: ='Income '!N7 -> 0 | D16: 0
A17: Residential events | B17: ='Income '!H7 -> 0 | D17: 0
A18: Miscellaneous Income | B18: ='Income '!O7 -> 21.7 | D18: 0
A19: Total Receipts | B19: =SUM(B9:B18) -> 4595.88 | D19: =SUM(D9:D18) -> 0
A21: Payments
A22: Fundraising expenses
A23: Unit fundraising | B23: =Expenditure!K7 -> 0 | D23: 0
A24: 3rd Party Fundraising/Donation | B24: =Expenditure!L7 -> 0 | D24: 0
A26: Payments for charitable activities
A27: Subscriptions | B27: =Expenditure!I7 -> 1566 | D27: 0
A28: Meeting expenses | B28: =Expenditure!H7 -> 801.72
A29: Property costs/rent | B29: =Expenditure!J7 -> 677 | D29: 0
A30: Trips | B30: =Expenditure!M7 -> 871 | D30: 0
A31: Residential events | B31: =Expenditure!N7 -> 6.23 | D31: 0
A32: Admin/Postage & Stationery | B32: =Expenditure!O7 -> 10.99 | D32: 0
A33: Training | B33: =Expenditure!P7 -> 0 | D33: 0
A34: Badges & Resources | B34: =Expenditure!Q7 -> 406.99 | D34: 0
A35: Miscellaneous Expenditure | B35: =Expenditure!R7 -> 8.42 | D35: 0
A36: Total Payments | B36: =SUM(B23:B35) -> 4348.35 | D36: =SUM(D23:D35) -> 0
A38: Surplus/(Deficit) for year | B38: =SUM(B19-B36) -> 247.53 | D38: =SUM(D19-D36) -> 0

Sheet Statement of Balances
A1: Statement of balances
A3: For the year ended | B3: ='Income '!B5 -> 31st March 2026
A4: ='Statement of Income & Payments'!A4 -> Unit name | B4: ='Income '!B3 -> 1st Alva Guides
A5: Charity Number | B5: ='Income '!B4 -> SC040382
B7: 2026 | D7: 2025
A8: Opening Balances
A9: Cash | B9: 126.54
A10: Bank | B10: 1863.46
A12: Surplus/(Deficit) for year | B12: ='Statement of Income & Payments'!B38 -> 247.53 | D12: ='Statement of Income & Payments'!D38 -> 0
A13: Total | B13: =SUM(B9+B10+B12) -> 2237.53 | D13: =SUM(D9+D10+D12) -> 0
A16: Closing Balances
A17: Cash | B17: 38.65 | D17: 0
A18: Bank | B18: 2200.85 | D18: 0
A19: less outstanding cheques | B19: 0 | D19: 0
A20: Total | B20: =SUM(B17+B18-B19) -> 2239.5 | D20: =SUM(D17+D18-D19) -> 0
A22: Assets & Liabilities:
A23: In addition to the above cash & bank balances, the unit has equipment to the value of: | D23: 0
A26: Prepared by (signature): _______________________________ | B26: James Templeman | D26: Unit Leader
A28: Date: ___________________________ | B28: 46202

Sheet Trustees Report
A1: Trustees Annual Report
A3: For year ended: | B3: ='Income '!B5 -> 31st March 2026
A5: Charity (Unit) Name: | B5: ='Income '!B3 -> 1st Alva Guides
A7: Charity Number | B7: ='Income '!B4 -> SC040382
A9: District | B9: INSERT DISTRICT
A10: Division | B10: INSERT DIVISION
A12: Charity Trustees | B12: Unit leader: | C12: Moira Ledbetter
B13: Unit / assistant leader: | C13: Joyce Bell
C14: James Templeman
C15: Louise Crookshank
B17: ADD IN ADDITIONAL ROWS IF REQUIRED
A19: Charity Address | B19: 67 Erskin Street
B20: Alva
B21: FK12 5LU
A24: The above charity (unit) is an unincorporated association. It has no written constitution, but operates in accordance with the policies and procedures, published by Girlguiding, the operating name of the Guide Association.
A26: Its trustees are the volunteer adult leaders trained and appointed as per the Girlguiding policies and procedures. Update training is available throughout the year.
A28: The charity's aim is to deliver a programme of informal education in accordance with the ethos and principles of Girlguiding. During the above period the charity provided this programme to X girls.
A29: The charity's main income is subscription income. The charity aims to hold sufficient cash funds to meet all expenditure due and anticipated during a 2 month period. If the accounts for the year differ substantially from those of the previous year, add in a short explanation as to why (for example, a trip or large camp).
A30: During the year the trustees did not receive any remuneration.
A32: Signed on behalf of the trustees by
A36: Signature | E36: Date:
A37: James Templeman | E37: 46202
A39: Name:
A40: James Templeman

Sheet Ind Examiner Report
A1: Independent examiners report
A2: For the year ended | C2: ='Income '!B5 -> 31st March 2026
A3: For | C3: ='Income '!B3 -> 1st Alva Guides
A4: Charity number | C4: ='Income '!B4 -> SC040382
A6: Respective responsibilities of trustees and examiner
A7: The charity’s trustees are responsible for the preparation of the accounts in accordance with the terms of the Charities and Trustee Investment (Scotland) 2005 Act and the Charities Accounts (Scotland) Regulations 2006. The charity trustees consider that the audit requirement of Regulation 10(1) (a) to (c) of the Accounts Regulations does not apply. It is my responsibility to examine the accounts as required under section 44(1) (c) of the Act and to state whether particular matters have come to my attention.
A9: Basis of Independent Examiners Statement
A10: My examination is carried out in accordance with Regulation 11 of the Charities Accounts (Scotland) Regulations 2006. An examination includes a review of the accounting records kept by the charity and a comparison of the accounts presented with those records. It also includes consideration of any unusual items or disclosures in the accounts and seeks explanations from the trustees concerning any such matters. The procedures undertaken do not provide all the evidence that would be required in an audit and, consequently, I do not express an audit opinion on the accounts.
A12: Independent Examiners Statement
A13: In the course of my examination, no matter has come to my attention
A15: 1 | B15: which gives me reasonable cause to believe that in any material respect the requirements:
A16: • | B16: to keep accounting records in accordance with section 44(1) (a) of the 2005 Act and Regulation 4 of the 2006 Accounts Regulations, and
A17: • | B17: to prepare accounts which accord with the accounting records and comply with Regulation 9 of the 2006 Accounts Regulations
A19: have not been met, or
A21: 2 | B21: to which, in my opinion, attention should be drawn in order to enable a proper understanding of the accounts to be reached.
B24: Clare Abel | G24: 46202
A25: ____________________________ | G25: ____________
A26: Signature | G26: Date
A29: Name: | C29: Clare Abel
A32: Address: | C32: 2 Galan
C33: Alloa
C34: FK10 1RJ
