Workbook

Sheet Instructions for use
A1: Instructions
A3: On the INCOME tab enter your unit's name, charity number (if applicable) and year end date, in C1, C2 and C3 respectively . These will copy across to subsequent pages.
A5: On the INCOME tab enter all of the income for the year, starting in cell A6. Add the value into the relevant column of the sheet (for example column D for subscriptions income). In the method select the method of payment from the list. The sheet will add up the values in each column automatically and provide an overall total in cell O5. Use the reference column to record any additional information, for example if a girl is paying subscriptions in instalments, you can add in the instalment number for ease.
A7: All totals will copy across to the relevant subsequent pages.
A9: On the EXPENDITURE tab enter all of the expenditure for the year starting in cell A6. Add the value into the relevant column of the sheet (for example column F for subscriptions). In the method select the method of payment from the list. The sheet will add up the values in each column automatically and provide an overall total in cell P5. In the reference column you can add in detail about what the payment was for ease of reference or information that allows you to easily check amounts against the bank account / cash tin.
A11: In the STATEMENT OF INCOME AND PAYMENTS, the values for the current year will automatically copy for the previous sheets. Add in the values from the previous year in column D. The sheet will calculate the surplus / deficit for the year.
A13: In the STATEMENT OF BALANCES tab, add in the relevant start and end of year bank balances and the amount held in cash at the start and end of the year. Add in the value of any cheques written during the year, but not cashed at the year end. The values in B13 and B20 should be the same.
A15: In the TRUSTEES REPORT tab add in your district and division details (as relevant - delete one of the lines if you do not require both). Add in the name of the trustees (unit leaders), the registered address (as is registered with OSCR) and the total number of girls who have been in the unit within the year in line 25 (not necessarily all at the same time). In line 26, if your accounts vary significantly from those of the previous year, add in any reasons why this might be.
A17: In the INDEPENDENT EXAMINER tab, once the accounts have been examined, the independent examiner should add their name, address and signature.
A19: The STATEMENT OF BALANCES and TRUSTEES ANNUAL REPORT needs to be signed by the leader who prepared the accounts .
A21: 3RD PARTY FUNDRAISING: if your unit has raised money for another charity, the amount raised should be shown in the in the ‘INCOME’ tab, and the expenses/donation in the ‘EXPENDITURE’ tab. These 2 values must be the same. For example, if you hold a coffee morning for Children In Need, the money collected (i.e. £43.50) should be shown in ‘INCOME’ and £43.50 should be shown also in ‘EXPENDITURE’. This could be the whole £43.50 was donated to Children in Need, or £38 was donated to Children in Need & £5.50 was spent on tea/coffee/biscuits for the event. Please note: The money your unit receives in donations or subscriptions (whether OSCR registered or not) should be used for the unit, so should not be used to donate to other charities (i.e. rounding up the Payment to Children in Need to £50)
A23: Some things to be mindful of:
... A30: The independent examiner need not be an accountant. If you are having trouble finding someone to sign off your accounts, please speak to your commissioner in the first instance. The independent examiner should NOT be your local commissioner if she is linked at all with your unit (i.e. she is a leader within it, related to one of the leaders, is a bank signatory, or the registered contact for OSCR).

Sheet Income 
A1: Unit: | B1: 3rd Viewpark Rainbows
A2: Charity number: | B2: INSERT CHARITY NUMBER (if applicable)
A3: Year end date: | B3: 46022
A4: Date | B4: Received from | C4: Method | D4: Reference | E4: Membership subscriptions | F4: Trips | G4: Residential events | H4: 3rd Party fundraising | I4: Unit fundraising | J4: Bank interest | K4: Donations received | L4: Gift aid | M4: Grants received | N4: Miscellaneous | O4: TOTAL
A5: TOTALS | E5: =SUM(E6:E323) -> 1797.5 | F5: =SUM(F6:F323) -> 366 | G5: =SUM(G6:G323) -> 0 | H5: =SUM(H6:H323) -> 0 | I5: =SUM(I6:I323) -> 0 | J5: =SUM(J6:J323) -> 0 | K5: =SUM(K6:K323) -> 0 | L5: =SUM(L6:L323) -> 0 | ... N5: =SUM(N6:N323) -> 0 | O5: =SUM(E5:N5) -> 2163.5
A6: 45659 | B6: A PENMAN | C6: Bank transfer | D6: HANNAH PENMAN | E6: 14 | O6: =SUM(E6:N6) -> 14
A7: 45659 | B7: QUINN P | C7: Bank transfer | D7: AURLAH QUINN | E7: 14 | O7: =SUM(E7:N7) -> 14
A8: 45659 | B8: MARISA CHESHIRE | C8: Bank transfer | D8: SOFIA CHESHIRE | E8: 14 | O8: =SUM(E8:N8) -> 14
A9: 45659 | B9: WARD MISS F | C9: Bank transfer | D9: ISABELLA MUIR | E9: 14 | O9: =SUM(E9:N9) -> 14
A10: 45670 | B10: MCCALLUM CE & TR | C10: Bank transfer | D10: ISLA MCCALLUM | E10: 14 | O10: =SUM(E10:N10) -> 14
A11: 45672 | B11: A DICKSON | C11: Bank transfer | D11: GEORGIA AITCHENSON | E11: 14 | O11: =SUM(E11:N11) -> 14
A12: 45672 | B12: G TAIT | C12: Bank transfer | D12: AMY/AVA SUBS 2024 | E12: 34 | O12: =SUM(E12:N12) -> 34
A13: 45684 | B13: MARK FOULGER | C13: Bank transfer | D13: ROSIEFOULGER | E13: 14 | O13: =SUM(E13:N13) -> 14
A14: 45687 | B14: Y PRICE | C14: Bank transfer | D14: LANA ROSE SWAN | E14: 14 | O14: =SUM(E14:N14) -> 14
A15: 45687 | B15: L WHITE | C15: Bank transfer | D15: OLIVIA | E15: 14 | O15: =SUM(E15:N15) -> 14
A16: 45691 | B16: A PENMAN | C16: Bank transfer | D16: HANNAH PENMAN | E16: 14 | O16: =SUM(E16:N16) -> 14
A17: 45691 | B17: QUINN P | C17: Bank transfer | D17: AURLAH QUINN | E17: 14 | O17: =SUM(E17:N17) -> 14
... A29: 45719 | B29: A PENMAN | C29: Bank transfer | D29: HANNAH PENMAN | E29: 14 | O29: =SUM(E29:N29) -> 14
A30: 45719 | B30: QUINN P | C30: Bank transfer | D30: AURLAH QUINN | E30: 14 | O30: 14
A31: 45719 | B31: MARISA CHESHIRE | C31: Bank transfer | D31: SOFIA CHESHIRE | E31: 14 | O31: =SUM(E31:N31) -> 14
A32: 45719 | B32: WARD MISS F | C32: Bank transfer | D32: ISABELLA MUIR | E32: 14 | O32: =SUM(E32:N32) -> 14
A33: 45720 | B33: L WHITE | C33: Bank transfer | D33: OLIVIA | E33: 14 | O33: =SUM(E33:N33) -> 14
A34: 45727 | B34: MCCALLUM CE & TR | C34: Bank transfer | D34: ISLA MCCALLUM | E34: 14 | O34: =SUM(E34:N34) -> 14
A35: 45733 | B35: A DICKSON | C35: Bank transfer | D35: GEORGIA AITCHENSON | E35: 14 | O35: =SUM(E35:N35) -> 14
A36: 45741 | B36: FOULGER M&L | C36: Bank transfer | D36: ROSIEFOULGER | E36: 14 | O36: =SUM(E36:N36) -> 14
A37: 45744 | B37: M MCGOVERN | C37: Bank transfer | D37: MOLLIE MCGOVERN | E37: 14 | O37: =SUM(E37:N37) -> 14
A38: 45747 | B38: Y PRICE | C38: Bank transfer | D38: LANA ROSE SWAN | E38: 14 | O38: =SUM(E38:N38) -> 14
A39: 45747 | B39: L WHITE | C39: Bank transfer | D39: OLIVIA | E39: 14 | O39: =SUM(E39:N39) -> 14
A40: 45748 | B40: WARD MISS F | C40: Bank transfer | D40: ISABELLA MUIR | E40: 14 | O40: 14
A41: 45748 | B41: A PENMAN | C41: Bank transfer | D41: HANNAH PENMAN | E41: 14 | O41: =SUM(E41:N41) -> 14
A42: 45748 | B42: QUINN P | C42: Bank transfer | D42: AURLAH QUINN | E42: 14 | O42: =SUM(E42:N42) -> 14
A43: 45748 | B43: G TAIT | C43: Bank transfer | D43: AVA SUBS FEB25 | E43: 14 | O43: =SUM(E43:N43) -> 14
A44: 45749 | B44: MARISA CHESHIRE | C44: Bank transfer | D44: SOFIA CHESHIRE | E44: 14 | O44: =SUM(E44:N44) -> 14
A45: 45750 | B45: GIORGIO ROSSI | C45: Bank transfer | D45: SOFIA ROSSI | E45: 14 | O45: =SUM(E45:N45) -> 14
A46: 45750 | B46: PAWEL SZUMSKI | C46: Bank transfer | D46: HANNA SZUMSKA | E46: 14 | O46: =SUM(E46:N46) -> 14
A47: 45758 | B47: MCCALLUM CE & TR | C47: Bank transfer | D47: ISLA MCCALLUM | E47: 14 | O47: =SUM(E47:N47) -> 14
A48: 45761 | B48: A CAMPBELL | C48: Bank transfer | D48: ELLIE CARLE | E48: 14 | O48: =SUM(E48:N48) -> 14
A49: 45762 | B49: A DICKSON | C49: Bank transfer | D49: GEORGIA AITCHENSON | E49: 14 | O49: =SUM(E49:N49) -> 14
A50: 45762 | B50: G TAIT | C50: Bank transfer | D50: AVA SUBS MAR25 | E50: 14 | O50: =SUM(E50:N50) -> 14
A51: 45764 | B51: WARD MISS F | C51: Bank transfer | D51: ISABELLA MUIR | E51: 13.5 | O51: =SUM(E51:N51) -> 13.5
...

Sheet Expenditure
A1: Unit: | B1: 3rd Viewpark Rainbows | F1: ='Income '!B1 -> 3rd Viewpark Rainbows
A2: Charity number: | B2: ='Income '!B2 -> INSERT CHARITY NUMBER (if applicable) | F2: ='Income '!B2 -> INSERT CHARITY NUMBER (if applicable)
A3: Year end date: | B3: 46022 | F3: ='Income '!B3 -> 46022
A4: Date | B4: Payee | C4: Method | D4: Reference | E4: Membership subscriptions | F4: Property costs and rent | G4: Unit Fundraising | H4: 3rd Party Fundraising | I4: Trips | J4: Residential events | K4: Admin, stationery / postage | L4: Training | M4: Badges and resources | N4: Miscellaneous expenditure | O4: TOTAL
A5: TOTAL | E5: =SUM(E7:E228) -> 896 | F5: =SUM(F7:F228) -> 0 | G5: =SUM(G7:G228) -> 0 | H5: =SUM(H7:H228) -> 0 | I5: =SUM(I7:I228) -> 779 | J5: =SUM(J7:J228) -> 0 | K5: =SUM(K7:K228) -> 0 | L5: =SUM(L7:L228) -> 0 | ... N5: =SUM(N7:N228) -> 0 | O5: =SUM(E5:N5) -> 1796.95
A6: 45670 | B6: NB MARSMALLOW NIGHT | M6: 6.5
A7: 45763 | B7: South Lanarkshire County | C7: Cheque | D7: 10094 | E7: 896 | O7: =SUM(E7:N7) -> 896
A8: 45791 | B8: AM BLAIR DRUMMOND | C8: Cheque | D8: 10095 | I8: 384 | O8: =SUM(E8:N8) -> 384
A9: 45813 | B9: AM BADGES | C9: Cheque | D9: 10096 | M9: 121.95 | O9: =SUM(E9:N9) -> 121.95
A10: 45931 | B10: KM BUS BD | C10: Cheque | D10: 10097 | I10: 395 | O10: =SUM(E10:N10) -> 395
O11: =SUM(E11:N11) -> 0
O12: =SUM(E12:N12) -> 0
O13: =SUM(E13:N13) -> 0
O14: =SUM(E14:N14) -> 0
O15: =SUM(E15:N15) -> 0
O16: =SUM(E16:N16) -> 0
O17: =SUM(E17:N17) -> 0
O18: =SUM(E18:N18) -> 0
O19: =SUM(E19:N19) -> 0
O20: =SUM(E20:N20) -> 0
O21: =SUM(E21:N21) -> 0
O22: =SUM(E22:N22) -> 0
... O68: =SUM(E68:N68) -> 0

Sheet Statment of Income & Payments
A1: Receipts and Payments Account
A3: For the Year ended | B3: 46022
A4: Unit name | B4: 3rd Viewpark Rainbows
A5: Charity Number | B5: ='Income '!B2 -> INSERT CHARITY NUMBER (if applicable)
B7: 2025 | D7: 2024
A8: Receipts
A9: Membership Subscriptions | B9: ='Income '!E5 -> 1797.5 | D9: 1474.48
A10: Donations received | B10: ='Income '!K5 -> 0 | D10: 0
A11: Unit Fundraising | B11: ='Income '!I5 -> 0 | D11: 0
A12: 3rd Party Fundraising | B12: ='Income '!H5 -> 0 | D12: 0
A13: Bank Interest | B13: ='Income '!J5 -> 0 | D13: 0
A14: Gift Aid | B14: ='Income '!L5 -> 0 | D14: 0
A15: Trips | B15: ='Income '!F5 -> 366 | D15: 183
A16: Grants received | B16: ='Income '!M5 -> 0 | D16: 0
A17: Residential events | B17: ='Income '!G5 -> 0 | D17: 0
A18: Miscellaneous Income | B18: ='Income '!N5 -> 0 | D18: 201.75
A19: Total Receipts | B19: =SUM(B9:B18) -> 2163.5 | D19: =SUM(D9:D18) -> 1859.23
A21: Payments
A22: Fundraising expenses
A23: Unit fundraising | B23: =Expenditure!G5 -> 0 | D23: 0
A24: 3rd Party Fundraising/Donation | B24: =Expenditure!H5 -> 0 | D24: 0
A26: Payments for charitable activities
A27: Subscriptions | B27: =Expenditure!E5 -> 896 | D27: 636
A28: Meeting expenses | B28: 0 | D28: 0
A29: Property costs/rent | B29: =Expenditure!F5 -> 0 | D29: 150
A30: Trips | B30: =Expenditure!I5 -> 779 | D30: 437.97
A31: Residential events | B31: =Expenditure!J5 -> 0 | D31: 0
A32: Admin/Postage & Stationery | B32: =Expenditure!K5 -> 0 | D32: 0
A33: Training | B33: =Expenditure!L5 -> 0 | D33: 0
A34: Badges & Resources | B34: =Expenditure!M5 -> 121.95 | D34: 927.1
A35: Miscellaneous Expenditure | B35: =Expenditure!N5 -> 0 | D35: 0
A36: Total Payments | B36: =SUM(B23:B35) -> 1796.95 | D36: =SUM(D23:D35) -> 2151.07
A38: Surplus/(Deficit) for year | B38: =SUM(B19-B36) -> 366.55 | D38: =SUM(D19-D36) -> -291.84

Sheet Statement of Balances
A1: Statement of balances
A3: For the year ended | B3: ='Statment of Income & Payments'!B3 -> 46022
A4: ='Statment of Income & Payments'!A4 -> Unit name | B4: ='Statment of Income & Payments'!B4 -> 3rd Viewpark Rainbows
A5: Charity Number | B5: ='Statment of Income & Payments'!B5 -> INSERT CHARITY NUMBER (if applicable)
B7: 2025 | D7: 2024
A8: Opening Balances
A9: Cash | B9: 0 | D9: 0
A10: Bank | B10: 777.69 | D10: 733.35
A12: Surplus/(Deficit) for year | B12: ='Statment of Income & Payments'!B38 -> 366.55 | D12: ='Statment of Income & Payments'!D38 -> -291.84
A13: Total | B13: =SUM(B9+B10+B12) -> 1144.24 | D13: =SUM(D9+D10+D12) -> 441.51
A16: Closing Balances
A17: Cash | B17: 0 | D17: 0
A18: Bank | B18: 1417.04 | D18: 777.69
A19: less outstanding cheques | B19: 0 | D19: 0
A20: Total | B20: =SUM(B17+B18-B19) -> 1417.04 | D20: =SUM(D17+D18-D19) -> 777.69
A22: Assets & Liabilities:
A23: In addition to the above cash & bank balances, the unit has equipment to the value of: | D23: 0
A26: Prepared by (signature): _______________________________ | D26: Unit Leader
A28: Date: ___________________________

Sheet Trustees Report
A1: Trustees Annual Report
B2: For the year end INSERT DATE | C2: ='Income '!B3 -> 46022
A5: Charity (Unit) Name: | B5: ='Statment of Income & Payments'!B4 -> 3rd Viewpark Rainbows
A7: Charity Number | B7: ='Statment of Income & Payments'!B5 -> INSERT CHARITY NUMBER (if applicable)
A9: District | B9: Viewpark
A10: Division | B10: Thorniewood
A12: Charity Trustees | B12: Unit leader: | C12: Abigail McGill
B13: Unit / assistant leader: | C13: Niamh Barclay
B14: ADD IN ADDITIONAL ROWS IF REQUIRED | C14: Eilidh Winters
A16: Charity Address | B16: Insert address
B17: City / town
B18: Postcode
A21: The above charity (unit) is an unincorporated association. It has no written constitution, but operates in accordance with the policies and procedures, published by Girlguiding, the operating name of the Guide Association.
A23: Its trustees are the volunteer adult leaders trained and appointed as per the Girlguiding policies and procedures. Update training is available throughout the year.
A25: The charity's aim is to deliver a programme of informal education in accordance with the ethos and principles of Girlguiding. During the above period the charity provided this programme to X girls.
A26: The charity's main income is subscription income. The charity aims to hold sufficient cash funds to meet all expenditure due and anticipated during a 2 month period. If the accounts for the year differ substantially from those of the previous year, add in a short explanation as to why (for example, a trip or large camp).
A27: During the year the trustees did not receive any remuneration.
A29: Signed on behalf of the trustees by
A32: ____________________________ | E32: ______________
A33: Signature | E33: Date:
A36: Name:

Sheet Ind Examiner Report
A1: Independent examiners report
A2: For the year ended | C2: ='Income '!B3 -> 46022
A3: For | C3: ='Statment of Income & Payments'!B4 -> 3rd Viewpark Rainbows
A4: Charity number | C4: ='Statment of Income & Payments'!B5 -> INSERT CHARITY NUMBER (if applicable)
A6: Respective responsibilities of trustees and examiner
A7: The charity’s trustees are responsible for the preparation of the accounts in accordance with the terms of the Charities and Trustee Investment (Scotland) 2005 Act and the Charities Accounts (Scotland) Regulations 2006. The charity trustees consider that the audit requirement of Regulation 10(1) (a) to (c) of the Accounts Regulations does not apply. It is my responsibility to examine the accounts as required under section 44(1) (c) of the Act and to state whether particular matters have come to my attention.
A9: Basis of Independent Examiners Statement
A10: My examination is carried out in accordance with Regulation 11 of the Charities Accounts (Scotland) Regulations 2006. An examination includes a review of the accounting records kept by the charity and a comparison of the accounts presented with those records. It also includes consideration of any unusual items or disclosures in the accounts and seeks explanations from the trustees concerning any such matters. The procedures undertaken do not provide all the evidence that would be required in an audit and, consequently, I do not express an audit opinion on the accounts.
A12: Independent Examiners Statement
A13: In the course of my examination, no matter has come to my attention
A15: 1 | B15: which gives me reasonable cause to believe that in any material respect the requirements:
A16: • | B16: to keep accounting records in accordance with section 44(1) (a) of the 2005 Act and Regulation 4 of the 2006 Accounts Regulations, and
A17: • | B17: to prepare accounts which accord with the accounting records and comply with Regulation 9 of the 2006 Accounts Regulations
A19: have not been met, or
A21: 2 | B21: to which, in my opinion, attention should be drawn in order to enable a proper understanding of the accounts to be reached.
A25: ____________________________ | G25: ____________
A26: Signature | G26: Date
A29: Name:
A32: Address:
