Workbook

Sheet User Guide
A1: Please re-save this spreadsheet, replacing the "XXXXXXXXXXX" in the file name with your congregation's name.
A3: If all four of the green tabs are fully completed, there will be no need to complete the two blue tabs.
A5: However, if you would rather complete the green tabs at a later date (for inclusion in the annual report to be submitted to OSCR), please complete the two blue tabs now.
A7: Please return Schedule, ideally with a signed audited copy of the Congregational Report and Accounts, by Friday 27th February 2026.
A9: One copy to Church Office, one copy to Presbytery Clerk and one copy to be retained for your records.
A11: If a signed audited copy of the Congregational Report and Accounts is not available before 27th February 2026, please send as soon as possible thereafter,
A13: Please start with the first green tab titled "OSCR Receipt & Pay'ts Detail p8".
A14: This tab is for inclusion in the Annual Report submitted to OSCR.
A16: Please replace the Xs in "XXXXXXXXXXXX United Free Church of Scotland" in Cell A2 with your congregation's name.
A18: Please replace the Xs in "Presbytery of the XXXX" in Cell N2 with your Presbytery's name.
A20: Please amend the Fund names in Row 6 and whether unrestricted, designated* or restricted** in Row 7 to suit your congregation. Column D should always be General Untrestricted.
A22: Please do not amend any headings in Columns A and B.
... A94: Typed names can be used rather than signatures, which will be read as being authorised by the said office bearers.

Sheet Internal note for 2026
A2: Let folk know audited OSCR accounts by the end of February is desirable but not essential.
A4: Let folk know that the PDFs are for people to fill out in paper copies if they could not edit the Excel spreadsheet.
A6: Fix "UF Fin Return Sht 1 (Gen Fund)" so that D31 is included in total F29
A7: and then fix formula in N3 of Office Use tab (remove +'UF Fin Return Sht 1 (Gen Fund)'!F31)

Sheet OSCR Receipt & Pay'ts Detail p8
A1: Sample Headings to be amended as appropriate
A2: Corstorphine Community Church | L2: Presbytery of the East | P2: Page 8
A4: Receipts and Payments for the Year ending 31 December 2025 (comparative year to 31 December 2024)
A6: Fund* : | B6: Rbs Current Account | C6: Notes | D6: General | F6: Mission | H6: Fabric / Building | J6: Youth | L6: Manse | N6: Total | P6: Total
A7: Nature of Fund** : | B7: Unrestricted | C7: Details | D7: Unrestricted | F7: Designated | H7: Designated | J7: Designated | L7: Designated | N7: 2025 | P7: 2024
A8: Receipts
A9: Offerings | B9: Open Plate | D9: 9564.87 | N9: 9564.87 | P9: 3363.97
B10: Freewill | D10: 400 | N10: =SUM(D10:M10) -> 400 | P10: 635
B11: Freewill (gift aid) | D11: 5068.64 | N11: =SUM(D11:M11) -> 5068.64 | P11: 3235
B12: Gift Aid Tax | D12: 10361.81 | N12: =SUM(D12:M12) -> 10361.81
B13: Other | C13: Page 9.1 | D13: 16012.96 | N13: =SUM(D13:M13) -> 16012.96
B14: Sub Total | D14: =SUM(D9:D13) -> 41408.28 | F14: =SUM(F9:F13) -> 0 | H14: =SUM(H9:H13) -> 0 | J14: =SUM(J9:J13) -> 0 | L14: =SUM(L9:L13) -> 0 | N14: =SUM(N9:N13) -> 41408.28 | P14: =SUM(P9:P13) -> 7233.97
A15: Donations | B15: Organisations | C15: Page 9:2 | N15: =SUM(D15:M15) -> 0
B16: Other | C16: Page 9:2 | D16: 5165 | N16: =SUM(D16:M16) -> 5165 | P16: 2442.5
B17: Sub Total | D17: =SUM(D15:D16) -> 5165 | F17: =SUM(F15:F16) -> 0 | H17: =SUM(H15:H16) -> 0 | J17: =SUM(J15:J16) -> 0 | L17: =SUM(L15:L16) -> 0 | N17: =SUM(D17:M17) -> 5165 | P17: =SUM(P15:P16) -> 2442.5
A18: Other | B18: Bank Interest | D18: 2706.63 | N18: =SUM(D18:M18) -> 2706.63 | P18: 395.98
B19: Rent / Let | D19: 44452.17 | N19: =SUM(D19:M19) -> 44452.17 | P19: 36756.77
B20: Stedfast | D20: 40 | N20: =SUM(D20:M20) -> 40 | P20: 60
B21: Miscellaneous | C21: Page 9:3 | D21: 313.5 | N21: =SUM(D21:M21) -> 313.5 | P21: 1137.24
B22: Sub Total | D22: =SUM(D18:D21) -> 47512.3 | F22: =SUM(F18:F21) -> 0 | H22: =SUM(H18:H21) -> 0 | J22: =SUM(J18:J21) -> 0 | L22: =SUM(L18:L21) -> 0 | N22: =SUM(D22:M22) -> 47512.3 | P22: =SUM(P18:P21) -> 38349.99
A24: Events | B24: Fundraising | D24: 0 | F24: 0 | H24: 0 | J24: 0 | L24: 0 | N24: =SUM(D24:M24) -> 0 | P24: 0
A26: Total Ordinary Receipts | D26: =SUM(D24+D22+D17+D14) -> 94085.58 | F26: =SUM(F24+F22+F17+F14) -> 0 | H26: =SUM(H24+H22+H17+H14) -> 0 | J26: =SUM(J24+J22+J17+J14) -> 0 | L26: =SUM(L24+L22+L17+L14) -> 0 | N26: =SUM(D26:M26) -> 94085.58 | P26: =SUM(P24+P22+P17+P14) -> 48026.46
A28: Extraordinary | B28: Donation / Bequest | N28: =SUM(D28:M28) -> 0
B29: Grant | M29: =SUM(M28) -> 0 | N29: =SUM(D29:M29) -> 0
B30: Other | C30: Page 9.4 | N30: =SUM(D30:M30) -> 0 | P30: 21248.33
B31: Sub Total | D31: =SUM(D28:D30) -> 0 | F31: =SUM(F28:F30) -> 0 | H31: =SUM(H28:H30) -> 0 | J31: =SUM(J28:J30) -> 0 | L31: =SUM(L28:L30) -> 0 | N31: =SUM(D31:M31) -> 0 | P31: =SUM(P28:P30) -> 21248.33
A33: Missions | B33: Other charities | C33: Page 9.5 | D33: 0 | F33: 0 | H33: 0 | J33: 0 | L33: 0 | N33: =SUM(D33:M33) -> 0 | P33: 0
A35: Total Receipts (Ordinary plus Extraordinary) | D35: =SUM(D26+D31+D33) -> 94085.58 | F35: =SUM(F26+F31+F33) -> 0 | H35: =SUM(H26+H31+H33) -> 0 | J35: =SUM(J26+J31+J33) -> 0 | L35: =SUM(L26+L31+L33) -> 0 | N35: =SUM(D35:M35) -> 94085.58 | P35: =SUM(P26+P31+P33) -> 69274.79
A37: Payments
A38: Ministry | B38: Stipend/Salary & NIC | D38: 28578.21 | N38: =SUM(D38:M38) -> 28578.21 | P38: 26950.8
B39: Expenses | N39: =SUM(D39:M39) -> 0
B40: Pulpit Supply | D40: 900 | N40: =SUM(D40:M40) -> 900 | P40: 1000
B41: Int Moderator Fee, Exp | N41: =SUM(D41:M41) -> 0
B42: Sub Total | D42: =SUM(D38:D41) -> 29478.21 | F42: =SUM(F38:F41) -> 0 | H42: =SUM(H38:H41) -> 0 | J42: =SUM(J38:J41) -> 0 | L42: =SUM(L38:L41) -> 0 | N42: =SUM(D42:M42) -> 29478.21 | P42: =SUM(P38:P41) -> 27950.8 | V42: 3276
A44: Other Salary | B44: Church Officer / Cleaner | D44: 3276 | F44: 0 | H44: 0 | J44: 0 | L44: 0 | N44: =SUM(D44:M44) -> 3276 | P44: 3237
A46: Property | B46: Council Tax | N46: =SUM(D46:M46) -> 0
B47: Insurance | D47: 2099.31 | N47: =SUM(D47:M47) -> 2099.31 | P47: 2062.05
B48: Heat & light | D48: 11164.07 | N48: =SUM(D48:M48) -> 11164.07 | P48: 8893.85
B49: Repairs, upkeep | D49: 2315.84 | N49: =SUM(D49:M49) -> 2315.84 | P49: 4582.48
B50: Equipment, Furnishing | D50: 4391.67 | N50: =SUM(D50:M50) -> 4391.67 | P50: 4495.71
...

Sheet OSCR Statement of Balances p7
A1: Sample Headings to be amended as appropriate
A2: ='OSCR Receipt & Pay''ts Detail p8'!A2 -> Corstorphine Community Church | O2: ='OSCR Receipt & Pay''ts Detail p8'!N2 -> 0 | R2: Page 7
A4: Statement of Balances and Movement on Congregation Funds for Year ending 31 December 2025
A6: Fund * | B6: Nature | C6: Balance | E6: Receipts | G6: (Payments) | I6: Surplus | K6: Net Fund | M6: Net change | O6: Balance | Q6: Held as
B7: of Fund ** | C7: 31.12.24 | E7: 2025 | G7: 2025 | I7: (Deficit) | K7: Transfers | M7: on Fund | O7: 31.12.25 | Q7: follows
C8: £ | E8: £ | G8: £ | I8: £ | K8: £ | M8: £ | O8: £ | Q8: Bank etc. | R8: £
A9: General | B9: Unrestricted | C9: 25985.68 | E9: ='OSCR Receipt & Pay''ts Detail p8'!D35 -> 94085.58 | G9: ='OSCR Receipt & Pay''ts Detail p8'!D73 -> 68394.15 | I9: =E9-G9 -> 25691.43 | K9: ='OSCR Receipt & Pay''ts Detail p8'!D77+'OSCR Receipt & Pay''ts Detail p8'!D78 -> 7678.45 | M9: =I9+K9 -> 33369.88 | O9: =C9+M9 -> 59355.56 | Q9: Rbs Account | R9: 59355.56
B10: Note 1
A12: Reserve | B12: Restricted | C12: 22000 | E12: ='OSCR Receipt & Pay''ts Detail p8'!F35 -> 0 | G12: ='OSCR Receipt & Pay''ts Detail p8'!F73 -> 0 | I12: =E12-G12 -> 0 | K12: ='OSCR Receipt & Pay''ts Detail p8'!F77+'OSCR Receipt & Pay''ts Detail p8'!F78 -> 0 | M12: =I12+K12 -> 0 | O12: =C12+M12 -> 22000 | Q12: Nsi Investments | R12: 22000
A13: Ex Manse | B13: Note 2
A15: Flower Fund | B15: Restricted | C15: 276.67 | E15: 40 | G15: 24.5 | I15: =E15-G15 -> 15.5 | K15: ='OSCR Receipt & Pay''ts Detail p8'!H77+'OSCR Receipt & Pay''ts Detail p8'!H78 -> 0 | M15: =I15+K15 -> 15.5 | O15: =C15+M15 -> 292.17 | Q15: Cash in Hand | R15: 292.17
B16: Note 3
A18: ='OSCR Receipt & Pay''ts Detail p8'!J6 -> Youth | B18: ='OSCR Receipt & Pay''ts Detail p8'!J7 -> Designated | C18: 0 | E18: ='OSCR Receipt & Pay''ts Detail p8'!J35 -> 0 | G18: ='OSCR Receipt & Pay''ts Detail p8'!J73 -> 0 | I18: =E18-G18 -> 0 | K18: ='OSCR Receipt & Pay''ts Detail p8'!J77+'OSCR Receipt & Pay''ts Detail p8'!J78 -> 0 | M18: =I18+K18 -> 0 | O18: =C18+M18 -> 0
B19: Note 4
A21: Manse | B21: Restricted | G21: ='OSCR Receipt & Pay''ts Detail p8'!L73 -> 0 | I21: =E21-G21 -> 0 | K21: ='OSCR Receipt & Pay''ts Detail p8'!L77+'OSCR Receipt & Pay''ts Detail p8'!L78 -> 0 | M21: =I21+K21 -> 0 | O21: =C21+M21 -> 0
B22: Note 5
A24: Total Congregation Funds | C24: =SUM(C9:C23) -> 48262.35 | E24: =SUM(E9:E23) -> 94125.58 | G24: =SUM(G9:G23) -> 68418.65 | I24: =SUM(I9:I23) -> 25706.93 | K24: =SUM(K9:K23) -> 7678.45 | M24: =SUM(M9:M23) -> 33385.38 | O24: =SUM(O9:O23) -> 81647.73 | R24: =SUM(R9:R23) -> 81647.73
A26: * Fund Name - amend as appropriate
A27: ** Nature of Fund - specify whether Unrestricted, Designated or Restricted
A29: Notes to the Financial Statements for the Year ending 2025 (sample notes - please amend as appropriate)
A31: Nature of Congregation Funds:
A32: General | B32: Unrestricted | C32: Note 1 | E32: Ordinary receipts and payments of the Congregation. Office Bearers may 'designate' unrestricted funds for general reserves or for specified purpose(s).
A33: Reserve
A34: Ex Manse | B34: Restricted | C34: Note 2 | E34: Reserve Funds; Funds invested from the sale of the manse. This Fund to be used only with permission from Presbytery.
A36: Flower Fund | B36: Restricted | C36: Note 3 | E36: Flower Fund, This Fund is made up of donations from members for weekly church floral decoration.
A38: Youth | B38: Designated | C38: Note 4 | E38: To establish, deliver and develop a range of activities to support children/youths and families, and to promote education in the Christian faith
A41: Manse | B41: Designated | C41: Note 5 | E41: Net income from let of Manse, for repairs, decoration and refurbishment of the Manse
A43: Governance | C43: Note 6 | E43: No governance costs are incurred during the year. Duties relating to governance are provided voluntarily
A45: Property | B45: Church | C45: Note 7 | E45: Congregation property is held for the use of the Congregation in fulfilling its aims and mission to its members, adherents and the community it serves; not for investment or resale. No market value is placed on these properties.
B46: Manse, Hall
A49: Investments | C49: Note 8 | E49: Investments held on behalf of the Congregation which have a variable Market Value are included in the above Statement of Balances at the value at the year end. Revaluations during the year are reported in the table above as 'Net Change in Fund'
A53: Contingent Liabilities | C53: Note 9 | E53: Financial Statements present the receipts received and payments made during the year. In the event there are any material outstandings,contingent liabilities and /or commiments these are noted below :-
Q55: (
E56: There are no contingent liabilities at the date of this Report and Financial Statement.
A58: Payments to Trustees | C58: Note 10 | E58: Payment (Stipend) has been Paid to the Pastor of Corstorphine Community Church.
E60: He is a Charity trustee of the church
A62: Approval of Congregation Financial Statements for the year ending 31 December 2025 as set out on Pages 7,8 and 9 by Office Bearers authorised to sign :
A65: Minister / Interim Moderator *** | G65: Duncan Whitty | O65: Name : | Q65: Duncan Whitty
A67: Clerk to Congregatioal Board / Preses *** | O67: Name :
A69: Treasurer | G69: John Trainer | O69: Name : | Q69: John Trainer
...

Sheet OSCR Supplementary & Notes p9
A1: Sample Headings to be amended as appropriate
A2: ='OSCR Receipt & Pay''ts Detail p8'!A2 -> Corstorphine Community Church | K2: Page 9
A4: Supplementary Sheet and Notes - Year ending 31 December 2025
C7: ='OSCR Receipt & Pay''ts Detail p8'!D6 -> General | E7: ='OSCR Receipt & Pay''ts Detail p8'!F6 -> Mission | G7: ='OSCR Receipt & Pay''ts Detail p8'!H6 -> Fabric / Building | I7: ='OSCR Receipt & Pay''ts Detail p8'!J6 -> Youth | K7: ='OSCR Receipt & Pay''ts Detail p8'!L6 -> Manse
C8: ='OSCR Receipt & Pay''ts Detail p8'!D7 -> Unrestricted | E8: ='OSCR Receipt & Pay''ts Detail p8'!F7 -> Designated | G8: ='OSCR Receipt & Pay''ts Detail p8'!H7 -> Designated | I8: ='OSCR Receipt & Pay''ts Detail p8'!J7 -> Designated | K8: ='OSCR Receipt & Pay''ts Detail p8'!L7 -> Designated
C9: £ | E9: £ | G9: £ | I9: £ | K9: £
A10: Note | B10: Details of Receipts
A11: 9.1 | B11: Offerings - Other
L12: *
L13: *
L14: *
C15: 41408.28 | E15: =SUM(E11:E14) -> 0 | G15: =SUM(G11:G14) -> 0 | I15: =SUM(I11:I14) -> 0 | K15: =SUM(K11:K14) -> 0
A17: 9.2 | B17: Donations - Organisations & Other
L18: *
L19: *
L20: *
C21: 5165 | E21: =SUM(E17:E20) -> 0 | G21: =SUM(G17:G20) -> 0 | I21: =SUM(I17:I20) -> 0 | K21: =SUM(K17:K20) -> 0
A23: 9.3 | B23: Other - Miscellaneous
L24: *
L25: *
L26: *
C27: 47412.3 | E27: =SUM(E23:E26) -> 0 | G27: =SUM(G23:G26) -> 0 | I27: =SUM(I23:I26) -> 0 | K27: =SUM(K23:K26) -> 0
A29: 9.4 | B29: Extra-ordinary - Other
L30: *
L31: *
L32: *
C33: =SUM(C29:C32) -> 0 | E33: =SUM(E29:E32) -> 0 | G33: =SUM(G29:G32) -> 0 | I33: =SUM(I29:I32) -> 0 | K33: =SUM(K29:K32) -> 0
A35: 9.5 | B35: Receipts from Missions
L36: *
L37: *
L38: *
C39: =SUM(C35:C38) -> 0 | E39: =SUM(E35:E38) -> 0 | G39: =SUM(G35:G38) -> 0 | I39: =SUM(I35:I38) -> 0 | K39: =SUM(K35:K38) -> 0
A41: Note | B41: Details of Payments
A42: 9.6 | B42: Property - Other
L43: *
L44: *
L45: *
C46: 24301.1 | E46: =SUM(E42:E45) -> 0 | G46: =SUM(G42:G45) -> 0 | I46: =SUM(I42:I45) -> 0 | K46: =SUM(K42:K45) -> 0
A48: 9.7 | B48: Office & Publicity
L49: *
...

Sheet Additional Detail
A2: Title Deeds held by: | B2: Church
B3: Manse
A7: Please return Schedule, ideally with a signed audited copy of the Congregational Report and Accounts, by Friday 27th February 2026.
A9: One copy to Church Office, one copy to Presbytery Clerk and one copy to be retained for your records.
A11: If a signed audited copy of the Congregational Report and Accounts is not available before 27th February 2026, please send as soon as possible thereafter,

Sheet UF Fin Return Sht 1 (Gen Fund)
A1: ='OSCR Receipt & Pay''ts Detail p8'!A2 -> Corstorphine Community Church | G1: ='OSCR Receipt & Pay''ts Detail p8'!N2 -> 0
A3: Financial Schedule for 2025 | G3: Section 1
A5: GENERAL FUND | D5: £ | F5: £ | G5: £
A6: RECEIPTS:
A7: Offerings: | B7: Open | D7: 9564.87
B8: Free Will Envelopes | D8: 400
B9: Free Will Envelopes (Gift Aid) | D9: 6168.87
B10: Gift Aid Tax Recovered | D10: 10361.81
B11: Other Offerings | D11: ='OSCR Receipt & Pay''ts Detail p8'!D13 -> 16012.96 | F11: =SUM(D7:D11) -> 42508.51
A13: Donations | B13: Church Organisations | D13: ='OSCR Receipt & Pay''ts Detail p8'!D15 -> 0
B14: Other | D14: 4065 | F14: =SUM(D13:D14) -> 4065
A16: Other Receipts | B16: Interest | D16: 2706.63
B17: Rent/Let premises | D17: 44452.17
B18: Stedfast | D18: ='OSCR Receipt & Pay''ts Detail p8'!D20 -> 40
B19: Miscellaneous | D19: ='OSCR Receipt & Pay''ts Detail p8'!D21 -> 313.5 | F19: =SUM(D16:D19) -> 47512.3
A21: Events | B21: Fundraising | D21: ='OSCR Receipt & Pay''ts Detail p8'!D24 -> 0 | F21: =SUM(D21:D21) -> 0
A23: Total Ordinary Receipts | F23: =SUM(F11:F22) -> 94085.81
A25: Extraordinary Receipts | B25: Donation / Bequest
B26: Grant | D26: ='OSCR Receipt & Pay''ts Detail p8'!D29 -> 0
B27: Other | D27: ='OSCR Receipt & Pay''ts Detail p8'!D30 -> 0
A29: Total Extraordinary Receipts | F29: =SUM(D25:D27) -> 0
A31: Missions | B31: Other charities | D31: ='OSCR Receipt & Pay''ts Detail p8'!D33 -> 0 | F31: =SUM(D31:D31) -> 0
A33: TOTAL RECEIPTS | B33: carried down to summary | F33: A | G33: =F29+F23+F31 -> 94085.81
A36: PAYMENTS:
A37: Ministry | B37: Minister Stipend/NI/expense etc | D37: 28578.21 | F37: =SUM(D37:D37) -> 28578.21
A39: Other Salaries | B39: Church Officer / Cleaner | D39: 3276 | F39: =SUM(D39:D39) -> 3276
A41: Property | B41: C Tax, Heat&Light, Repairs etc | D41: ='OSCR Receipt & Pay''ts Detail p8'!D52 -> 24301.1 | F41: =SUM(D41:D41) -> 24301.1
A43: Other Congr. Payments | B43: Total | D43: ='OSCR Receipt & Pay''ts Detail p8'!D58 -> 1124.84 | F43: =SUM(D43:D43) -> 1124.84
A45: Fundraising | B45: Expenses | D45: ='OSCR Receipt & Pay''ts Detail p8'!D60 -> 0 | F45: =SUM(D45:D45) -> 0
A47: Contributions to | B47: Denomination | D47: ='OSCR Receipt & Pay''ts Detail p8'!D62 -> 0
B48: Presbytery | D48: ='OSCR Receipt & Pay''ts Detail p8'!D63 -> 3482
B49: Denominational Missions | D49: ='OSCR Receipt & Pay''ts Detail p8'!D64 -> 0 | F49: =SUM(D47:D49) -> 3482
A51: Total Ordinary Payments | F51: =SUM(F37:F49) -> 60762.15
A53: Extraordinary Payments | B53: Refurbishment etc | D53: ='OSCR Receipt & Pay''ts Detail p8'!D69 -> 4727 | F53: =SUM(D53:D53) -> 4727
A54: Mission | B54: Other charities | D54: ='OSCR Receipt & Pay''ts Detail p8'!D71 -> 2005 | F54: =SUM(D54:D54) -> 2005
A56: Total Extraordinary Payments | F56: =SUM(F53:F55) -> 6732
A59: TOTAL PAYMENTS | B59: carried down to summary | F59: B | G59: =F51+F56 -> 67494.15
A61: GENERAL FUND - Summary:
A63: TOTAL RECEIPTS | B63: brought down | F63: A | G63: =G33 -> 94085.81
A64: (Less) TOTAL PAYMENTS | B64: brought down | F64: B | G64: =G59 -> 67494.15
...

Sheet UF Fin Return Sht 2 (All Funds)
A1: ='UF Fin Return Sht 1 (Gen Fund)'!A1 -> Corstorphine Community Church
A2: Financial Schedule 2025
A4: Statement of All Congregation Fund Balances (excluding funds belonging to organisations) | K4: Section 2
A6: Fund Name* | B6: Nature | C6: Balance | E6: Receipts | G6: Payments | I6: Transfers** | K6: Balance
A7: e.g General etc | B7: of Fund ** | C7: at Beg. Yr. | I7: to/from Fund | K7: at End Yr.
C8: £ | E8: £ | G8: £ | I8: £ | K8: £
A9: ='OSCR Statement of Balances p7'!A9 -> General | B9: ='OSCR Statement of Balances p7'!B9 -> Unrestricted | C9: ='OSCR Statement of Balances p7'!C9 -> 25985.68 | E9: ='OSCR Statement of Balances p7'!E9 -> 94085.58 | G9: ='OSCR Statement of Balances p7'!G9 -> 68394.15 | I9: ='OSCR Statement of Balances p7'!K9 -> 7678.45 | K9: =SUM(C9+E9-G9+I9) -> 59355.56
A10: ='OSCR Statement of Balances p7'!A12 -> Reserve | B10: ='OSCR Statement of Balances p7'!B12 -> Restricted | C10: ='OSCR Statement of Balances p7'!C12 -> 22000 | E10: ='OSCR Statement of Balances p7'!E12 -> 0 | G10: ='OSCR Statement of Balances p7'!G12 -> 0 | I10: ='OSCR Statement of Balances p7'!K12 -> 0 | K10: =SUM(C10+E10-G10+I10) -> 22000
A11: ='OSCR Statement of Balances p7'!A15 -> Flower Fund | B11: ='OSCR Statement of Balances p7'!B15 -> Restricted | C11: ='OSCR Statement of Balances p7'!C15 -> 276.67 | E11: ='OSCR Statement of Balances p7'!E15 -> 40 | G11: ='OSCR Statement of Balances p7'!G15 -> 24.5 | I11: ='OSCR Statement of Balances p7'!K15 -> 0 | K11: =SUM(C11+E11-G11+I11) -> 292.17
A12: ='OSCR Statement of Balances p7'!A18 -> Youth | B12: ='OSCR Statement of Balances p7'!B18 -> Designated | C12: ='OSCR Statement of Balances p7'!C18 -> 0 | E12: ='OSCR Statement of Balances p7'!E18 -> 0 | G12: ='OSCR Statement of Balances p7'!G18 -> 0 | I12: ='OSCR Statement of Balances p7'!K18 -> 0 | K12: =SUM(C12+E12-G12+I12) -> 0
A13: ='OSCR Statement of Balances p7'!A21 -> Manse | B13: ='OSCR Statement of Balances p7'!B21 -> Restricted | C13: ='OSCR Statement of Balances p7'!C21 -> 0 | E13: ='OSCR Statement of Balances p7'!E21 -> 0 | G13: ='OSCR Statement of Balances p7'!G21 -> 0 | I13: ='OSCR Statement of Balances p7'!K21 -> 0 | K13: =SUM(C13+E13-G13+I13) -> 0
A14: Total Funds at year end | C14: =SUM(C9:C13) -> 48262.35 | E14: =SUM(E9:E13) -> 94125.58 | G14: =SUM(G9:G13) -> 68418.65 | I14: =SUM(I9:I13) -> 7678.45 | K14: =SUM(K9:K13) -> 81647.73
A15: * Fund Name - amend as appropriate | I15: ** Net transfers
A16: ** Nature of Fund - specify whether Unrestricted, Designated or Restricted
A18: Payments to Missions, Assembly Schemes and Charities | K18: Section 3
A19: Name of Mission, Fund,Charity | K19: £
K20: 0
K21: 0
K22: 0
K23: 0
K24: 0
K25: 0
K26: 0
K27: 0
K28: 0
K29: 0
A30: Total Payments | K30: =SUM(K20:K29) -> 0
A33: Title Deeds held by: | B33: Church | K33: Section 4
B34: Manse
A37: Schedule signed:
A38: Minister/Interim Moderator
A40: Congregational Treasurer
A43: Please return Schedule, ideally with a signed audited copy of the Congregational Report and Accounts, by Friday 27th February 2026.
A45: One copy to Church Office, one copy to Presbytery Clerk and one copy to be retained for your records.
A47: If a signed audited copy of the Congregational Report and Accounts is not available before 27th February 2026, please send as soon as possible thereafter,

Sheet Office Use
F1: Ordinary Income 01/01/25 to 31/12/25 | K1: Ordinary | L1: Surplus/ | N1: Extraordinary & Missions | Q1: Other Funds | S1: TOTAL | V1: Ord & Ext | X1: Column AQ | Z1: Column AT | AA1: Column AQ | AB1: Column AU
B2: Post code | F2: Offerings | G2: Donations | H2: Other | I2: Fund Raising | J2: Total | K2: Expenditure | L2: Deficit | N2: Income | O2: Expenditure | P2: Net | Q2: Income | R2: Expenditure | S2: All Income | T2: All Expenditure | V2: Net | X2: Payments to Missions etc | Z2: Total All Funds 24 | AA2: Total All Funds 25 | AB2: Total All Funds 25 Check (should match Column AA)
B3: ='UF Fin Return Sht 1 (Gen Fund)'!A1 -> Corstorphine Community Church | F3: ='UF Fin Return Sht 1 (Gen Fund)'!F11 -> 42508.51 | G3: ='UF Fin Return Sht 1 (Gen Fund)'!F14 -> 4065 | H3: ='UF Fin Return Sht 1 (Gen Fund)'!F19 -> 47512.3 | I3: ='UF Fin Return Sht 1 (Gen Fund)'!F21 -> 0 | J3: =SUM(F3:I3) -> 94085.81 | K3: ='UF Fin Return Sht 1 (Gen Fund)'!F51 -> 60762.15 | L3: =SUM(J3-K3) -> 33323.66 | N3: ='UF Fin Return Sht 1 (Gen Fund)'!F29+'UF Fin Return Sht 1 (Gen Fund)'!F31 -> 0 | O3: ='UF Fin Return Sht 1 (Gen Fund)'!F56 -> 6732 | P3: =SUM(N3-O3) -> -6732 | Q3: ='UF Fin Return Sht 2 (All Funds)'!E14-'UF Fin Return Sht 2 (All Funds)'!E9 -> 40 | R3: ='UF Fin Return Sht 2 (All Funds)'!G14-'UF Fin Return Sht 2 (All Funds)'!G9 -> 24.5 | S3: =J3+N3+Q3 -> 94125.81 | T3: =K3+O3+R3 -> 67518.65 | V3: =SUM(L3+P3) -> 26591.66 | X3: ='OSCR Receipt & Pay''ts Detail p8'!N64+'OSCR Receipt & Pay''ts Detail p8'!N71 -> 2005 | Z3: ='UF Fin Return Sht 2 (All Funds)'!C14 -> 48262.35 | AA3: ='UF Fin Return Sht 2 (All Funds)'!K14 -> 81647.73 | AB3: =Z3+S3-T3 -> 74869.51
B5: Notes:
B6: "Offerings" include FWO, Ordinary Offerings, Covenanted Giving and Tax Recovered, Gift Aid Donations, other donations and sums raised for Target
B7: "Other Ordinary Income" includes Contributions from Organisations, Investment Income and Interest, Stedfast Payments and Proceeds of Fund Raising Events.
B8: "Fund Raising" shows Net Income of Fund Raising Events.
B10: "Ordinary Expenditure" includes all Ministry costs, other salaries, Property costs, other working expenses, contributions to Target.
B12: "Extraordinary" includes all extraordinary items including grants, transfers from other funds and receipts/payments to missions etc..
B14: "General Fund" shows balance in General Fund at 31.12.23
B15: "All Funds" shows balance in all funds (including General) at 31.12.23
B17: "Payments to Missions" includes contributions to Missions, Charities and Assembly Schemes other than Target.
B19: "Average Weekly Offering" shows the average weekly offering per member.
