Workbook

Sheet Instructions
A1: THE MARK WILLIAMS FOUNDATION – SCIO FULLY ACCRUED ACCOUNTS WORKBOOK
A3: Workbook purpose | B3: Preparation of fully accrued annual accounts for a Scottish Charitable Incorporated Organisation (SCIO). Trustees’ Annual Report and external scrutiny report are outside this workbook.
A4: Charity | B4: The Mark Williams Foundation
A5: Constitutional form | B5: Scottish Charitable Incorporated Organisation (SCIO)
A6: Period | B6: 21 July 2025 to 31 March 2026
A7: Accounting framework | B7: Charities SORP (FRS 102), second edition 2019, because the accounting period began before 1 January 2026.
A8: Scottish legal basis | B8: Charities and Trustee Investment (Scotland) Act 2005 and the Charities Accounts (Scotland) Regulations 2006 (as amended).
A10: Authoritative sources | B10: URL
A11: OSCR – Fully accrued accounts | B11: https://www.oscr.org.uk/managing-a-charity/charity-accounting/fully-accrued-accounts/
A12: OSCR – Preparing fully accrued accounts | B12: https://www.oscr.org.uk/managing-a-charity/charity-accounting/fully-accrued-accounts/2-preparing-fully-accrued-accounts/
A13: Charities SORP – applicable editions | B13: https://www.charitysorp.org/download-a-full-sorp
A14: Scottish legislation – 2006 Accounts Regulations | B14: https://www.legislation.gov.uk/ssi/2006/218/contents

Sheet Trial Balance
A1: TRIAL BALANCE INPUT – XERO EXPORT
A3: Account Code | B3: Account | C3: Account Type | D3: Debit (£) | E3: Credit (£) | F3: Net Debit / (Credit) (£) | G3: Review
A4: 101 | B4: Cash Donations | C4: Revenue | E4: 6382 | F4: =IF(D4>0,D4,-E4) -> -6382
A5: 102 | B5: Donations – Unrestricted | C5: Revenue | E5: 97951.71 | F5: =IF(D5>0,D5,-E5) -> -97951.71
A6: 200 | B6: Fundraising Events Income | C6: Revenue | E6: 63000 | F6: =IF(D6>0,D6,-E6) -> -63000
A7: 270 | B7: Bank Interest Income | C7: Revenue | E7: 76.36 | F7: =IF(D7>0,D7,-E7) -> -76.36
A8: 311 | B8: Fundraising Events - Cost | C8: Direct Costs | D8: 60522.39 | F8: =IF(D8>0,D8,-E8) -> 60522.39
A9: 324 | B9: Entrepreneur Apprenticeship | C9: Direct Costs | D9: 240 | F9: =IF(D9>0,D9,-E9) -> 240
A10: 326 | B10: Father Support Initiative | C10: Direct Costs | D10: 1876.97 | F10: =IF(D10>0,D10,-E10) -> 1876.97
A11: 400 | B11: Wages and Salaries | C11: Overhead | D11: 19080.95 | F11: =IF(D11>0,D11,-E11) -> 19080.95
A12: 426 | B12: Computing Costs | C12: Overhead | D12: 193.97 | F12: =IF(D12>0,D12,-E12) -> 193.97
A13: 431 | B13: Printing & Stationery | C13: Overhead | D13: 14.4 | F13: =IF(D13>0,D13,-E13) -> 14.4
A14: 440 | B14: Advertising & Marketing | C14: Overhead | D14: 2739.83 | F14: =IF(D14>0,D14,-E14) -> 2739.83
A15: 445 | B15: Travel & Subsistence | C15: Overhead | D15: 37.04 | F15: =IF(D15>0,D15,-E15) -> 37.04
A16: 454 | B16: Business Insurance | C16: Overhead | D16: 649.2 | F16: =IF(D16>0,D16,-E16) -> 649.2
A17: 461 | B17: Subscriptions | C17: Overhead | D17: 565.59 | F17: =IF(D17>0,D17,-E17) -> 565.59
A18: 462 | B18: Sundry Expenses | C18: Overhead | D18: 299.31 | F18: =IF(D18>0,D18,-E18) -> 299.31
A19: 472 | B19: Legal & Professional Fees | C19: Overhead | D19: 3550 | F19: =IF(D19>0,D19,-E19) -> 3550
... A21: 503 | B21: Stripe Fees | C21: Expense | D21: 38.2 | F21: =IF(D21>0,D21,-E21) -> 38.2
B22: The Mark Williams Foundation Business Account | C22: Bank | D22: 83849.56 | F22: =IF(D22>0,D22,-E22) -> 83849.56
A23: 800 | B23: Accounts Payable | C23: Current Liability | E23: 7321.43 | F23: =IF(D23>0,D23,-E23) -> -7321.43
A24: 805 | B24: Accruals | C24: Current Liability | E24: 3507.15 | F24: =IF(D24>0,D24,-E24) -> -3507.15
A25: 820 | B25: VAT | C25: Current Liability | D25: 4545.24 | F25: =IF(D25>0,D25,-E25) -> 4545.24
A26: TOTAL / CONTROL | D26: =SUM(D4:D25) -> 178238.65 | E26: =SUM(E4:E25) -> 178238.65 | F26: =D26-E26 -> 0

Sheet Mapping
A1: NOMINAL MAPPING – REVIEW RESTRICTED/UNRESTRICTED STATUS
A3: Account Code | B3: Account | C3: Statement | D3: SOFA / BS category | E3: Fund | F3: Note category | G3: Sign convention | H3: Mapped amount (£) | I3: Review status | J3: Comment
A4: 101 | B4: Cash Donations | C4: SOFA | D4: Donations and legacies | E4: Unrestricted | F4: Donations | G4: Credit positive | H4: =IF(G4="Credit positive",SUMIFS('Trial Balance'!$E$4:$E$25,'Trial Balance'!$A$4:$A$25,A4)+IF(A4="",SUMIFS('Trial Balance'!$E$4:$E$25,'Trial Balance'!$B$4:$B$25,B4),0),SUMIFS('Trial Balance'!$D$4:$D$25,'Trial Balance'!$A$4:$A$25,A4)+IF(A4="",SUMIFS('Trial Balance'!$D$4:$D$25,'Trial Balance'!$B$4:$B$25,B4),0)) -> 6382 | I4: OK
A5: 102 | B5: Donations – Unrestricted | C5: SOFA | D5: Donations and legacies | E5: Unrestricted | F5: Donations | G5: Credit positive | H5: =IF(G5="Credit positive",SUMIFS('Trial Balance'!$E$4:$E$25,'Trial Balance'!$A$4:$A$25,A5)+IF(A5="",SUMIFS('Trial Balance'!$E$4:$E$25,'Trial Balance'!$B$4:$B$25,B5),0),SUMIFS('Trial Balance'!$D$4:$D$25,'Trial Balance'!$A$4:$A$25,A5)+IF(A5="",SUMIFS('Trial Balance'!$D$4:$D$25,'Trial Balance'!$B$4:$B$25,B5),0)) -> 97951.71 | I5: OK
A6: 200 | B6: Fundraising Events Income | C6: SOFA | D6: Other trading activities | E6: Unrestricted | F6: Fundraising income | G6: Credit positive | H6: =IF(G6="Credit positive",SUMIFS('Trial Balance'!$E$4:$E$25,'Trial Balance'!$A$4:$A$25,A6)+IF(A6="",SUMIFS('Trial Balance'!$E$4:$E$25,'Trial Balance'!$B$4:$B$25,B6),0),SUMIFS('Trial Balance'!$D$4:$D$25,'Trial Balance'!$A$4:$A$25,A6)+IF(A6="",SUMIFS('Trial Balance'!$D$4:$D$25,'Trial Balance'!$B$4:$B$25,B6),0)) -> 63000 | I6: OK
A7: 270 | B7: Bank Interest Income | C7: SOFA | D7: Investments | E7: Unrestricted | F7: Investment income | G7: Credit positive | H7: =IF(G7="Credit positive",SUMIFS('Trial Balance'!$E$4:$E$25,'Trial Balance'!$A$4:$A$25,A7)+IF(A7="",SUMIFS('Trial Balance'!$E$4:$E$25,'Trial Balance'!$B$4:$B$25,B7),0),SUMIFS('Trial Balance'!$D$4:$D$25,'Trial Balance'!$A$4:$A$25,A7)+IF(A7="",SUMIFS('Trial Balance'!$D$4:$D$25,'Trial Balance'!$B$4:$B$25,B7),0)) -> 76.36 | I7: OK
A8: 311 | B8: Charitable Events - Cost | C8: SOFA | D8: Raising funds | E8: Unrestricted | F8: Fundraising costs | G8: Debit positive | H8: =IF(G8="Credit positive",SUMIFS('Trial Balance'!$E$4:$E$25,'Trial Balance'!$A$4:$A$25,A8)+IF(A8="",SUMIFS('Trial Balance'!$E$4:$E$25,'Trial Balance'!$B$4:$B$25,B8),0),SUMIFS('Trial Balance'!$D$4:$D$25,'Trial Balance'!$A$4:$A$25,A8)+IF(A8="",SUMIFS('Trial Balance'!$D$4:$D$25,'Trial Balance'!$B$4:$B$25,B8),0)) -> 60522.39 | I8: OK
A9: 324 | B9: Entrepreneur Apprenticeship | C9: SOFA | D9: Charitable activities | E9: Unrestricted | F9: Programme costs | G9: Debit positive | H9: =IF(G9="Credit positive",SUMIFS('Trial Balance'!$E$4:$E$25,'Trial Balance'!$A$4:$A$25,A9)+IF(A9="",SUMIFS('Trial Balance'!$E$4:$E$25,'Trial Balance'!$B$4:$B$25,B9),0),SUMIFS('Trial Balance'!$D$4:$D$25,'Trial Balance'!$A$4:$A$25,A9)+IF(A9="",SUMIFS('Trial Balance'!$D$4:$D$25,'Trial Balance'!$B$4:$B$25,B9),0)) -> 240 | I9: OK
A10: 326 | B10: Father Support Initiative | C10: SOFA | D10: Charitable activities | E10: Unrestricted | F10: Programme costs | G10: Debit positive | H10: =IF(G10="Credit positive",SUMIFS('Trial Balance'!$E$4:$E$25,'Trial Balance'!$A$4:$A$25,A10)+IF(A10="",SUMIFS('Trial Balance'!$E$4:$E$25,'Trial Balance'!$B$4:$B$25,B10),0),SUMIFS('Trial Balance'!$D$4:$D$25,'Trial Balance'!$A$4:$A$25,A10)+IF(A10="",SUMIFS('Trial Balance'!$D$4:$D$25,'Trial Balance'!$B$4:$B$25,B10),0)) -> 1876.97 | I10: OK
A11: 400 | B11: Wages and Salaries | C11: SOFA | D11: Charitable activities | E11: Unrestricted | F11: Staff costs | G11: Debit positive | H11: =IF(G11="Credit positive",SUMIFS('Trial Balance'!$E$4:$E$25,'Trial Balance'!$A$4:$A$25,A11)+IF(A11="",SUMIFS('Trial Balance'!$E$4:$E$25,'Trial Balance'!$B$4:$B$25,B11),0),SUMIFS('Trial Balance'!$D$4:$D$25,'Trial Balance'!$A$4:$A$25,A11)+IF(A11="",SUMIFS('Trial Balance'!$D$4:$D$25,'Trial Balance'!$B$4:$B$25,B11),0)) -> 19080.95 | I11: OK
A12: 426 | B12: Computing Costs | C12: SOFA | D12: Charitable activities | E12: Unrestricted | F12: Support costs | G12: Debit positive | H12: =IF(G12="Credit positive",SUMIFS('Trial Balance'!$E$4:$E$25,'Trial Balance'!$A$4:$A$25,A12)+IF(A12="",SUMIFS('Trial Balance'!$E$4:$E$25,'Trial Balance'!$B$4:$B$25,B12),0),SUMIFS('Trial Balance'!$D$4:$D$25,'Trial Balance'!$A$4:$A$25,A12)+IF(A12="",SUMIFS('Trial Balance'!$D$4:$D$25,'Trial Balance'!$B$4:$B$25,B12),0)) -> 193.97 | I12: OK
A13: 431 | B13: Printing & Stationery | C13: SOFA | D13: Charitable activities | E13: Unrestricted | F13: Support costs | G13: Debit positive | H13: =IF(G13="Credit positive",SUMIFS('Trial Balance'!$E$4:$E$25,'Trial Balance'!$A$4:$A$25,A13)+IF(A13="",SUMIFS('Trial Balance'!$E$4:$E$25,'Trial Balance'!$B$4:$B$25,B13),0),SUMIFS('Trial Balance'!$D$4:$D$25,'Trial Balance'!$A$4:$A$25,A13)+IF(A13="",SUMIFS('Trial Balance'!$D$4:$D$25,'Trial Balance'!$B$4:$B$25,B13),0)) -> 14.4 | I13: OK
A14: 440 | B14: Advertising & Marketing | C14: SOFA | D14: Charitable activities | E14: Unrestricted | F14: Support costs | G14: Debit positive | H14: =IF(G14="Credit positive",SUMIFS('Trial Balance'!$E$4:$E$25,'Trial Balance'!$A$4:$A$25,A14)+IF(A14="",SUMIFS('Trial Balance'!$E$4:$E$25,'Trial Balance'!$B$4:$B$25,B14),0),SUMIFS('Trial Balance'!$D$4:$D$25,'Trial Balance'!$A$4:$A$25,A14)+IF(A14="",SUMIFS('Trial Balance'!$D$4:$D$25,'Trial Balance'!$B$4:$B$25,B14),0)) -> 2739.83 | I14: OK
A15: 445 | B15: Travel & Subsistence | C15: SOFA | D15: Charitable activities | E15: Unrestricted | F15: Support costs | G15: Debit positive | H15: =IF(G15="Credit positive",SUMIFS('Trial Balance'!$E$4:$E$25,'Trial Balance'!$A$4:$A$25,A15)+IF(A15="",SUMIFS('Trial Balance'!$E$4:$E$25,'Trial Balance'!$B$4:$B$25,B15),0),SUMIFS('Trial Balance'!$D$4:$D$25,'Trial Balance'!$A$4:$A$25,A15)+IF(A15="",SUMIFS('Trial Balance'!$D$4:$D$25,'Trial Balance'!$B$4:$B$25,B15),0)) -> 37.04 | I15: OK
... A21: 503 | B21: Stripe Fees | C21: SOFA | D21: Raising funds | E21: Unrestricted | F21: Fundraising costs | G21: Debit positive | H21: =IF(G21="Credit positive",SUMIFS('Trial Balance'!$E$4:$E$25,'Trial Balance'!$A$4:$A$25,A21)+IF(A21="",SUMIFS('Trial Balance'!$E$4:$E$25,'Trial Balance'!$B$4:$B$25,B21),0),SUMIFS('Trial Balance'!$D$4:$D$25,'Trial Balance'!$A$4:$A$25,A21)+IF(A21="",SUMIFS('Trial Balance'!$D$4:$D$25,'Trial Balance'!$B$4:$B$25,B21),0)) -> 38.2 | I21: OK
B22: The Mark Williams Foundation Business Account | C22: Balance Sheet | D22: Cash at bank and in hand | E22: Unrestricted | F22: Cash | G22: Debit positive | H22: =IF(G22="Credit positive",SUMIFS('Trial Balance'!$E$4:$E$25,'Trial Balance'!$A$4:$A$25,A22)+IF(A22="",SUMIFS('Trial Balance'!$E$4:$E$25,'Trial Balance'!$B$4:$B$25,B22),0),SUMIFS('Trial Balance'!$D$4:$D$25,'Trial Balance'!$A$4:$A$25,A22)+IF(A22="",SUMIFS('Trial Balance'!$D$4:$D$25,'Trial Balance'!$B$4:$B$25,B22),0)) -> 83849.56 | I22: OK
A23: 800 | B23: Accounts Payable | C23: Balance Sheet | D23: Creditors due within one year | E23: Unrestricted | F23: Trade creditors | G23: Credit positive | H23: =IF(G23="Credit positive",SUMIFS('Trial Balance'!$E$4:$E$25,'Trial Balance'!$A$4:$A$25,A23)+IF(A23="",SUMIFS('Trial Balance'!$E$4:$E$25,'Trial Balance'!$B$4:$B$25,B23),0),SUMIFS('Trial Balance'!$D$4:$D$25,'Trial Balance'!$A$4:$A$25,A23)+IF(A23="",SUMIFS('Trial Balance'!$D$4:$D$25,'Trial Balance'!$B$4:$B$25,B23),0)) -> 7321.43 | I23: OK
A24: 805 | B24: Accruals | C24: Balance Sheet | D24: Creditors due within one year | E24: Unrestricted | F24: Accruals | G24: Credit positive | H24: =IF(G24="Credit positive",SUMIFS('Trial Balance'!$E$4:$E$25,'Trial Balance'!$A$4:$A$25,A24)+IF(A24="",SUMIFS('Trial Balance'!$E$4:$E$25,'Trial Balance'!$B$4:$B$25,B24),0),SUMIFS('Trial Balance'!$D$4:$D$25,'Trial Balance'!$A$4:$A$25,A24)+IF(A24="",SUMIFS('Trial Balance'!$D$4:$D$25,'Trial Balance'!$B$4:$B$25,B24),0)) -> 3507.15 | I24: OK
A25: 820 | B25: VAT | C25: Balance Sheet | D25: Debtors | E25: Unrestricted | F25: VAT recoverable | G25: Debit positive | H25: =IF(G25="Credit positive",SUMIFS('Trial Balance'!$E$4:$E$25,'Trial Balance'!$A$4:$A$25,A25)+IF(A25="",SUMIFS('Trial Balance'!$E$4:$E$25,'Trial Balance'!$B$4:$B$25,B25),0),SUMIFS('Trial Balance'!$D$4:$D$25,'Trial Balance'!$A$4:$A$25,A25)+IF(A25="",SUMIFS('Trial Balance'!$D$4:$D$25,'Trial Balance'!$B$4:$B$25,B25),0)) -> 4545.24 | I25: OK

Sheet SOFA
A1: THE MARK WILLIAMS FOUNDATION
A2: STATEMENT OF FINANCIAL ACTIVITIES
A3: FOR THE PERIOD 21 JULY 2025 TO 31 MARCH 2026
B5: Note | C5: Unrestricted funds (£) | D5: Restricted funds (£) | E5: Total (£) | F5: Prior period (£)
A6: Income and endowments from:
A7: Donations and legacies | B7: 3 | C7: =SUMIFS(Mapping!$H$4:$H$25,Mapping!$C$4:$C$25,"SOFA",Mapping!$D$4:$D$25,$A7,Mapping!$E$4:$E$25,"Unrestricted",Mapping!$G$4:$G$25,"Credit positive") -> 104333.71 | D7: =SUMIFS(Mapping!$H$4:$H$25,Mapping!$C$4:$C$25,"SOFA",Mapping!$D$4:$D$25,$A7,Mapping!$E$4:$E$25,"Restricted",Mapping!$G$4:$G$25,"Credit positive") -> 0 | E7: =SUM(C7:D7) -> 104333.71 | F7: 0
A8: Charitable activities | B8: 3 | C8: =SUMIFS(Mapping!$H$4:$H$25,Mapping!$C$4:$C$25,"SOFA",Mapping!$D$4:$D$25,$A8,Mapping!$E$4:$E$25,"Unrestricted",Mapping!$G$4:$G$25,"Credit positive") -> 0 | D8: =SUMIFS(Mapping!$H$4:$H$25,Mapping!$C$4:$C$25,"SOFA",Mapping!$D$4:$D$25,$A8,Mapping!$E$4:$E$25,"Restricted",Mapping!$G$4:$G$25,"Credit positive") -> 0 | E8: =SUM(C8:D8) -> 0 | F8: 0
A9: Other trading activities | B9: 3 | C9: =SUMIFS(Mapping!$H$4:$H$25,Mapping!$C$4:$C$25,"SOFA",Mapping!$D$4:$D$25,$A9,Mapping!$E$4:$E$25,"Unrestricted",Mapping!$G$4:$G$25,"Credit positive") -> 63000 | D9: =SUMIFS(Mapping!$H$4:$H$25,Mapping!$C$4:$C$25,"SOFA",Mapping!$D$4:$D$25,$A9,Mapping!$E$4:$E$25,"Restricted",Mapping!$G$4:$G$25,"Credit positive") -> 0 | E9: =SUM(C9:D9) -> 63000 | F9: 0
A10: Investments | B10: 3 | C10: =SUMIFS(Mapping!$H$4:$H$25,Mapping!$C$4:$C$25,"SOFA",Mapping!$D$4:$D$25,$A10,Mapping!$E$4:$E$25,"Unrestricted",Mapping!$G$4:$G$25,"Credit positive") -> 76.36 | D10: =SUMIFS(Mapping!$H$4:$H$25,Mapping!$C$4:$C$25,"SOFA",Mapping!$D$4:$D$25,$A10,Mapping!$E$4:$E$25,"Restricted",Mapping!$G$4:$G$25,"Credit positive") -> 0 | E10: =SUM(C10:D10) -> 76.36 | F10: 0
A11: Other income | B11: 3 | C11: =SUMIFS(Mapping!$H$4:$H$25,Mapping!$C$4:$C$25,"SOFA",Mapping!$D$4:$D$25,$A11,Mapping!$E$4:$E$25,"Unrestricted",Mapping!$G$4:$G$25,"Credit positive") -> 0 | D11: =SUMIFS(Mapping!$H$4:$H$25,Mapping!$C$4:$C$25,"SOFA",Mapping!$D$4:$D$25,$A11,Mapping!$E$4:$E$25,"Restricted",Mapping!$G$4:$G$25,"Credit positive") -> 0 | E11: =SUM(C11:D11) -> 0 | F11: 0
A12: Total income | C12: =SUM(C7:C11) -> 167410.07 | D12: =SUM(D7:D11) -> 0 | E12: =SUM(E7:E11) -> 167410.07 | F12: 0
A14: Expenditure on:
A15: Raising funds | B15: 4 | C15: =SUMIFS(Mapping!$H$4:$H$25,Mapping!$C$4:$C$25,"SOFA",Mapping!$D$4:$D$25,$A15,Mapping!$E$4:$E$25,"Unrestricted",Mapping!$G$4:$G$25,"Debit positive") -> 60560.59 | D15: =SUMIFS(Mapping!$H$4:$H$25,Mapping!$C$4:$C$25,"SOFA",Mapping!$D$4:$D$25,$A15,Mapping!$E$4:$E$25,"Restricted",Mapping!$G$4:$G$25,"Debit positive") -> 0 | E15: =SUM(C15:D15) -> 60560.59 | F15: 0
A16: Charitable activities | B16: 4 | C16: =SUMIFS(Mapping!$H$4:$H$25,Mapping!$C$4:$C$25,"SOFA",Mapping!$D$4:$D$25,$A16,Mapping!$E$4:$E$25,"Unrestricted",Mapping!$G$4:$G$25,"Debit positive") -> 29283.26 | D16: =SUMIFS(Mapping!$H$4:$H$25,Mapping!$C$4:$C$25,"SOFA",Mapping!$D$4:$D$25,$A16,Mapping!$E$4:$E$25,"Restricted",Mapping!$G$4:$G$25,"Debit positive") -> 0 | E16: =SUM(C16:D16) -> 29283.26 | F16: 0
A17: Other expenditure | B17: 4 | C17: =SUMIFS(Mapping!$H$4:$H$25,Mapping!$C$4:$C$25,"SOFA",Mapping!$D$4:$D$25,$A17,Mapping!$E$4:$E$25,"Unrestricted",Mapping!$G$4:$G$25,"Debit positive") -> 0 | D17: =SUMIFS(Mapping!$H$4:$H$25,Mapping!$C$4:$C$25,"SOFA",Mapping!$D$4:$D$25,$A17,Mapping!$E$4:$E$25,"Restricted",Mapping!$G$4:$G$25,"Debit positive") -> 0 | E17: =SUM(C17:D17) -> 0 | F17: 0
A18: Total expenditure | C18: =SUM(C15:C17) -> 89843.85 | D18: =SUM(D15:D17) -> 0 | E18: =SUM(E15:E17) -> 89843.85 | F18: 0
A20: Net income / (expenditure) | C20: =C12-C18 -> 77566.22 | D20: =D12-D18 -> 0 | E20: =E12-E18 -> 77566.22 | F20: =F12-F18 -> 0
A21: Transfers between funds | C21: 0 | D21: 0 | E21: 0 | F21: 0
A22: Net movement in funds | C22: =C20+C21 -> 77566.22 | D22: =D20+D21 -> 0 | E22: =E20+E21 -> 77566.22 | F22: =F20+F21 -> 0
A24: Reconciliation of funds:
A25: Funds brought forward | C25: 0 | D25: 0 | E25: 0 | F25: 0
A26: Funds carried forward | C26: =C25+C22 -> 77566.22 | D26: =D25+D22 -> 0 | E26: =E25+E22 -> 77566.22 | F26: =F25+F22 -> 0

Sheet Balance Sheet
A1: THE MARK WILLIAMS FOUNDATION
A2: BALANCE SHEET
A3: AS AT 31 MARCH 2026
B5: Note | C5: Unrestricted funds (£) | D5: Restricted funds (£) | E5: Total (£) | F5: Prior period (£)
A6: Fixed assets
A7: Tangible fixed assets | B7: 6 | C7: =SUMIFS(Mapping!$H$4:$H$25,Mapping!$C$4:$C$25,"Balance Sheet",Mapping!$D$4:$D$25,"Tangible fixed assets",Mapping!$E$4:$E$25,"Unrestricted") -> 0 | D7: =SUMIFS(Mapping!$H$4:$H$25,Mapping!$C$4:$C$25,"Balance Sheet",Mapping!$D$4:$D$25,"Tangible fixed assets",Mapping!$E$4:$E$25,"Restricted") -> 0 | E7: =SUM(C7:D7) -> 0 | F7: 0
A8: Total fixed assets | C8: =C7 -> 0 | D8: =D7 -> 0 | E8: =E7 -> 0 | F8: =F7 -> 0
A10: Current assets
A11: Debtors | B11: 7 | C11: =SUMIFS(Mapping!$H$4:$H$25,Mapping!$C$4:$C$25,"Balance Sheet",Mapping!$D$4:$D$25,"Debtors",Mapping!$E$4:$E$25,"Unrestricted") -> 4545.24 | D11: =SUMIFS(Mapping!$H$4:$H$25,Mapping!$C$4:$C$25,"Balance Sheet",Mapping!$D$4:$D$25,"Debtors",Mapping!$E$4:$E$25,"Restricted") -> 0 | E11: =SUM(C11:D11) -> 4545.24 | F11: 0
A12: Cash at bank and in hand | B12: 8 | C12: =SUMIFS(Mapping!$H$4:$H$25,Mapping!$C$4:$C$25,"Balance Sheet",Mapping!$D$4:$D$25,"Cash at bank and in hand",Mapping!$E$4:$E$25,"Unrestricted") -> 83849.56 | D12: =SUMIFS(Mapping!$H$4:$H$25,Mapping!$C$4:$C$25,"Balance Sheet",Mapping!$D$4:$D$25,"Cash at bank and in hand",Mapping!$E$4:$E$25,"Restricted") -> 0 | E12: =SUM(C12:D12) -> 83849.56 | F12: 0
A13: Total current assets | C13: =SUM(C11:C12) -> 88394.8 | D13: =SUM(D11:D12) -> 0 | E13: =SUM(E11:E12) -> 88394.8 | F13: =SUM(F11:F12) -> 0
A15: Creditors: amounts falling due within one year | B15: 9 | C15: =SUMIFS(Mapping!$H$4:$H$25,Mapping!$C$4:$C$25,"Balance Sheet",Mapping!$D$4:$D$25,"Creditors due within one year",Mapping!$E$4:$E$25,"Unrestricted") -> 10828.58 | D15: =SUMIFS(Mapping!$H$4:$H$25,Mapping!$C$4:$C$25,"Balance Sheet",Mapping!$D$4:$D$25,"Creditors due within one year",Mapping!$E$4:$E$25,"Restricted") -> 0 | E15: =SUM(C15:D15) -> 10828.58 | F15: 0
A16: Net current assets | C16: =C13-C15 -> 77566.22 | D16: =D13-D15 -> 0 | E16: =E13-E15 -> 77566.22 | F16: =F13-F15 -> 0
A17: Total assets less current liabilities | C17: =C8+C16 -> 77566.22 | D17: =D8+D16 -> 0 | E17: =E8+E16 -> 77566.22 | F17: =F8+F16 -> 0
A18: Creditors: amounts falling due after more than one year | B18: 9 | C18: =SUMIFS(Mapping!$H$4:$H$25,Mapping!$C$4:$C$25,"Balance Sheet",Mapping!$D$4:$D$25,"Creditors due after more than one year",Mapping!$E$4:$E$25,"Unrestricted") -> 0 | D18: =SUMIFS(Mapping!$H$4:$H$25,Mapping!$C$4:$C$25,"Balance Sheet",Mapping!$D$4:$D$25,"Creditors due after more than one year",Mapping!$E$4:$E$25,"Restricted") -> 0 | E18: =SUM(C18:D18) -> 0 | F18: 0
A19: Net assets | C19: =C17-C18 -> 77566.22 | D19: =D17-D18 -> 0 | E19: =E17-E18 -> 77566.22 | F19: =F17-F18 -> 0
A21: Funds of the charity
A22: Unrestricted funds | B22: 10 | C22: =SOFA!C26 -> 77566.22 | D22: =0 -> 0 | E22: =SOFA!C26 -> 77566.22 | F22: =SOFA!F26 -> 0
A23: Restricted funds | B23: 10 | C23: =0 -> 0 | D23: =SOFA!D26 -> 0 | E23: =SOFA!D26 -> 0 | F23: =0 -> 0
A24: Total charity funds | C24: =SUM(C22:C23) -> 77566.22 | D24: =SUM(D22:D23) -> 0 | E24: =SUM(E22:E23) -> 77566.22 | F24: =SUM(F22:F23) -> 0

Sheet Notes
A1: NOTES TO THE FINANCIAL STATEMENTS
A3: 1. Basis of preparation
B4: The financial statements have been prepared under the historical cost convention in accordance with FRS 102, the Charities SORP (FRS 102), second edition 2019, the Charities and Trustee Investment (Scotland) Act 2005 and the Charities Accounts (Scotland) Regulations 2006 (as amended). The charity is a public benefit entity as defined by FRS 102.
B5: The financial statements cover the charity’s first accounting period, from 21 July 2025 to 31 March 2026. Accordingly, no comparative figures are presented.
A6: 2. Accounting policies
A7: Income recognition | B7: Income is recognised when the charity has entitlement to the funds, receipt is probable and the amount can be measured reliably. Donations are recognised when received unless entitlement arose earlier and can be measured reliably.
A8: Expenditure recognition | B8: Expenditure is recognised once there is a legal or constructive obligation, it is probable that settlement will be required and the amount can be measured reliably. Expenditure includes irrecoverable VAT where applicable.
A9: Fund accounting | B9: Unrestricted funds are available for use at the discretion of the charity trustees in furtherance of the charity’s purposes. Restricted funds may only be used for the purposes specified by the donor or grant provider.
A10: Going concern | B10: The charity trustees consider that there are no material uncertainties about the charity’s ability to continue as a going concern for at least twelve months from the date of approval of these financial statements.
A11: VAT | B11: Recoverable VAT is included within debtors. Irrecoverable VAT is charged to the relevant expenditure category.
A12: 3. Income
A13: Donations and legacies | B13: =SOFA!E7 -> 104333.71
A14: Other trading activities | B14: =SOFA!E9 -> 63000
A15: Investment income | B15: =SOFA!E10 -> 76.36
A16: Total income | B16: =SOFA!E12 -> 167410.07
A17: 4. Expenditure
A18: Raising funds | B18: =SOFA!E15 -> 60560.59
A19: Charitable activities | B19: =SOFA!E16 -> 29283.26
A20: Total expenditure | B20: =SOFA!E18 -> 89843.85
A21: 5. Staff and trustees
A22: Staff costs – wages and salaries | B22: =SUMIFS(Mapping!$H$4:$H$25,Mapping!$F$4:$F$25,"Staff costs") -> 19080.95
A23: Average number of employees | B23: 1
A24: Trustee remuneration | B24: No charity trustee received any remuneration for acting as a trustee during the year.
A25: Trustee expenses | B25: 15936.73 | C25: During the year, a trustee paid certain expenses on behalf of the charity before the charity's bank account became operational. These amounts were interest-free and were fully repaid during the financial year.
A26: 6. Tangible fixed assets | B26: No tangible fixed assets are recorded at 31 March 2026.
A27: 7. Debtors
A28: VAT recoverable | B28: =SUMIFS(Mapping!$H$4:$H$25,Mapping!$F$4:$F$25,"VAT recoverable") -> 4545.24 | C28: The charity's VAT registration became effective from 1 May 2025. Although the VAT registration certificate was issued on 2 July 2026, the financial statements reflect the effective registration date determined by HM Revenue & Customs.
A29: 8. Cash at bank and in hand
A30: Business Bank Account | B30: ='Balance Sheet'!E12 -> 83849.56
A31: 9. Creditors
A32: Trade creditors | B32: =SUMIFS(Mapping!$H$4:$H$25,Mapping!$F$4:$F$25,"Trade creditors")-B33 -> 3814.28
A33: Accruals | B33: 3507.15
A34: Total creditors due within one year | B34: ='Balance Sheet'!E15 -> 10828.58
A35: 10. Funds
A36: Unrestricted funds at 31 March 2026 | B36: =SOFA!C26 -> 77566.22
A37: Restricted funds at 31 March 2026 | B37: =SOFA!D26 -> 0
A38: 11. Related party transactions
A39: 12. Commitments and events after the reporting date

Sheet Funds
A1: FUND MOVEMENT SCHEDULE
A3: Fund | B3: Type | C3: Opening balance (£) | D3: Income (£) | E3: Expenditure (£) | F3: Transfers (£) | G3: Closing balance (£)
A4: General Fund | B4: Unrestricted | C4: 0 | D4: =SOFA!C12 -> 167410.07 | E4: =SOFA!C18 -> 89843.85 | F4: =SOFA!C21 -> 0 | G4: =C4+D4-E4+F4 -> 77566.22
A5: Restricted Funds | B5: Restricted | C5: 0 | D5: =SOFA!D12 -> 0 | E5: =SOFA!D18 -> 0 | F5: =SOFA!D21 -> 0 | G5: =C5+D5-E5+F5 -> 0
A7: Total | C7: =SUM(C4:C5) -> 0 | D7: =SUM(D4:D5) -> 167410.07 | E7: =SUM(E4:E5) -> 89843.85 | F7: =SUM(F4:F5) -> 0 | G7: =SUM(G4:G5) -> 77566.22

Sheet Print Pack
A1: THE MARK WILLIAMS FOUNDATION
A2: SCOTTISH CHARITABLE INCORPORATED ORGANISATION
A3: FINANCIAL STATEMENTS FOR THE PERIOD 21 JULY 2025 TO 31 MARCH 2026
A4: Scottish charity number | B4: SC054415
A6: STATEMENT OF FINANCIAL ACTIVITIES
B7: Note | C7: Unrestricted funds (£) | D7: Restricted funds (£) | E7: Total (£) | F7: Prior period (£)
A8: Income and endowments from:
A9: Donations and legacies | B9: 3 | C9: =SUMIFS(Mapping!$H$4:$H$25,Mapping!$C$4:$C$25,"SOFA",Mapping!$D$4:$D$25,$A9,Mapping!$E$4:$E$25,"Unrestricted",Mapping!$G$4:$G$25,"Credit positive") -> 104333.71 | D9: =SUMIFS(Mapping!$H$4:$H$25,Mapping!$C$4:$C$25,"SOFA",Mapping!$D$4:$D$25,$A9,Mapping!$E$4:$E$25,"Restricted",Mapping!$G$4:$G$25,"Credit positive") -> 0 | E9: =SUM(C9:D9) -> 104333.71 | F9: 0
A10: Charitable activities | B10: 3 | C10: =SUMIFS(Mapping!$H$4:$H$25,Mapping!$C$4:$C$25,"SOFA",Mapping!$D$4:$D$25,$A10,Mapping!$E$4:$E$25,"Unrestricted",Mapping!$G$4:$G$25,"Credit positive") -> 0 | D10: =SUMIFS(Mapping!$H$4:$H$25,Mapping!$C$4:$C$25,"SOFA",Mapping!$D$4:$D$25,$A10,Mapping!$E$4:$E$25,"Restricted",Mapping!$G$4:$G$25,"Credit positive") -> 0 | E10: =SUM(C10:D10) -> 0 | F10: 0
A11: Other trading activities | B11: 3 | C11: =SUMIFS(Mapping!$H$4:$H$25,Mapping!$C$4:$C$25,"SOFA",Mapping!$D$4:$D$25,$A11,Mapping!$E$4:$E$25,"Unrestricted",Mapping!$G$4:$G$25,"Credit positive") -> 63000 | D11: =SUMIFS(Mapping!$H$4:$H$25,Mapping!$C$4:$C$25,"SOFA",Mapping!$D$4:$D$25,$A11,Mapping!$E$4:$E$25,"Restricted",Mapping!$G$4:$G$25,"Credit positive") -> 0 | E11: =SUM(C11:D11) -> 63000 | F11: 0
A12: Investments | B12: 3 | C12: =SUMIFS(Mapping!$H$4:$H$25,Mapping!$C$4:$C$25,"SOFA",Mapping!$D$4:$D$25,$A12,Mapping!$E$4:$E$25,"Unrestricted",Mapping!$G$4:$G$25,"Credit positive") -> 76.36 | D12: =SUMIFS(Mapping!$H$4:$H$25,Mapping!$C$4:$C$25,"SOFA",Mapping!$D$4:$D$25,$A12,Mapping!$E$4:$E$25,"Restricted",Mapping!$G$4:$G$25,"Credit positive") -> 0 | E12: =SUM(C12:D12) -> 76.36 | F12: 0
A13: Other income | B13: 3 | C13: =SUMIFS(Mapping!$H$4:$H$25,Mapping!$C$4:$C$25,"SOFA",Mapping!$D$4:$D$25,$A13,Mapping!$E$4:$E$25,"Unrestricted",Mapping!$G$4:$G$25,"Credit positive") -> 0 | D13: =SUMIFS(Mapping!$H$4:$H$25,Mapping!$C$4:$C$25,"SOFA",Mapping!$D$4:$D$25,$A13,Mapping!$E$4:$E$25,"Restricted",Mapping!$G$4:$G$25,"Credit positive") -> 0 | E13: =SUM(C13:D13) -> 0 | F13: 0
A14: Total income | C14: =SUM(C9:C13) -> 167410.07 | D14: =SUM(D9:D13) -> 0 | E14: =SUM(E9:E13) -> 167410.07 | F14: 0
A16: Expenditure on:
A17: Raising funds | B17: 4 | C17: =SUMIFS(Mapping!$H$4:$H$25,Mapping!$C$4:$C$25,"SOFA",Mapping!$D$4:$D$25,$A17,Mapping!$E$4:$E$25,"Unrestricted",Mapping!$G$4:$G$25,"Debit positive") -> 60560.59 | D17: =SUMIFS(Mapping!$H$4:$H$25,Mapping!$C$4:$C$25,"SOFA",Mapping!$D$4:$D$25,$A17,Mapping!$E$4:$E$25,"Restricted",Mapping!$G$4:$G$25,"Debit positive") -> 0 | E17: =SUM(C17:D17) -> 60560.59 | F17: 0
A18: Charitable activities | B18: 4 | C18: =SUMIFS(Mapping!$H$4:$H$25,Mapping!$C$4:$C$25,"SOFA",Mapping!$D$4:$D$25,$A18,Mapping!$E$4:$E$25,"Unrestricted",Mapping!$G$4:$G$25,"Debit positive") -> 29283.26 | D18: =SUMIFS(Mapping!$H$4:$H$25,Mapping!$C$4:$C$25,"SOFA",Mapping!$D$4:$D$25,$A18,Mapping!$E$4:$E$25,"Restricted",Mapping!$G$4:$G$25,"Debit positive") -> 0 | E18: =SUM(C18:D18) -> 29283.26 | F18: 0
A19: Other expenditure | B19: 4 | C19: =SUMIFS(Mapping!$H$4:$H$25,Mapping!$C$4:$C$25,"SOFA",Mapping!$D$4:$D$25,$A19,Mapping!$E$4:$E$25,"Unrestricted",Mapping!$G$4:$G$25,"Debit positive") -> 0 | D19: =SUMIFS(Mapping!$H$4:$H$25,Mapping!$C$4:$C$25,"SOFA",Mapping!$D$4:$D$25,$A19,Mapping!$E$4:$E$25,"Restricted",Mapping!$G$4:$G$25,"Debit positive") -> 0 | E19: =SUM(C19:D19) -> 0 | F19: 0
A20: Total expenditure | C20: =SUM(C17:C19) -> 89843.85 | D20: =SUM(D17:D19) -> 0 | E20: =SUM(E17:E19) -> 89843.85 | F20: 0
A22: Net income / (expenditure) | C22: =C14-C20 -> 77566.22 | D22: =D14-D20 -> 0 | E22: =E14-E20 -> 77566.22 | F22: =F14-F20 -> 0
A23: Transfers between funds | C23: 0 | D23: 0 | E23: 0 | F23: 0
A24: Net movement in funds | C24: =C22+C23 -> 77566.22 | D24: =D22+D23 -> 0 | E24: =E22+E23 -> 77566.22 | F24: =F22+F23 -> 0
A26: Reconciliation of funds:
A27: Funds brought forward | C27: 0 | D27: 0 | E27: 0 | F27: 0
A28: Funds carried forward | C28: =C27+C24 -> 77566.22 | D28: =D27+D24 -> 0 | E28: =E27+E24 -> 77566.22 | F28: =F27+F24 -> 0
A30: BALANCE SHEET AS AT 31 MARCH 2026
B31: Note | C31: Unrestricted funds (£) | D31: Restricted funds (£) | E31: Total (£) | F31: Prior period (£)
A32: Fixed assets
A33: Tangible fixed assets | B33: 6 | C33: =SUMIFS(Mapping!$H$4:$H$25,Mapping!$C$4:$C$25,"Balance Sheet",Mapping!$D$4:$D$25,"Tangible fixed assets",Mapping!$E$4:$E$25,"Unrestricted") -> 0 | D33: =SUMIFS(Mapping!$H$4:$H$25,Mapping!$C$4:$C$25,"Balance Sheet",Mapping!$D$4:$D$25,"Tangible fixed assets",Mapping!$E$4:$E$25,"Restricted") -> 0 | E33: =SUM(C33:D33) -> 0 | F33: 0
A34: Total fixed assets | C34: =C33 -> 0 | D34: =D33 -> 0 | E34: =E33 -> 0 | F34: =F33 -> 0
A36: Current assets
A37: Debtors | B37: 7 | C37: =SUMIFS(Mapping!$H$4:$H$25,Mapping!$C$4:$C$25,"Balance Sheet",Mapping!$D$4:$D$25,"Debtors",Mapping!$E$4:$E$25,"Unrestricted") -> 4545.24 | D37: =SUMIFS(Mapping!$H$4:$H$25,Mapping!$C$4:$C$25,"Balance Sheet",Mapping!$D$4:$D$25,"Debtors",Mapping!$E$4:$E$25,"Restricted") -> 0 | E37: =SUM(C37:D37) -> 4545.24 | F37: 0
A38: Cash at bank and in hand | B38: 8 | C38: =SUMIFS(Mapping!$H$4:$H$25,Mapping!$C$4:$C$25,"Balance Sheet",Mapping!$D$4:$D$25,"Cash at bank and in hand",Mapping!$E$4:$E$25,"Unrestricted") -> 83849.56 | D38: =SUMIFS(Mapping!$H$4:$H$25,Mapping!$C$4:$C$25,"Balance Sheet",Mapping!$D$4:$D$25,"Cash at bank and in hand",Mapping!$E$4:$E$25,"Restricted") -> 0 | E38: =SUM(C38:D38) -> 83849.56 | F38: 0
A39: Total current assets | C39: =SUM(C37:C38) -> 88394.8 | D39: =SUM(D37:D38) -> 0 | E39: =SUM(E37:E38) -> 88394.8 | F39: =SUM(F37:F38) -> 0
A41: Creditors: amounts falling due within one year | B41: 9 | C41: =SUMIFS(Mapping!$H$4:$H$25,Mapping!$C$4:$C$25,"Balance Sheet",Mapping!$D$4:$D$25,"Creditors due within one year",Mapping!$E$4:$E$25,"Unrestricted") -> 10828.58 | D41: =SUMIFS(Mapping!$H$4:$H$25,Mapping!$C$4:$C$25,"Balance Sheet",Mapping!$D$4:$D$25,"Creditors due within one year",Mapping!$E$4:$E$25,"Restricted") -> 0 | E41: =SUM(C41:D41) -> 10828.58 | F41: 0
A42: Net current assets | C42: =C39-C41 -> 77566.22 | D42: =D39-D41 -> 0 | E42: =E39-E41 -> 77566.22 | F42: =F39-F41 -> 0
A43: Total assets less current liabilities | C43: =C34+C42 -> 77566.22 | D43: =D34+D42 -> 0 | E43: =E34+E42 -> 77566.22 | F43: =F34+F42 -> 0
A44: Creditors: amounts falling due after more than one year | B44: 9 | C44: =SUMIFS(Mapping!$H$4:$H$25,Mapping!$C$4:$C$25,"Balance Sheet",Mapping!$D$4:$D$25,"Creditors due after more than one year",Mapping!$E$4:$E$25,"Unrestricted") -> 0 | D44: =SUMIFS(Mapping!$H$4:$H$25,Mapping!$C$4:$C$25,"Balance Sheet",Mapping!$D$4:$D$25,"Creditors due after more than one year",Mapping!$E$4:$E$25,"Restricted") -> 0 | E44: =SUM(C44:D44) -> 0 | F44: 0
A45: Net assets | C45: =C43-C44 -> 77566.22 | D45: =D43-D44 -> 0 | E45: =E43-E44 -> 77566.22 | F45: =F43-F44 -> 0
A47: Funds of the charity
A48: Unrestricted funds | B48: 10 | C48: =C28 -> 77566.22 | D48: =0 -> 0 | E48: =SOFA!C52 -> 0 | F48: =SOFA!F52 -> 0
...

Sheet Validation
A1: VALIDATION AND COMPLETION CHECKS
A3: Check | B3: Result | C3: Status | D3: Action
A4: Trial Balance debit equals credit | B4: ='Trial Balance'!F26 -> 0 | C4: =IF(ABS(B4)<0.01,"OK","ERROR") -> OK | D4: Must be £0
A5: SOFA net movement agrees to net assets | B5: =SOFA!E22-'Balance Sheet'!E19 -> 0 | C5: =IF(ABS(B5)<0.01,"OK","ERROR") -> OK | D5: Must be £0
A6: Balance Sheet funds agree to net assets | B6: ='Balance Sheet'!E24-'Balance Sheet'!E19 -> 0 | C6: =IF(ABS(B6)<0.01,"OK","ERROR") -> OK | D6: Must be £0
A7: Funds schedule agrees to SOFA | B7: =Funds!G7-SOFA!E26 -> 0 | C7: =IF(ABS(B7)<0.01,"OK","ERROR") -> OK | D7: Must be £0
A8: Unreviewed mappings | B8: =COUNTIF(Mapping!I4:I25,"Review") -> 0 | C8: =IF(B8=0,"OK","REVIEW") -> OK | D8: Review all yellow mapping rows
A9: Scottish charity number entered | B9: =IF('Print Pack'!B4="[ENTER SCOTTISH CHARITY NUMBER]",1,0) -> 0 | C9: =IF(B9=0,"OK","REVIEW") -> OK | D9: Enter charity number
A10: Average employee number completed | B10: =IF(Notes!B23="[ENTER]",1,0) -> 0 | C10: =IF(B10=0,"OK","REVIEW") -> OK | D10: Enter average headcount
A11: Trustee expenses note completed | B11: =IF(LEFT(Notes!B25,6)="[ENTER",1,0) -> 0 | C11: =IF(B11=0,"OK","REVIEW") -> OK | D11: Complete note
A12: Post-balance-sheet note completed | B12: =IF(LEFT(Notes!B39,6)="[ENTER",1,0) -> 0 | C12: =IF(B12=0,"OK","REVIEW") -> OK | D12: Complete note
