Workbook

Sheet R&P Accounts
B2: Tealing Hall SCIO | L2: SC038801
B3: Receipts and payments accounts
B4: For the period from | D4: Period start date | G4: to | H4: Period end date
A8: Section A Statement of receipts and payments
B9: Unrestricted funds | D9: Restricted funds | F9: Expendable endowment funds | H9: Permanent endowment funds | J9: Total funds current period | L9: Total funds last period
B10: to nearest £ | D10: to nearest £ | F10: to nearest £ | H10: to nearest £ | J10: to nearest £ | L10: to nearest £
A11: A1 Receipts
A12: Donations | B12: ='Additional notes (1) '!C11 -> 753.74 | J12: =H12+D12+B12+F12 -> 753.74 | L12: 850
A13: Donation from unincorporated | J13: =H13+D13+B13+F13 -> 0 | L13: 0
A14: Grants | B14: ='Additional notes (1) '!C24 -> 0 | J14: =H14+D14+B14+F14 -> 0 | L14: ='Additional notes (1) '!M24 -> 6890.97
A15: Receipts from fundraising activities | B15: =3182.11+3206 -> 6388.11 | J15: =H15+D15+B15+F15 -> 6388.11 | L15: =3535+3213+100-6848+5164 -> 5164
A16: Gross trading receipts | J16: =H16+D16+B16+F16 -> 0 | L16: 0
A17: Income from investments other than land and buildings | J17: =H17+D17+B17+F17 -> 0 | L17: 0
A18: Rents from land & buildings | J18: =H18+D18+B18+F18 -> 0 | L18: 0
A19: Gross receipts from other charitable activities | B19: ='Additional notes (1) '!K39 -> 10685.25 | J19: =H19+D19+B19+F19 -> 10685.25 | L19: ='Additional notes (1) '!M39 -> 9651
A20: Other | J20: =H20+D20+B20+F20 -> 0 | L20: =664-423 -> 241
A21: A1 Sub total | B21: =SUM(B12:B20) -> 17827.1 | D21: =SUM(D12:D20) -> 0 | F21: =SUM(F12:F20) -> 0 | H21: =SUM(H12:H20) -> 0 | J21: =H21+D21+B21+F21 -> 17827.1 | L21: =SUM(L12:L20) -> 22796.97
J22: =IF(B21+D21+F21+H21-J21=0," ","error")
A23: A2 Receipts from asset & investment sales
A24: Proceeds from sale of fixed assets | J24: =H24+D24+B24+F24 -> 0
A25: Proceeds from sale of investments | J25: =H25+D25+B25+F25 -> 0
A26: A2 Sub total | B26: =SUM(B24:B25) -> 0 | D26: =SUM(D24:D25) -> 0 | F26: =SUM(F24:F25) -> 0 | H26: =SUM(H24:H25) -> 0 | J26: =SUM(J24:J25) -> 0 | L26: =SUM(L24:L25) -> 0
J27: =IF(B26+D26+F26+H26-J26=0," ","error")
A28: Total receipts | B28: =B26+B21 -> 17827.1 | D28: =D26+D21 -> 0 | F28: =F26+F21 -> 0 | H28: =H26+H21 -> 0 | J28: =J26+J21 -> 17827.1 | L28: =L26+L21 -> 22796.97
J29: =IF(B28+D28+H28-J28=0," ","error")
A30: A3 Payments
A31: Expenses for fundraising activities | B31: =644.45 -> 644.45 | J31: =H31+D31+B31+F31 -> 644.45 | L31: 606
A32: Gross trading payments | J32: =H32+D32+B32+F32 -> 0 | L32: 0
A33: Investment management costs | J33: =H33+D33+B33+F33 -> 0 | L33: 0
A34: Payments relating directly to charitable activities | B34: ='Additional notes (1) '!C58 -> 11034.57 | D34: ='Additional notes (1) '!E58 -> 0 | J34: =H34+D34+B34+F34 -> 11034.57 | L34: ='Additional notes (1) '!M58 -> 24381
A35: Grants and donations | B35: 0 | J35: =H35+D35+B35+F35 -> 0 | L35: 0
A36: Governance costs: | J36: =H36+D36+B36+F36 -> 0 | L36: 0
A37: Audit / independent examination | J37: =H37+D37+B37+F37 -> 0 | L37: 0
A38: Preparation of annual accounts | J38: =H38+D38+B38+F38 -> 0 | L38: 0
A39: Legal costs | J39: =H39+D39+B39+F39 -> 0 | L39: 0
A40: Purchase cost of hall | J40: =H40+D40+B40+F40 -> 0 | L40: 0
J41: =H41+D41+B41+F41 -> 0 | L41: 0
A42: A3 Sub total | B42: =SUM(B31:B41) -> 11679.02 | D42: =SUM(D31:D41) -> 0 | F42: =SUM(F31:F41) -> 0 | H42: =SUM(H31:H41) -> 0 | J42: =SUM(J31:J41) -> 11679.02 | L42: =SUM(L31:L41) -> 24987
J43: =IF(B42+D42+F42+H42-J42=0," ","error")
A44: A4 Payments relating to asset and investment movements
...

Sheet Statement of balances
B1: ='R&P Accounts'!B2 -> Tealing Hall SCIO | N1: ='R&P Accounts'!L2 -> SC038801
A2: Section B Statement of balances
A3: Categories | B3: Details | F3: Unrestricted funds | H3: Restricted funds | J3: Expendable endowment funds | L3: Permanent endowment funds | N3: Total current period | P3: Total last period
F4: to nearest £ | H4: to nearest £ | J4: to nearest £ | L4: to nearest £ | N4: to nearest £ | P4: to nearest £
A5: B1 Cash funds | B5: Cash and bank balances at start of year | F5: 0 | N5: =SUM(F5:L5) -> 0 | P5: 31326
B6: Surplus / (deficit) shown on receipts and payments account | F6: ='R&P Accounts'!J55 -> 6148.08 | N6: =SUM(F6:L6) -> 6148.08 | P6: ='R&P Accounts'!L51 -> -2190.03
N7: =F7+H7+J7+L7 -> 0
N8: =F8+H8+J8+L8 -> 0
B9: Cash and bank balances at end of year | F9: =SUM(F5:F8) -> 6148.08 | H9: =SUM(H5:H8) -> 0 | J9: =SUM(J5:J8) -> 0 | L9: =SUM(L5:L8) -> 0 | N9: =F9+H9+J9+L9 -> 6148.08 | P9: =SUM(P5:P8) -> 29135.97
F10: =F6-'R&P Accounts'!B55 -> 0 | H10: =H6-'R&P Accounts'!D55 -> 0 | J10: =J6-'R&P Accounts'!F55 -> 0 | L10: =L6-'R&P Accounts'!H55 -> 0 | N10: =N6-'R&P Accounts'!J55 -> 0 | P10: =P6-'R&P Accounts'!L55 -> 0
B12: Details | J12: Fund to which asset belongs | N12: Market valuation | P12: Last year
N13: to nearest £ | P13: to nearest £
A14: B2 Investments
L19: Total | N19: =SUM(N14:N18) -> 0 | P19: =SUM(P14:P18) -> 0
B21: Details | H21: Fund to which asset belongs | L21: Cost (if available) | N21: Current value (if available) | P21: Last year
L22: to nearest £ | N22: to nearest £ | P22: to nearest £
A23: B3 Other assets | B23: Kitchen equipment /boiler | H23: Unrestricted | N23: =7369 -> 7369 | P23: 7369
B24: Office furniture | H24: Unrestricted | N24: 2122 | P24: 2122
B25: Pressure washer | H25: Unrestricted | N25: 570 | P25: 570
J32: Total | L32: =SUM(L23:L31) -> 0 | N32: =SUM(N23:N31) -> 10061 | P32: =SUM(P23:P31) -> 10061
B34: Details | J34: Fund to which liability relates | N34: Amount due | P34: Last year
N35: to nearest £ | P35: to nearest £
A36: B4 Liabilities | N36: -
L41: Total | N41: =SUM(N36:N40) -> 0 | P41: =SUM(P36:P40) -> 0
B43: Details | J43: Fund to which liability relates | N43: Amount due (estimate) | P43: Last year
N44: to nearest £ | P44: to nearest £
A45: B5 Contingent liabilities
L48: Total | N48: =SUM(N45:N47) -> 0 | P48: =SUM(P45:P47) -> 0
A50: Signed by one or two trustees on behalf of all the trustees | B50: Signature | H50: Print Name | P50: Date of approval

Sheet Notes
B1: ='R&P Accounts'!B2 -> Tealing Hall SCIO | K1: ='R&P Accounts'!L2 -> SC038801
A3: Section C Notes to the Accounts
A5: C1 Nature and purpose of funds (may be stated on analysis of funds worksheets)
B11: Type of activity or project supported | H11: Individual / institution | J11: Number of grants made | K11: £
A12: C2 Grants
B17: Total | K17: =SUM(K12:K16) -> 0
A19: C3a Trustee remuneration | B19: If no remuneration was paid during the period to any charity trustee or person connected to a trustee cross this box (otherwise complete section 3b) | K19: X
B22: Authority under which paid | K22: £
A23: C3b Trustee remuneration - details
A27: C4a Trustee expenses | B27: If no expenses were paid to any charity trustee during the period then cross this box (otherwise complete section 4b) | K27: X
J30: Number of trustees | K30: £
A31: C4b Trustee expenses - details
B34: Nature of relationship | F34: Nature of transaction | J34: Transaction amount (£) | K34: Balance outstanding at period end (£)
A35: C5 Transactions with trustees and connected persons
A41: C6 Other information

Sheet Additional notes (1)  
C1: ='R&P Accounts'!B2 -> Tealing Hall SCIO | M1: ='R&P Accounts'!L2 -> SC038801
A3: Additional analysis (1)
A5: Analysis of receipts and payments
A7: 1 Donations
C8: Unrestricted funds | E8: Restricted funds | G8: Expendable endowment funds | I8: Permanent endowment funds | K8: Total current period | M8: Total last period
C9: to nearest £ | E9: to nearest £ | G9: to nearest £ | I9: to nearest £ | K9: to nearest £ | M9: to nearest £
A11: Other donations | C11: =753.74 -> 753.74 | K11: =SUM(C11:I11) -> 753.74 | M11: =750+100 -> 850
A14: Total | C14: =SUM(C10:C13) -> 753.74 | E14: =SUM(E10:E13) -> 0 | G14: =SUM(G10:G13) -> 0 | I14: =SUM(I10:I13) -> 0 | K14: =SUM(K10:K13) -> 753.74 | M14: =SUM(M10:M13) -> 850
A17: 2 Grants
C18: Unrestricted funds | E18: Restricted funds | K18: Total current period | M18: Total last period
C19: to nearest £ | E19: to nearest £ | K19: to nearest £ | M19: to nearest £
A20: Kurling Micro Grant | C20: 0 | K20: =SUM(C20:I20) -> 0 | M20: 761.97
A21: SSE | C21: 0 | K21: =SUM(C21:I21) -> 0 | M21: 0
A22: Angus Rural Partnership Grant | C22: 0 | K22: =SUM(C22:I22) -> 0 | M22: =4671-4671+6129 -> 6129
K23: =SUM(C23:I23) -> 0 | M23: 0
A24: Total | C24: =SUM(C20:C23) -> 0 | E24: =SUM(E20:E23) -> 0 | K24: =SUM(K20:K23) -> 0 | M24: =SUM(M20:M23) -> 6890.97
F26: =IF('R&P Accounts'!E14-'Additional notes (1) '!F24=0,0,"reference error") -> 0 | J26: =IF('R&P Accounts'!I14-'Additional notes (1) '!J24=0,0,"reference error") -> 0 | L26: =IF('R&P Accounts'!K14-'Additional notes (1) '!L24=0,0,"reference error") -> 0
A28: 3 Gross receipts from other charitable activities
C29: Unrestricted funds | E29: Restricted funds | G29: Expendable endowment funds | I29: Permanent endowment funds | K29: Total current period | M29: Total last period
C30: to nearest £ | E30: to nearest £ | G30: to nearest £ | I30: to nearest £ | K30: to nearest £ | M30: to nearest £
A31: Receipts from hall lets | C31: =10685.25 -> 10685.25 | K31: =SUM(C31:I31) -> 10685.25 | M31: =11617-100-11517+9651 -> 9651
K32: =SUM(C32:I32) -> 0
K33: =SUM(C33:I33) -> 0
K34: =SUM(C34:I34) -> 0
K35: =SUM(C35:I35) -> 0
K36: =SUM(C36:I36) -> 0
K37: =SUM(C37:I37) -> 0
K38: =SUM(C38:I38) -> 0
A39: Total | C39: =SUM(C31:C38) -> 10685.25 | E39: =SUM(E31:E38) -> 0 | G39: =SUM(G31:G38) -> 0 | I39: =SUM(I31:I38) -> 0 | K39: =SUM(K31:K38) -> 10685.25 | M39: =SUM(M31:M38) -> 9651
A43: 4 Payments relating directly to charitable activities
C44: Unrestricted funds | E44: Restricted funds | G44: Expendable endowment funds | I44: Permanent endowment funds | K44: Total current period | M44: Total last period
C45: to nearest £ | E45: to nearest £ | G45: to nearest £ | I45: to nearest £ | K45: to nearest £ | M45: to nearest £
A46: Heat and light | C46: =1487.36+2518.71 -> 4006.07 | K46: =SUM(C46:I46) -> 4006.07 | M46: =1120+2525 -> 3645
A47: Wages | K47: =SUM(C47:I47) -> 0 | M47: 0
A48: Insurance | C48: =29.9+962.67 -> 992.57 | K48: =SUM(C48:I48) -> 992.57 | M48: =988+33 -> 1021
A49: Repairs | C49: =1885.8 -> 1885.8 | K49: =SUM(C49:I49) -> 1885.8 | M49: =2515+1158-204 -> 3469
A50: PRS | C50: =208.01 -> 208.01 | K50: =SUM(C50:I50) -> 208.01 | M50: 204
A51: Sundry | C51: =424.51-C50+485.12 -> 701.62 | K51: =SUM(C51:I51) -> 701.62 | M51: =60+20+100+896+40 -> 1116
A52: Broadband | C52: =420.25 -> 420.25 | K52: =SUM(C52:I52) -> 420.25 | M52: 291
A53: Cleaning | C53: =2565.73 -> 2565.73 | K53: =SUM(C53:I53) -> 2565.73 | M53: 2472
...
