Workbook

Sheet ACC's 2024 - 25
B2: ACCOUNTS FOR St MARGARET'S CHURCH WHITING BAY ISLE OF ARRAN TAX YEAR 2024 - 2025
A4: DATE | B4: INCOME | K4: EXPENDITURE
C5: DONATIONS | D5: WEEKLY COLLECTIONS | E5: EPISC DIOCESE | F5: GIFT AID | G5: SUNDRY | H5: TOTAL INCOME | I5: TOTAL | L5: CHQ No. | M5: OVO ENERGY | N5: MARY'S MEALS | O5: EPISCOPAL DIOCESE | P5: ECLESIASTICAL | Q5: REDEMPT. PUBLICATIONS | R5: GARDEN SERVICES | S5: CHRIST CHURCH LOCHGILHEAD | T5: SUNDRY EX'P'S | U5: REFUND OF VICAR'S EXPS'S | V5: TOTAL | W5: BALANCE @ BANK | X5: DATE CHEQUE PAID
A6: 45566 | B6: Balance carried forward | I6: 9922.04 | W6: =I6 -> 9922.04
A7: 45566 | I7: =SUM(C7:G7) -> 0 | K7: Direct debit | M7: 164 | V7: =SUM(M7:U7) -> 164 | W7: =W6+I7-V7 -> 9758.04
A8: 45567 | B8: Cruickshank AL | C8: 30 | I8: =SUM(C8:G8) -> 30 | V8: =SUM(M8:T8) -> 0 | W8: =W7+I8-V8 -> 9788.04
A9: 45571 | I9: =SUM(C9:G9) -> 0 | K9: Redempt. Pubs | L9: 1063 | Q9: 69 | V9: =SUM(M9:T9) -> 69 | W9: =W8+I9-V9 -> 9719.04 | X9: 45583
A10: 45572 | B10: Boughton BN & ME | C10: 60 | I10: =SUM(C10:G10) -> 60 | V10: =SUM(M10:T10) -> 0 | W10: =W9+I10-V10 -> 9779.04
A11: 45572 | B11: Auto credit | D11: 106 | I11: =SUM(C11:G11) -> 106 | V11: =SUM(M11:T11) -> 0 | W11: =W10+I11-V11 -> 9885.04
A12: 45579 | B12: Auto credit | D12: 60 | I12: =SUM(C12:G12) -> 60 | V12: =SUM(M12:T12) -> 0 | W12: =W11+I12-V12 -> 9945.04
A13: 45579 | I13: =SUM(C13:G13) -> 0 | K13: Direct debit | N13: 10 | V13: =SUM(M13:T13) -> 10 | W13: =W12+I13-V13 -> 9935.04
A14: 45580 | B14: Tweedale R & M | C14: 150 | I14: =SUM(C14:G14) -> 150 | V14: =SUM(M14:T14) -> 0 | W14: =W13+I14-V14 -> 10085.04
A15: 45580 | I15: =SUM(C15:G15) -> 0 | K15: Standing order | O15: 276.6 | V15: =SUM(M15:T15) -> 276.6 | W15: =W14+I15-V15 -> 9808.44
A16: 45587 | I16: =SUM(C16:G16) -> 0 | K16: Refund bill paid Wyvex Media | L16: 1064 | S16: 150 | V16: =SUM(M16:T16) -> 150 | W16: =W15+I16-V16 -> 9658.44 | X16: 45596
A17: 45589 | B17: OnLine transaction | E17: 400 | I17: =SUM(C17:G17) -> 400 | V17: =SUM(M17:T17) -> 0 | W17: =W16+I17-V17 -> 10058.44
A18: 45590 | B18: Boughton BN & ME | C18: 25 | I18: =SUM(C18:G18) -> 25 | V18: =SUM(M18:T18) -> 0 | W18: =W17+I18-V18 -> 10083.44
A19: 45595 | B19: Cruickshank AL | C19: 30 | I19: =SUM(C19:G19) -> 30 | V19: =SUM(M19:T19) -> 0 | W19: =W18+I19-V19 -> 10113.44
A20: 45595 | B20: Roberts B | C20: 80 | I20: =SUM(C20:G20) -> 80 | V20: =SUM(M20:T20) -> 0 | W20: =W19+I20-V20 -> 10193.44 | Y20: Balance agreed with bank
A21: 45597 | I21: =SUM(C21:G21) -> 0 | K21: Direct debit | M21: 164 | V21: =SUM(M21:T21) -> 164 | W21: =W20+I21-V21 -> 10029.44
A22: 45607 | I22: =SUM(C22:G22) -> 0 | K22: Direct debit | N22: 10 | V22: =SUM(M22:T22) -> 10 | W22: =W21+I22-V22 -> 10019.44
A23: 45611 | B23: Tweedale R & M | C23: 150 | I23: =SUM(C23:G23) -> 150 | V23: =SUM(M23:T23) -> 0 | W23: =W22+I23-V23 -> 10169.44
A24: 45611 | I24: =SUM(C24:G24) -> 0 | K24: Standing order | O24: 276.6 | V24: =SUM(M24:T24) -> 276.6 | W24: =W23+I24-V24 -> 9892.84
A25: 45617 | I25: =SUM(C25:G25) -> 0 | K25: Direct debit | P25: 751.41 | V25: =SUM(M25:T25) -> 751.41 | W25: =W24+I25-V25 -> 9141.43
A26: 45621 | B26: Boughton BN & ME | C26: 25 | I26: =SUM(C26:G26) -> 25 | V26: =SUM(M26:T26) -> 0 | W26: =W25+I26-V26 -> 9166.43
A27: 45623 | B27: Cruickshank AL | C27: 30 | I27: =SUM(C27:G27) -> 30 | V27: =SUM(M27:T27) -> 0 | W27: =W26+I27-V27 -> 9196.43 | Y27: Balance agreed with bank
A28: 45624 | I28: =SUM(C28:G28) -> 0 | K28: Advent Candles | T28: 16.3 | V28: =SUM(M28:T28) -> 16.3 | W28: =W27+I28-V28 -> 9180.13 | X28: 45646
A29: 45628 | B29: Roberts B | C29: 80 | I29: =SUM(C29:G29) -> 80 | V29: =SUM(M29:T29) -> 0 | W29: =W28+I29-V29 -> 9260.13
A30: 45628 | I30: =SUM(C30:G30) -> 0 | K30: Ryan Armstrong | R30: 420 | V30: =SUM(M30:T30) -> 420 | W30: =W29+I30-V30 -> 8840.13 | X30: 45706
A31: 45628 | I31: =SUM(C31:G31) -> 0 | K31: Direct debit | M31: 164 | V31: =SUM(M31:T31) -> 164 | W31: =W30+I31-V31 -> 8676.13
A32: 45631 | B32: Boughton BN & ME | C32: 1000 | I32: =SUM(C32:G32) -> 1000 | V32: =SUM(M32:T32) -> 0 | W32: =W31+I32-V32 -> 9676.13
A33: 45631 | B33: Boughton BN & ME | C33: 1000 | I33: =SUM(C33:G33) -> 1000 | V33: =SUM(M33:T33) -> 0 | W33: =W32+I33-V33 -> 10676.13
A34: 45642 | B34: Tweedale R & M | C34: 150 | I34: =SUM(C34:G34) -> 150 | K34: Direct debit | N34: 10 | V34: =SUM(M34:T34) -> 10 | W34: =W33+I34-V34 -> 10816.13
A35: 45642 | B35: Auto credit | D35: 185 | I35: =SUM(C35:G35) -> 185 | V35: =SUM(M35:T35) -> 0 | W35: =W34+I35-V35 -> 11001.13
A36: 45642 | I36: =SUM(C36:G36) -> 0 | K36: Standing order | O36: 276.6 | V36: =SUM(M36:T36) -> 276.6 | W36: =W35+I36-V36 -> 10724.53
A37: 45653 | B37: Boughton BN & ME | C37: 25 | I37: =SUM(C37:G37) -> 25 | V37: =SUM(M37:T37) -> 0 | W37: =W36+I37-V37 -> 10749.53
A38: 45653 | B38: Cruickshank AL | C38: 30 | I38: =SUM(C38:G38) -> 30 | V38: =SUM(M38:T38) -> 0 | W38: =W37+I38-V38 -> 10779.53
A39: 45656 | B39: Roberts B | C39: 80 | I39: =SUM(C39:G39) -> 80 | V39: =SUM(M39:T39) -> 0 | W39: =W38+I39-V39 -> 10859.53
A40: 45659 | I40: =SUM(C40:G40) -> 0 | K40: Direct debit | M40: 102 | V40: =SUM(M40:T40) -> 102 | W40: =W39+I40-V40 -> 10757.53
A41: 45670 | B41: Auto credit | D41: 50 | I41: =SUM(C41:G41) -> 50 | V41: =SUM(M41:T41) -> 0 | W41: =W40+I41-V41 -> 10807.53
A42: 46004 | B42: Auto credit | D42: 35 | I42: =SUM(C42:G42) -> 35 | V42: =SUM(M42:T42) -> 0 | W42: =W41+I42-V42 -> 10842.53
...

Sheet Balance Sheet 2024-25
A1: St. Margaret's Whiting Bay Isle of Arran Annual Balance Sheet 2024 - 25
C3: 2024-25 | D3: 2023-24 | H3: 2024-25 | I3: 2023-24
C4: £ | D4: £ | H4: £ | I4: £
A6: DONATIONS | C6: ='ACC''s 2024 - 25'!C128 -> 5960 | F6: ENERGY COSTS | H6: ='ACC''s 2024 - 25'!M128 -> 1410 | L6: BANK BALANCE
A7: WEEKLY COLLECTIONS | C7: ='ACC''s 2024 - 25'!D128 -> 2336 | F7: MARY'S MEALS | H7: ='ACC''s 2024 - 25'!N128 -> 120
A8: EPISCOPAL DIOCESE | C8: ='ACC''s 2024 - 25'!E128 -> 900 | F8: EPISCOPAL DIOCESE | H8: ='ACC''s 2024 - 25'!O128 -> 3154.5 | L8: OPENING BALANCE | P8: CLOSING BALANCE
A9: GIFT AID REC'D (HMRC) | C9: ='ACC''s 2024 - 25'!F128 -> 1717.66 | F9: ECLESIASTICAL | H9: ='ACC''s 2024 - 25'!P128 -> 751.41 | L9: 1st October 2024 | N9: ='ACC''s 2024 - 25'!W6 -> 9922.04 | P9: 30th September 2025 | R9: 19376.44
A10: SUNDRY INCOME | C10: ='ACC''s 2024 - 25'!G128 -> 5395.74 | F10: REDEMPTORIST PUBLICATIONS | H10: ='ACC''s 2024 - 25'!Q128 -> 103.95 | L10: Income for year | N10: =C16 -> 16309.4 | P10: Expenses for year | R10: ='ACC''s 2024 - 25'!V128 -> 6855
F11: GARDEN SERVICES | H11: ='ACC''s 2024 - 25'!R128 -> 840
F12: CHRIST CHURCH LOCHGILPHEAD | H12: ='ACC''s 2024 - 25'!S128 -> 150
F13: SUNDRY EXPENSES | H13: ='ACC''s 2024 - 25'!T128 -> 58.3
F14: REFUND OF VICAR'S EXPENSES | H14: ='ACC''s 2024 - 25'!U128 -> 266.84 | L14: Total | N14: =N9+N10 -> 26231.44 | P14: Total | R14: =SUM(R9:R13) -> 26231.44
A16: SUB TOTAL | C16: =SUM(C6:C15) -> 16309.4 | F16: SUB TOTAL | H16: =SUM(H6:H14) -> 6855
F17: PROFIT/LOSS | H17: ='ACC''s 2024 - 25'!I135 -> 9454.4
A21: BALANCE | C21: =C16+C17 -> 16309.4 | F21: BALANCE | H21: =H16+H17 -> 16309.4

Sheet Sheet1
B3: St. Margaret's Whiting Bay Isle of Arran Annual Balance Sheet 2024 - 25
D5: 2024-25 | H5: 2024-25
B6: INCOME | D6: £ | F6: EXPENDITURE | H6: £
B8: DONATIONS | D8: ='ACC''s 2024 - 25'!C128 -> 5960 | F8: ENERGY COSTS | H8: ='ACC''s 2024 - 25'!M128 -> 1410
B9: WEEKLY COLLECTIONS | D9: ='ACC''s 2024 - 25'!D128 -> 2336 | F9: MARY'S MEALS | H9: ='ACC''s 2024 - 25'!N128 -> 120
B10: EPISCOPAL DIOCESE | D10: ='ACC''s 2024 - 25'!E128 -> 900 | F10: EPISCOPAL DIOCESE | H10: ='ACC''s 2024 - 25'!O128 -> 3154.5
B11: GIFT AID REC'D (HMRC) | D11: ='ACC''s 2024 - 25'!F128 -> 1717.66 | F11: ECCLESIASTICAL | H11: ='ACC''s 2024 - 25'!P128 -> 751.41
B12: SUNDRY INCOME | D12: ='ACC''s 2024 - 25'!G128 -> 5395.74 | F12: REDEMPTORIST PUBLICATIONS | H12: ='ACC''s 2024 - 25'!Q128 -> 103.95
F13: GARDEN SERVICES | H13: ='ACC''s 2024 - 25'!R128 -> 840
F14: CHRIST CHURCH LOCHGILPHEAD | H14: ='ACC''s 2024 - 25'!S128 -> 150
F15: SUNDRY EXPENSES | H15: ='ACC''s 2024 - 25'!T128 -> 58.3
F16: REFUND OF VICAR'S EXPENSES | H16: ='ACC''s 2024 - 25'!U128 -> 266.84
B18: SUB TOTAL | D18: =SUM(D8:D17) -> 16309.4 | F18: SUB TOTAL | H18: =SUM(H8:H16) -> 6855
F19: PROFIT/LOSS | H19: ='ACC''s 2024 - 25'!I135 -> 9454.4
B23: BALANCE | D23: =D18+D19 -> 16309.4 | F23: BALANCE | H23: =H18+H19 -> 16309.4
B27: BANK BALANCE
B29: OPENING BALANCE | F29: CLOSING BALANCE
B30: 1st October 2024 | D30: 9922.04 | F30: 30th September 2025 | H30: 19376.44
B31: Income for year | D31: 16309.4 | F31: Expenses for year | H31: 6855
B35: Total | D35: 26231.44 | F35: Total | H35: 26231.44
