Workbook
Name CurrentFirstDay: [1]SetUp!$C$6
Name CurrentLastDay: [1]SetUp!$C$7
Name CurrentYear: [1]SetUp!$C$4
Name CurrentYearEnd: [1]SetUp!$C$2
Name PreviousYear: [1]SetUp!$C$5
Name PreviousYearEnd: [1]SetUp!$C$3

Sheet SMCRC Summary
A1: Draft Accounts Summary | D1: Charitable Purposes Income | F1: Amount
A2: 1 April 2025 – 31 March 2026 | D2: ='SMCRC Income'!G1 -> Unrestricted Donations | F2: =('SMCRC Income'!G2) -> 1750
D3: ='SMCRC Income'!J1 -> Hall Rents | F3: =('SMCRC Income'!J2) -> 34698.21
D4: ='SMCRC Income'!K1 -> Office Rents | F4: =('SMCRC Income'!K2) -> 2346
D6: Total | F6: =SUM(F2:F5) -> 38794.21
A8: 1 April 2025 – 31 March 2026 | D8: Charitable Purposes Expenditure | F8: Amount
D10: =('SMCRC Expenditure'!G1) -> SMCRC Maintenance | F10: =('SMCRC Expenditure'!G100) -> 19555.26
D11: =('SMCRC Expenditure'!I1) -> Cleaner's Salary | F11: =('SMCRC Expenditure'!I2) -> 2750.27
D12: =('SMCRC Expenditure'!J1) -> HMRC Cleaner | F12: =('SMCRC Expenditure'!J100) -> 607.63
D13: =('SMCRC Expenditure'!K1) -> Cleaning & Sundries | F13: =('SMCRC Expenditure'!K2) -> 441.27
D14: =('SMCRC Expenditure'!L1) -> Lift/Door/Fire etc | F14: =('SMCRC Expenditure'!L100) -> 1924.88
D15: =('SMCRC Expenditure'!M1) -> Tele./Website | F15: =('SMCRC Expenditure'!M100) -> 733.06
D16: =('SMCRC Expenditure'!N1) -> Insurance | F16: =('SMCRC Expenditure'!N100) -> 7172.18
D17: =('SMCRC Expenditure'!O1) -> Utilities | F17: =('SMCRC Expenditure'!O100) -> 11009.67
D18: Independent Examiner's Fee | F18: ='SMCRC Expenditure'!U100 -> 400
D20: Total | F20: =SUM(F9:F19) -> 44594.22
A22: as at 1 April 2026 | D22: Balance | F22: =+F6-F20 -> -5800.01
D24: Charitable Purposes Funds | F24: Amount
A25: as at 31 March 2025 | F25: ='Apr 25'!F44 -> 21507.37
A26: as at 1 April 2026 | D26: Total Income | F26: =F6 -> 38794.21
A27: as at 1 April 2026 | D27: Total Expenditure | F27: =F20 -> 44594.22
A29: as at 1 April 2026 | D29: Unrestricted Funds | F29: =F25+F26-F27 -> 15707.36

Sheet SMCRC Income
A1: Date | B1: Details | C1: Amount | D1: Ref. No | E1: Restricted Grants | F1: Restricted Donations | G1: Unrestricted Donations | H1: St Martin Donations | I1: Interest | J1: Hall Rents | K1: Office Rents | L1: VAT Refund | M1: Other CP Income | N1: Petty Cash | O1: Intergenerational Project | P1: Sharing Secrets | Q1: Ladies Tea Party | R1: Notes
A2: Totals | C2: =SUM(C3:C222) -> 38794.21 | D2: N/A | E2: =SUM(E3:E222) -> 0 | F2: =SUM(F3:F222) -> 0 | G2: =SUM(G3:G222) -> 1750 | H2: =SUM(H3:H222) -> 0 | I2: =SUM(I3:I222) -> 0 | J2: =SUM(J3:J222) -> 34698.21 | K2: =SUM(K3:K222) -> 2346 | L2: =SUM(L3:L222) -> 0 | ... P2: =SUM(P3:P222) -> 0
A3: 45661 | B3: Colla Castellera d SMCRC 2025272 | C3: 321 | D3: SMCRC 2025272 | J3: 321
A4: 45720 | B4: FEERIA USPEHA Planetarium Show | C4: 82.5 | D4: SMCRC 2025263 | J4: 82.5
A5: 45720 | B5: ROBERTSON C & G-RO 2025264 | C5: 66 | D5: SMCRC 2025264 | J5: 66
A6: 45751 | B6: DUNEDIN DANCERS SMCRC 2025262 | C6: 66 | D6: SMCRC 2025262 | J6: 66
A7: 45751 | B7: GORGIE COLLECTIVE GORGIE COLLECTIVE | C7: 138 | D7: DD | K7: 138
A8: 45751 | B8: Safe and Sound SMCRC 2025269 | C8: 335 | D8: SMCRC 2025269 | J8: 335
A9: 45842 | B9: HOME-START EDINBUR 2025265 | C9: 204 | D9: SMCRC 2025265 | J9: 204
A10: 45842 | B10: MS R C KILBEY | C10: 66 | D10: SMCRC 2025270 | J10: 66
A11: 45873 | B11: TCHAKMAKDJIAN A HALL PAYMENTS | C11: 64 | D11: SMCRC 2025270 | J11: 64
A12: 45904 | B12: HEALTH ALL ROUND INV 2025278 | C12: 330 | D12: SMCRC 2025278 | J12: 330
A13: 14/04/2025 | B13: CAPS INDEPENDENT A i-v 2025271 | C13: 10 | D13: SMCRC 2025271 | J13: 10
A14: 14/04/2025 | B14: EDINBURGH YOUTH TH 2025268 | C14: 123.75 | D14: SMCRC 2025268 | J14: 123.75
A15: 15/04/2025 | B15: SPOKES 6530670F SPOKES LOTHIAN COU | C15: 92 | D15: DD | K15: 92
A16: 16/04/2025 | B16: ALEXANDER MR ST MARTINS RENT | C16: 450 | D16: DD | J16: 450
A17: 22/04/2025 | B17: GORGIE DALRY TOY L SMCRC | C17: 30 | D17: DD | J17: 30
A18: 28/04/2025 | B18: Alba Vinti Lopez SMCRC 2025267 | C18: 56 | D18: SMCRC 2025267 | J18: 56
A19: 45813 | B19: BRYER KC K Bryer | C19: 44 | D19: SMCRC 2025279 | J19: 44
A20: 45813 | B20: GORGIE COLLECTIVE GORGIE COLLECTIVE | C20: 138 | D20: DD | K20: 138
A21: 45813 | B21: Nourou Dareyni Sco HALL April | C21: 216 | D21: SMCRC 2025286 | J21: 216
A22: 45843 | B22: Gayle Strachan GSAC2503 | C22: 225 | D22: SMCRC 2025277 | J22: 225
A23: 45843 | B23: HEALTH ALL ROUND INV 2025294 | C23: 412.5 | D23: SMCRC 2025294 | J23: 412.5
A24: 45843 | B24: Colla Castellera d SMCRC 2025288 | C24: 433 | D24: SMCRC 2025288 | J24: 433
A25: 45874 | B25: ROBERTSON C & G-RO 2025280 | C25: 49.5 | D25: SMCRC 2025280 | J25: 49.5
A26: 45905 | B26: HOME-START EDINBUR 2025281 | C26: 255 | D26: SMCRC 2025281 | J26: 255
A27: 45905 | B27: EDINBURGH YOUTH TH 2025283 | C27: 255.75 | D27: SMCRC 2025283 | J27: 255.75
A28: 45996 | B28: CAPS INDEPENDENT A CAPS i-v 2025287 | C28: 10 | D28: SMCRC 2025287 | J28: 10
A29: 45996 | B29: K Scott BELLD 2025293 | C29: 21 | D29: SMCRC 2025293 | J29: 21
A30: 15/5/2025 | B30: SPOKES 6530670F SPOKES LOTHIAN COU | C30: 92 | D30: DD | K30: 92
A31: 16/5/2025 | B31: ALEXANDER MR ST MARTINS RENT | C31: 450 | D31: DD | J31: 450
A32: 20/05/2025 | B32: SMCRC GORGIE DALRY TOY L | C32: 30 | D32: DD | J32: 30
A33: 26/05/2025 | B33: Charms And Chants SMCRC 2025284 | C33: 147 | D33: SMCRC 2025284 | J33: 147
A34: 45694 | B34: T Ramjee SMCRC 2025285 | C34: 7 | D34: SMCRC 2025285 | J34: 7
A35: 45694 | B35: Colla Castellera d SMCRC 2025305 | C35: 221 | D35: SMCRC 2025305 | J35: 221
A36: 45694 | B36: ROBERTSON C & G-RO 2025296 | C36: 82.5 | D36: SMCRC 2025296 | J36: 82.5
A37: 45722 | B37: Christiano Correa Celeiro de Bamba | C37: 52 | D37: SMCRC 2025303 | J37: 52
A38: 45722 | B38: Charms And Chants SMCRC 2025301 | C38: 244 | D38: SMCRC 2025301 | J38: 244
A39: 45722 | B39: HEALTH ALL ROUND INV 2025311 | C39: 313.5 | D39: SMCRC 2025311 | J39: 313.5
A40: 45753 | B40: TCHAKMAKDJIAN A HALL PAYMENTS | C40: 64 | D40: SMCRC 2025308 | J40: 64
...

Sheet SMCRC Expenditure
A1: Date | B1: Details | C1: Total | D1: Cheque No | E1: Dry Rot Project | F1: Stationery | G1: SMCRC Maintenance | H1: Covid 19 | I1: Cleaner's Salary | J1: HMRC Cleaner | K1: Cleaning & Sundries | L1: Lift/Door/Fire etc | M1: Tele./Website | N1: Insurance | O1: Utilities | P1: Rates & Water | Q1: Petty Cash | R1: Intergenerational Project | S1: Other | T1: Dry Rot Project (Restricted Funds) | U1: Independent Examiner's Fee | V1: Sharing Secrets Fest. | W1: Ladies Tea Party | X1: Notes
A2: Totals | C2: =SUM(C3:C99) -> 44594.22 | D2: =SUM(D3:D99) -> 0 | E2: =SUM(E3:E99) -> 0 | F2: =SUM(F3:F99) -> 0 | G2: =SUM(G3:G99) -> 19555.26 | H2: =SUM(H3:H99) -> 0 | I2: =SUM(I3:I99) -> 2750.27 | J2: =SUM(J3:J99) -> 607.63 | ... W2: =SUM(W3:W99) -> 0
A3: 45661 | B3: ZURICH D6990672C | C3: 352.62 | N3: 352.62
A4: 45934 | B4: ZURICH D6990672C | C4: 47.2 | L4: 47.2
A5: 14/04/2025 | B5: DAISY COMMS LTD DZG26873 | C5: 49.54 | M5: 49.54
A6: 14/04/2025 | B6: YGP 900025281 | C6: 1417.26 | O6: 1417.26
A7: 22/04/2025 | B7: Mark McCraw Ltd 90435 | C7: 300 | L7: 300
A8: 24/04/2025 | B8: IONOS CLOUD LTD. V95449917-62286982 | C8: 30 | M8: 30
A9: 25/04/2025 | B9: HMRC SDDS 0000296094 | C9: 150.24 | J9: 150.24
A10: 28/04/2025 | B10: SANDRA RAMSAY Salary April | C10: 226.36 | I10: 226.36
A11: 45662 | B11: ZURICH D6990672C | C11: 352.62 | N11: 352.62
A12: 13/5/2025 | B12: YGP 900025281 | C12: 909.94 | O12: 909.94
A13: 16/5/2025 | B13: DAISY COMMS LTD DZG26873 | C13: 48.62 | M13: 48.62
A14: 20/05/2025 | B14: Mark McCraw Ltd 90435 | C14: 100 | L14: 100
A15: 23/05/2025 | B15: IONOS CLOUD LTD. V95449917-64285239 | C15: 10.8 | M15: 10.8
A16: 28/05/2025 | B16: Francis Alexander Amazon Expense | C16: 10.54 | L16: 10.54 | X16: Fire Safety log book
A17: 28/05/2025 | B17: Francis Alexander Post Office - FS | C17: 8.89 | L17: 8.89 | X17: Fire Action notice signs
A18: 28/05/2025 | B18: SANDRA RAMSAY Salary May | C18: 232.16 | I18: 232.16
A19: 30/05/2025 | B19: PJ & RDG Allen May25 Expenses | C19: 426.28 | K19: 426.28
A20: 45694 | B20: ZURICH D6990672C | C20: 352.62 | N20: 352.62
A21: 45997 | B21: YGP 900025281 | C21: 591.48 | O21: 591.48
A22: 16/6/2025 | B22: DAISY COMMS LTD DZG26873 | C22: 48.37 | M22: 48.37
A23: 23/6/2025 | B23: FMS FIRE AND SECUR ST3840 127956 | C23: 156 | L23: 156
A24: 23/6/2025 | B24: FMS FIRE AND SECUR ST3840 - 122632 | C24: 156 | L24: 156
A25: 23/6/2025 | B25: MGC ELECTRICAL (SC JB05700-INV-6398 | C25: 847.14 | G25: 847.14
A26: 23/6/2025 | B26: MGC ELECTRICAL (SC JB05704-INV-6397 | C26: 1708.8 | G26: 1708.8
A27: 25/6/2025 | B27: IONOS CLOUD LTD. V95449917-69239716 | C27: 10.8 | M27: 10.8
A28: 27/6/2025 | B28: SANDRA RAMSAY Salary June | C28: 229.15 | I28: 229.15
A29: 45664 | B29: ZURICH D6990672C | C29: 352.62 | N29: 352.62
A30: 14/7/2025 | B30: DAISY COMMS LTD DZG26873 | C30: 48.37 | M30: 48.37
A31: 14/7/2025 | B31: YGP 900025281 | C31: 477.76 | O31: 477.76
A32: 23/7/2025 | B32: IONOS CLOUD LTD. V95449917-64301364 | C32: 10.8 | M32: 10.8
A33: 24/7/2025 | B33: HMRC SDDS 0000296094 | C33: 152.33 | J33: 152.33
A34: 28/7/2025 | B34: SANDRA RAMSAY Salary July 2025 | C34: 229.16 | I34: 229.16
A35: 29/7/2025 | B35: MGC ELECTRICAL (SC INV-6482 | C35: 506.23 | G35: 506.23
A36: 45999 | B36: YGP 900025281 | C36: 372.58 | O36: 372.58
A37: 15/8/2025 | B37: DAISY COMMS LTD DZG26873 | C37: 48.37 | M37: 48.37
A38: 19/8/2025 | B38: MR L BARCLAY Inv No 381 | C38: 129 | G38: 129
A39: 19/8/2025 | B39: Progression AV 228 AudioS Deposit | C39: 1909.98 | G39: 1909.98
A40: 26/8/2025 | B40: John Vincent 10 Hall Keys Cut | C40: 49.9 | G40: 49.9
...

Sheet Setup
B1: Number | C1: Text
A2: Current Year End | B2: 46112 | C2: =TEXT(B2,"DD/MM/YYYY")&" " -> 31/03/2026
A3: Previous Year End | B3: =DATE(YEAR(B2+1)-1,MONTH(B2+1),DAY(B2+1))-1 -> 45747 | C3: =TEXT(B3,"DD/MM/YYYY")&" " -> 31/03/2025
A4: Current Year | B4: =YEAR(B2) -> 2026 | C4: =TEXT(B4,"0000")&" " -> 2026
A5: Previous Year | B5: =YEAR(B3) -> 2025 | C5: =TEXT(B5,"0000")&" " -> 2025
A6: First Day of Year | C6: =TEXT(B3+1,"DD MMMM YYYY")&" " -> 01 April 2025
A7: Last Day of Year | C7: =TEXT(B2,"DD MMMM YYYY")&" " -> 31 March 2026

Sheet TAR
A1: [TAR]
A2: Charity Name | B2: St Martin's Community Resource Centre
A4: Charity Number | B4: SC042335
A6: Principal Address | B6: 232 Dalry Road
B7: Edinburgh
B8: Midlothian
B9: EH11 2JG
A11: Website Address | B11: https://smcrc.org/
A13: Current Trustees | B13: Mary Kernohan
B14: Frank Alexander
B15: Stuart Campbel
B16: Jean Carletta
B17: John Vincent
B18: Roderick Mackenzie
B19: Daniela Senkyrova
B20: Kaitllin Yoder | C20: Appointed | D20: 45627
A22: Other Trustees who served during the year | B22: Catriona Windle | C22: Retired | D22: 45627
A24: Bankers | B24: The Co-operative Ban
B25: PO Box 101
B26: 1 Balloon Street
B27: Manachester
B28: M60 4EP
A30: Independent Examiner | B30: Steven Cowan
B31: Surrealist Solutions Limited
B32: 65 Logie Green Road
B33: Edinburgh
B34: EH7 4HF

Sheet R&P
A1: [R&P]
C2: Unrestricted | D2: Restricted | E2: Total
B3: Note | C3: Funds | D3: Funds | E3: 46112
A4: Receipts | C4: £ | D4: £ | E4: £
A5: Donations | C5: ='SMCRC Summary'!F2 -> 1750 | D5: 0 | E5: =SUM(C5:D5) -> 1750
A6: Hall Rent | C6: ='SMCRC Summary'!F3 -> 34698.21 | D6: 0 | E6: =SUM(C6:D6) -> 34698.21
A7: Office Rent | C7: ='SMCRC Summary'!F4 -> 2346 | D7: 0 | E7: =SUM(C7:D7) -> 2346
A9: Total | C9: =SUM(C5:C8) -> 38794.21 | D9: =SUM(D5:D8) -> 0 | E9: =SUM(E5:E8) -> 38794.21
A11: Payments | C11: £ | D11: £ | E11: £
A12: Maintenance | C12: ='SMCRC Summary'!F10 -> 19555.26 | D12: 0 | E12: =SUM(C12:D12) -> 19555.26
A13: Utilities | C13: ='SMCRC Summary'!F17 -> 11009.67 | D13: 0 | E13: =SUM(C13:D13) -> 11009.67
A14: Insurance | C14: ='SMCRC Summary'!F16 -> 7172.18 | D14: 0 | E14: =SUM(C14:D14) -> 7172.18
A15: Cleaner Salary | C15: ='SMCRC Summary'!F11 -> 2750.27 | D15: 0 | E15: =SUM(C15:D15) -> 2750.27
A16: Lift/Door/Fire | C16: ='SMCRC Summary'!F14 -> 1924.88 | D16: 0 | E16: =SUM(C16:D16) -> 1924.88
A17: Telephone/Web | C17: ='SMCRC Summary'!F15 -> 733.06 | D17: 0 | E17: =SUM(C17:D17) -> 733.06
A18: HMRC Tax | C18: ='SMCRC Summary'!F12 -> 607.63 | D18: 0 | E18: =SUM(C18:D18) -> 607.63
A19: Sundries | C19: ='SMCRC Summary'!F13 -> 441.27 | D19: 0 | E19: =SUM(C19:D19) -> 441.27
A20: Independent Examination | C20: ='SMCRC Summary'!F18 -> 400 | D20: 0 | E20: =SUM(C20:D20) -> 400
A22: Total | C22: =SUM(C12:C21) -> 44594.22 | D22: =SUM(D12:D21) -> 0 | E22: =SUM(E12:E21) -> 44594.22
A24: Net movement in funds | C24: =C9-C22 -> -5800.01 | D24: =D9-D22 -> 0 | E24: =E9-E22 -> -5800.01

Sheet SOB
A1: [Statement of Balances]
C2: Unrestricted | D2: Restricted | E2: Total
B3: Note | C3: Funds | D3: Funds | E3: 46112
A4: Funds Reconciliation | C4: £ | D4: £ | E4: £
A5: ="Balance as at "&Setup!C2 -> Balance as at 31/03/2026 | C5: ='SMCRC Summary'!F25 -> 21507.37 | D5: 0 | E5: =+C5 -> 21507.37
A6: Surplus/(Deficit) for year | C6: ='SMCRC Summary'!F22 -> -5800.01 | D6: 0 | E6: =SUM(C6:D6) -> -5800.01
A7: ="Balance as at "&Setup!C1 -> Balance as at Text | C7: =SUM(C5:C6) -> 15707.36 | D7: =SUM(D5:D6) -> 0 | E7: =SUM(E5:E6) -> 15707.36
A9: Bank & Cash Balances
A10: Cash at Bank | C10: 15919.29 | D10: 0 | E10: ='SMCRC Summary'!F29 -> 15707.36
A11: Cash in Hand | C11: 0 | D11: 0 | E11: =SUM(C11:D11) -> 0
C12: =SUM(C10:C11) -> 15919.29 | D12: =SUM(D10:D11) -> 0 | E12: =SUM(E10:E11) -> 15707.36

Sheet Monthly total
A1: £££ Income | U1: Profit / Loss
A2: Month | C2: Amount | D2: Cash Match | E2: Restricted Grants | F2: Restricted Donations | G2: Unrestricted Donations | H2: Fun(d) Raising | I2: Interest | J2: Hall Rents | K2: Office rents | L2: VAT Refund | M2: Other CP Income | N2: Petty Cash | O2: Intergenerational Project | P2: Sharing Secrets | Q2: Ladies Tea Party | R2: Notes | T2: Average | U2: =AVERAGE(U3:U14) -> -483.33417
A3: 45748 | C3: ='Apr 25'!C24 -> 2434.25 | D3: ='Apr 25'!D24 -> 2434.25 | E3: ='Apr 25'!E24 -> 0 | F3: ='Apr 25'!F24 -> 0 | G3: ='Apr 25'!G24 -> 0 | H3: ='Apr 25'!H24 -> 0 | I3: ='Apr 25'!I24 -> 0 | J3: ='Apr 25'!J24 -> 2204.25 | ... Q3: ='Apr 25'!Q24 -> 0 | T3: 45383 | U3: =C3-C19 -> -138.97
A4: 45778 | C4: ='May 25'!C24 -> 2778.75 | D4: ='May 25'!D24 -> 2778.75 | E4: ='May 25'!E24 -> 0 | F4: ='May 25'!F24 -> 0 | G4: ='May 25'!G24 -> 0 | H4: ='May 25'!H24 -> 0 | I4: ='May 25'!I24 -> 0 | J4: ='May 25'!J24 -> 2548.75 | ... Q4: ='May 25'!Q24 -> 0 | T4: 45413 | U4: =C4-C20 -> 678.9
A5: 45809 | C5: ='Jun 25'!C24 -> 3511.75 | D5: ='Jun 25'!D24 -> 3511.75 | E5: ='Jun 25'!E24 -> 0 | F5: ='Jun 25'!F24 -> 0 | G5: ='Jun 25'!G24 -> 500 | H5: ='Jun 25'!H24 -> 0 | I5: ='Jun 25'!I24 -> 0 | J5: ='Jun 25'!J24 -> 2781.75 | ... Q5: ='Jun 25'!Q24 -> 0 | T5: 45444 | U5: =C5-C21 -> -588.61
A6: 45839 | C6: ='Jul 25'!C24 -> 3230.25 | D6: ='Jul 25'!D24 -> 3230.25 | E6: ='Jul 25'!E24 -> 0 | F6: ='Jul 25'!F24 -> 0 | G6: ='Jul 25'!G24 -> 0 | H6: ='Jul 25'!H24 -> 0 | I6: ='Jul 25'!I24 -> 0 | J6: ='Jul 25'!J24 -> 3000.25 | ... Q6: ='Jul 25'!Q24 -> 0 | T6: 45474 | U6: =C6-C22 -> 1452.98
A7: 45870 | C7: ='Aug 25'!C24 -> 2905.08 | D7: ='Aug 25'!D24 -> 2905.08 | E7: ='Aug 25'!E24 -> 0 | F7: ='Aug 25'!F24 -> 0 | G7: ='Aug 25'!G24 -> 0 | H7: ='Aug 25'!H24 -> 0 | I7: ='Aug 25'!I24 -> 0 | J7: ='Aug 25'!J24 -> 2675.08 | ... Q7: ='Aug 25'!Q24 -> 0 | T7: 45505 | U7: =C7-C23 -> -87.55
A8: 45901 | C8: ='Sep 25'!C24 -> 3295.75 | D8: ='Sep 25'!D24 -> 3295.75 | E8: ='Sep 25'!E24 -> 0 | F8: ='Sep 25'!F24 -> 0 | G8: ='Sep 25'!G24 -> 100 | H8: ='Sep 25'!H24 -> 0 | I8: ='Sep 25'!I24 -> 0 | J8: ='Sep 25'!J24 -> 2965.75 | ... Q8: ='Sep 25'!Q24 -> 0 | T8: 45536 | U8: =C8-C24 -> -3470.27
A9: 45931 | C9: ='Oct 25'!C24 -> 2547 | D9: ='Oct 25'!D24 -> 2547 | E9: ='Oct 25'!E24 -> 0 | F9: ='Oct 25'!F24 -> 0 | G9: ='Oct 25'!G24 -> 250 | H9: ='Oct 25'!H24 -> 0 | I9: ='Oct 25'!I24 -> 0 | J9: ='Oct 25'!J24 -> 2205 | ... Q9: ='Oct 25'!Q24 -> 0 | T9: 45566 | U9: =C9-C25 -> -1696.3
A10: 45962 | C10: ='Nov 25'!C24 -> 4804.5 | D10: ='Nov 25'!D24 -> 4804.5 | E10: ='Nov 25'!E24 -> 0 | F10: ='Nov 25'!F24 -> 0 | G10: ='Nov 25'!G24 -> 0 | H10: ='Nov 25'!H24 -> 0 | I10: ='Nov 25'!I24 -> 0 | J10: ='Nov 25'!J24 -> 4712.5 | ... Q10: ='Nov 25'!Q24 -> 0 | T10: 45597 | U10: =C10-C26 -> -1248.48
A11: 45992 | C11: ='Dec 25'!C24 -> 2452 | D11: ='Dec 25'!D24 -> 2452 | E11: ='Dec 25'!E24 -> 0 | F11: ='Dec 25'!F24 -> 0 | G11: ='Dec 25'!G24 -> 0 | H11: ='Dec 25'!H24 -> 0 | I11: ='Dec 25'!I24 -> 0 | J11: ='Dec 25'!J24 -> 2360 | ... Q11: ='Dec 25'!Q24 -> 0 | T11: 45627 | U11: =C11-C27 -> -5409.83
A12: 46023 | C12: ='Jan 26'!C24 -> 3871.75 | D12: ='Jan 26'!D24 -> 3871.75 | E12: ='Jan 26'!E24 -> 0 | F12: ='Jan 26'!F24 -> 0 | G12: ='Jan 26'!G24 -> 700 | H12: ='Jan 26'!H24 -> 0 | I12: ='Jan 26'!I24 -> 0 | J12: ='Jan 26'!J24 -> 2941.75 | ... Q12: ='Jan 26'!Q24 -> 0 | T12: 45658 | U12: =C12-C28 -> 1795.24
A13: 46054 | C13: ='Feb 26'!C24 -> 3192.5 | D13: ='Feb 26'!D24 -> 3192.5 | E13: ='Feb 26'!E24 -> 0 | F13: ='Feb 26'!F24 -> 0 | G13: ='Feb 26'!G24 -> 0 | H13: ='Feb 26'!H24 -> 0 | I13: ='Feb 26'!I24 -> 0 | J13: ='Feb 26'!J24 -> 2962.5 | ... Q13: ='Feb 26'!Q24 -> 0 | T13: 45689 | U13: =C13-C29 -> 1813.8
A14: 46082 | C14: ='Mar 26'!C24 -> 3770.63 | D14: ='Mar 26'!D24 -> 3770.63 | E14: ='Mar 26'!E24 -> 0 | F14: ='Mar 26'!F24 -> 0 | G14: ='Mar 26'!G24 -> 200 | H14: ='Mar 26'!H24 -> 0 | I14: ='Mar 26'!I24 -> 0 | J14: ='Mar 26'!J24 -> 3340.63 | ... Q14: ='Mar 26'!Q24 -> 0 | T14: 45717 | U14: =C14-C30 -> 1099.08
A15: Total | C15: =SUM(C3:C14) -> 38794.21 | E15: =SUM(E3:E14) -> 0 | F15: =SUM(F3:F14) -> 0 | G15: =SUM(G3:G14) -> 1750 | H15: =SUM(H3:H14) -> 0 | I15: =SUM(I3:I14) -> 0 | J15: =SUM(J3:J14) -> 34698.21 | K15: =SUM(K3:K14) -> 2346 | L15: =SUM(L3:L14) -> 0 | ... Q15: =SUM(Q3:Q14) -> 0
A17: £££ Expenditure
A18: Month | C18: Total | E18: Heating Project (unrestricted funds) | F18: Stationery | G18: SMCRC Maintenance | H18: Covid 19 | I18: Cleaner's Salary | J18: HMRC Cleaner | K18: Cleaning & Sundries | L18: Lift/Door/Fire etc | M18: Telephone | N18: Insurance | O18: Utilities | P18: Rates & Water | Q18: Petty Cash | R18: Intergenerational Project | S18: Other | T18: Heating Project (Restricted Funds) | U18: Independent Examiner's Fee | V18: Sharing Secrets Fest. | W18: Ladies Tea Party | X18: Notes
A19: 45748 | C19: ='Apr 25'!C41 -> 2573.22 | D19: ='Apr 25'!D41 -> 2573.22 | E19: ='Apr 25'!E41 -> 0 | F19: ='Apr 25'!F41 -> 0 | G19: ='Apr 25'!G41 -> 0 | H19: ='Apr 25'!H41 -> 0 | I19: ='Apr 25'!I41 -> 226.36 | J19: ='Apr 25'!J41 -> 150.24 | ... W19: ='Apr 25'!W41 -> 0
A20: 45778 | C20: ='May 25'!C41 -> 2099.85 | D20: ='May 25'!D41 -> 2099.85 | E20: ='May 25'!E41 -> 0 | F20: ='May 25'!F41 -> 0 | G20: ='May 25'!G41 -> 0 | H20: ='May 25'!H41 -> 0 | I20: ='May 25'!I41 -> 232.16 | J20: ='May 25'!J41 -> 0 | ... W20: ='May 25'!W41 -> 0
A21: 45809 | C21: ='Jun 25'!C41 -> 4100.36 | D21: ='Jun 25'!D41 -> 4100.36 | E21: ='Jun 25'!E41 -> 0 | F21: ='Jun 25'!F41 -> 0 | G21: ='Jun 25'!G41 -> 2555.94 | H21: ='Jun 25'!H41 -> 0 | I21: ='Jun 25'!I41 -> 229.15 | J21: ='Jun 25'!J41 -> 0 | ... W21: ='Jun 25'!W41 -> 0
A22: 45839 | C22: ='Jul 25'!C41 -> 1777.27 | D22: ='Jul 25'!D41 -> 1777.27 | E22: ='Jul 25'!E41 -> 0 | F22: ='Jul 25'!F41 -> 0 | G22: ='Jul 25'!G41 -> 506.23 | H22: ='Jul 25'!H41 -> 0 | I22: ='Jul 25'!I41 -> 229.16 | J22: ='Jul 25'!J41 -> 152.33 | ... W22: ='Jul 25'!W41 -> 0
A23: 45870 | C23: ='Aug 25'!C41 -> 2992.63 | D23: ='Aug 25'!D41 -> 2992.63 | E23: ='Aug 25'!E41 -> 0 | F23: ='Aug 25'!F41 -> 0 | G23: ='Aug 25'!G41 -> 2088.88 | H23: ='Aug 25'!H41 -> 0 | I23: ='Aug 25'!I41 -> 0 | J23: ='Aug 25'!J41 -> 0 | ... W23: ='Aug 25'!W41 -> 0
A24: 45901 | C24: ='Sep 25'!C41 -> 6766.02 | D24: ='Sep 25'!D41 -> 6766.02 | E24: ='Sep 25'!E41 -> 0 | F24: ='Sep 25'!F41 -> 0 | G24: ='Sep 25'!G41 -> 5534.77 | H24: ='Sep 25'!H41 -> 0 | I24: ='Sep 25'!I41 -> 458.31 | J24: ='Sep 25'!J41 -> 0 | ... W24: ='Sep 25'!W41 -> 0
A25: 45931 | C25: ='Oct 25'!C41 -> 4243.3 | D25: ='Oct 25'!D41 -> 4243.3 | E25: ='Oct 25'!E41 -> 0 | F25: ='Oct 25'!F41 -> 0 | G25: ='Oct 25'!G41 -> 3097.98 | H25: ='Oct 25'!H41 -> 0 | I25: ='Oct 25'!I41 -> 229.16 | J25: ='Oct 25'!J41 -> 152.53 | ... W25: ='Oct 25'!W41 -> 0
A26: 45962 | C26: ='Nov 25'!C41 -> 6052.98 | D26: ='Nov 25'!D41 -> 6052.98 | E26: ='Nov 25'!E41 -> 0 | F26: ='Nov 25'!F41 -> 0 | G26: ='Nov 25'!G41 -> 5230 | H26: ='Nov 25'!H41 -> 0 | I26: ='Nov 25'!I41 -> 0 | J26: ='Nov 25'!J41 -> 0 | ... W26: ='Nov 25'!W41 -> 0
A27: 45992 | C27: ='Dec 25'!C41 -> 7861.83 | D27: ='Dec 25'!D41 -> 7861.83 | E27: ='Dec 25'!E41 -> 0 | F27: ='Dec 25'!F41 -> 0 | G27: ='Dec 25'!G41 -> 279.14 | H27: ='Dec 25'!H41 -> 0 | I27: ='Dec 25'!I41 -> 458.31 | J27: ='Dec 25'!J41 -> 0 | ... W27: ='Dec 25'!W41 -> 0
A28: 46023 | C28: ='Jan 26'!C41 -> 2076.51 | D28: ='Jan 26'!D41 -> 2076.51 | E28: ='Jan 26'!E41 -> 0 | F28: ='Jan 26'!F41 -> 0 | G28: ='Jan 26'!G41 -> 0 | H28: ='Jan 26'!H41 -> 0 | I28: ='Jan 26'!I41 -> 229.15 | J28: ='Jan 26'!J41 -> 152.53 | ... W28: ='Jan 26'!W41 -> 0
A29: 46054 | C29: ='Feb 26'!C41 -> 1378.7 | D29: ='Feb 26'!D41 -> 1378.7 | E29: ='Feb 26'!E41 -> 0 | F29: ='Feb 26'!F41 -> 0 | G29: ='Feb 26'!G41 -> 262.32 | H29: ='Feb 26'!H41 -> 0 | I29: ='Feb 26'!I41 -> 0 | J29: ='Feb 26'!J41 -> 0 | ... W29: ='Feb 26'!W41 -> 0
A30: 46082 | C30: ='Mar 26'!C41 -> 2671.55 | D30: ='Mar 26'!D41 -> 2671.55 | E30: ='Mar 26'!E41 -> 0 | F30: ='Mar 26'!F41 -> 0 | G30: ='Mar 26'!G41 -> 0 | H30: ='Mar 26'!H41 -> 0 | I30: ='Mar 26'!I41 -> 458.51 | J30: ='Mar 26'!J41 -> 0 | ... W30: ='Mar 26'!W41 -> 0
A31: Total | C31: =SUM(C19:C30) -> 44594.22 | E31: =SUM(E19:E30) -> 0 | F31: =SUM(F19:F30) -> 0 | G31: =SUM(G19:G30) -> 19555.26 | H31: =SUM(H19:H30) -> 0 | I31: =SUM(I19:I30) -> 2750.27 | J31: =SUM(J19:J30) -> 607.63 | K31: =SUM(K19:K30) -> 441.27 | L31: =SUM(L19:L30) -> 1924.88 | ... W31: =SUM(W19:W30) -> 0

Sheet Apr 25
A1: ££ Income
A2: Date | B2: Details | C2: Amount | D2: Ref. No | E2: Restricted Grants | F2: Restricted Donations | G2: Unrestricted Donations | H2: St Martin Don | I2: Interest | J2: Hall Rents | K2: Office Rents | L2: VAT Refund | M2: Other CP Income | N2: Petty Cash | O2: Intergenerational Project | P2: Sharing Secrets | Q2: Ladies Tea Party | R2: Notes
A3: 45661 | B3: Colla Castellera d SMCRC 2025272 | C3: 321 | D3: SMCRC 2025272 | J3: 321
A4: 45720 | B4: FEERIA USPEHA Planetarium Show | C4: 82.5 | D4: SMCRC 2025263 | J4: 82.5
A5: 45720 | B5: ROBERTSON C & G-RO 2025264 | C5: 66 | D5: SMCRC 2025264 | J5: 66
A6: 45751 | B6: DUNEDIN DANCERS SMCRC 2025262 | C6: 66 | D6: SMCRC 2025262 | J6: 66
A7: 45751 | B7: GORGIE COLLECTIVE GORGIE COLLECTIVE | C7: 138 | D7: DD | K7: 138
A8: 45751 | B8: Safe and Sound SMCRC 2025269 | C8: 335 | D8: SMCRC 2025269 | J8: 335
A9: 45842 | B9: HOME-START EDINBUR 2025265 | C9: 204 | D9: SMCRC 2025265 | J9: 204
A10: 45842 | B10: MS R C KILBEY | C10: 66 | D10: SMCRC 2025270 | J10: 66
A11: 45873 | B11: TCHAKMAKDJIAN A HALL PAYMENTS | C11: 64 | D11: SMCRC 2025270 | J11: 64
A12: 45904 | B12: HEALTH ALL ROUND INV 2025278 | C12: 330 | D12: SMCRC 2025278 | J12: 330
A13: 14/04/2025 | B13: CAPS INDEPENDENT A i-v 2025271 | C13: 10 | D13: SMCRC 2025271 | J13: 10
A14: 14/04/2025 | B14: EDINBURGH YOUTH TH 2025268 | C14: 123.75 | D14: SMCRC 2025268 | J14: 123.75
A15: 15/04/2025 | B15: SPOKES 6530670F SPOKES LOTHIAN COU | C15: 92 | D15: DD | K15: 92
A16: 16/04/2025 | B16: ALEXANDER MR ST MARTINS RENT | C16: 450 | D16: DD | J16: 450
A17: 22/04/2025 | B17: GORGIE DALRY TOY L SMCRC | C17: 30 | D17: DD | J17: 30
A18: 28/04/2025 | B18: Alba Vinti Lopez SMCRC 2025267 | C18: 56 | D18: SMCRC 2025267 | J18: 56
A24: Total | C24: =SUM(C3:C23) -> 2434.25 | D24: =SUM(E24:Q24) -> 2434.25 | E24: =SUM(E3:E23) -> 0 | F24: =SUM(F3:F23) -> 0 | G24: =SUM(G3:G23) -> 0 | H24: =SUM(H3:H23) -> 0 | I24: =SUM(I3:I23) -> 0 | J24: =SUM(J3:J23) -> 2204.25 | K24: =SUM(K3:K23) -> 230 | L24: =SUM(L3:L23) -> 0 | ... Q24: =SUM(Q3:Q23) -> 0
A26: ££ Expenditure
A27: Date | B27: Details | C27: Amount | D27: Cheque No | E27: Heating Project (unrestricted funds) | F27: Stationery | G27: SMCRC Maintenance | H27: Covid 19 | I27: Cleaner's Salary | J27: HMRC Cleaner | K27: Cleaning & Sundries | L27: Lift/Door/Fire etc | M27: Telephone | N27: Insurance | O27: Utilities | P27: Rates & Water | Q27: Petty Cash | R27: Intergenerational Project | S27: Other | T27: Heating Project (Restricted Funds) | U27: Independent Examiner's Fee | V27: Sharing Secrets Fest. | W27: Ladies Tea Party | X27: Notes
A28: 45661 | B28: ZURICH D6990672C | C28: 352.62 | N28: 352.62
A29: 45934 | B29: ZURICH D6990672C | C29: 47.2 | L29: 47.2
A30: 14/04/2025 | B30: DAISY COMMS LTD DZG26873 | C30: 49.54 | M30: 49.54
A31: 14/04/2025 | B31: YGP 900025281 | C31: 1417.26 | O31: 1417.26
A32: 22/04/2025 | B32: Mark McCraw Ltd 90435 | C32: 300 | L32: 300
A33: 24/04/2025 | B33: IONOS CLOUD LTD. V95449917-62286982 | C33: 30 | M33: 30
A34: 25/04/2025 | B34: HMRC SDDS 0000296094 | C34: 150.24 | J34: 150.24
A35: 28/04/2025 | B35: SANDRA RAMSAY Salary April | C35: 226.36 | I35: 226.36
A41: Total | C41: =SUM(C28:C40) -> 2573.22 | D41: =SUM(E41:W41) -> 2573.22 | E41: =SUM(E28:E40) -> 0 | F41: =SUM(F28:F40) -> 0 | G41: =SUM(G28:G40) -> 0 | H41: =SUM(H28:H40) -> 0 | I41: =SUM(I28:I40) -> 226.36 | J41: =SUM(J28:J40) -> 150.24 | K41: =SUM(K28:K40) -> 0 | L41: =SUM(L28:L40) -> 347.2 | ... W41: =SUM(W28:W40) -> 0
A43: Bank Reconciliation
A44: Balance at 28 March 25 | F44: 21507.37
A45: Amounts received during month | D45: =+C24 -> 2434.25
A46: Amounts paid out during month | D46: =+C41 -> 2573.22 | F46: =+D45-D46 -> -138.97
A47: Balance | F47: =+F44+F46 -> 21368.4
A49: Amounts received but not credited by Bank
F50: =SUM(C50:C50) -> 0
F52: =+F47-F50 -> 21368.4
A53: Amounts paid out but not debited by bank
F54: =SUM(C54:C54) -> 0
...

Sheet May 25
A1: ££ Income
A2: Date | B2: Details | C2: Amount | D2: Ref. No | E2: Restricted Grants | F2: Restricted Donations | G2: Unrestricted Donations | H2: St Martin Donations | I2: Interest | J2: Hall Rents | K2: Office Rents | L2: VAT Refund | M2: Other CP Income | N2: Petty Cash | O2: Intergenerational Project | P2: Sharing Secrets | Q2: Ladies Tea Party | R2: Notes
A3: 45813 | B3: BRYER KC K Bryer | C3: 44 | D3: SMCRC 2025279 | J3: 44
A4: 45813 | B4: GORGIE COLLECTIVE GORGIE COLLECTIVE | C4: 138 | D4: DD | K4: 138
A5: 45813 | B5: Nourou Dareyni Sco HALL April | C5: 216 | D5: SMCRC 2025286 | J5: 216
A6: 45843 | B6: Gayle Strachan GSAC2503 | C6: 225 | D6: SMCRC 2025277 | J6: 225
A7: 45843 | B7: HEALTH ALL ROUND INV 2025294 | C7: 412.5 | D7: SMCRC 2025294 | J7: 412.5
A8: 45843 | B8: Colla Castellera d SMCRC 2025288 | C8: 433 | D8: SMCRC 2025288 | J8: 433
A9: 45874 | B9: ROBERTSON C & G-RO 2025280 | C9: 49.5 | D9: SMCRC 2025280 | J9: 49.5
A10: 45905 | B10: HOME-START EDINBUR 2025281 | C10: 255 | D10: SMCRC 2025281 | J10: 255
A11: 45905 | B11: EDINBURGH YOUTH TH 2025283 | C11: 255.75 | D11: SMCRC 2025283 | J11: 255.75
A12: 45996 | B12: CAPS INDEPENDENT A CAPS i-v 2025287 | C12: 10 | D12: SMCRC 2025287 | J12: 10
A13: 45996 | B13: K Scott BELLD 2025293 | C13: 21 | D13: SMCRC 2025293 | J13: 21
A14: 15/5/2025 | B14: SPOKES 6530670F SPOKES LOTHIAN COU | C14: 92 | D14: DD | K14: 92
A15: 16/5/2025 | B15: ALEXANDER MR ST MARTINS RENT | C15: 450 | D15: DD | J15: 450
A16: 20/05/2025 | B16: SMCRC GORGIE DALRY TOY L | C16: 30 | D16: DD | J16: 30
A17: 26/05/2025 | B17: Charms And Chants SMCRC 2025284 | C17: 147 | D17: SMCRC 2025284 | J17: 147
A24: Total | C24: =SUM(C3:C23) -> 2778.75 | D24: =SUM(E24:Q24) -> 2778.75 | E24: =SUM(E3:E23) -> 0 | F24: =SUM(F3:F23) -> 0 | G24: =SUM(G3:G23) -> 0 | H24: =SUM(H3:H23) -> 0 | I24: =SUM(I3:I23) -> 0 | J24: =SUM(J3:J23) -> 2548.75 | K24: =SUM(K3:K23) -> 230 | L24: =SUM(L3:L23) -> 0 | ... Q24: =SUM(Q3:Q23) -> 0
A26: ££ Expenditure
A27: Date | B27: Details | C27: Amount | D27: Cheque No | E27: Heating Project (unrestricted funds) | F27: Stationery | G27: SMCRC Maintenance | H27: Covid 19 | I27: Cleaner's Salary | J27: HMRC Cleaner | K27: Cleaning & Sundries | L27: Lift/Door/Fire etc | M27: Telephone | N27: Insurance | O27: Utilities | P27: Rates & Water | Q27: Petty Cash | R27: Intergenerational Project | S27: Other | T27: Heating Project (Restricted Funds) | U27: Independent Examiner's Fee | V27: Sharing Secrets Fest. | W27: Ladies Tea Party | X27: Notes
A28: 45662 | B28: ZURICH D6990672C | C28: 352.62 | N28: 352.62
A29: 13/5/2025 | B29: YGP 900025281 | C29: 909.94 | O29: 909.94
A30: 16/5/2025 | B30: DAISY COMMS LTD DZG26873 | C30: 48.62 | M30: 48.62
A31: 20/05/2025 | B31: Mark McCraw Ltd 90435 | C31: 100 | L31: 100
A32: 23/05/2025 | B32: IONOS CLOUD LTD. V95449917-64285239 | C32: 10.8 | M32: 10.8
A33: 28/05/2025 | B33: Francis Alexander Amazon Expense | C33: 10.54 | L33: 10.54 | X33: Fire Safety log book
A34: 28/05/2025 | B34: Francis Alexander Post Office - FS | C34: 8.89 | L34: 8.89 | X34: Fire Action notice signs
A35: 28/05/2025 | B35: SANDRA RAMSAY Salary May | C35: 232.16 | I35: 232.16
A36: 30/05/2025 | B36: PJ & RDG Allen May25 Expenses | C36: 426.28 | K36: 426.28
A41: Total | C41: =SUM(C28:C40) -> 2099.85 | D41: =SUM(E41:W41) -> 2099.85 | E41: =SUM(E28:E40) -> 0 | F41: =SUM(F28:F40) -> 0 | G41: =SUM(G28:G40) -> 0 | H41: =SUM(H28:H40) -> 0 | I41: =SUM(I28:I40) -> 232.16 | J41: =SUM(J28:J40) -> 0 | K41: =SUM(K28:K40) -> 426.28 | L41: =SUM(L28:L40) -> 119.43 | ... W41: =SUM(W28:W40) -> 0
A43: Bank Reconciliation
A44: Balance at 28 April 25 | F44: 21368.4
A45: Amounts received during month | D45: =+C24 -> 2778.75
A46: Amounts paid out during month | D46: =+C41 -> 2099.85 | F46: =+D45-D46 -> 678.9
A47: Balance | F47: =+F44+F46 -> 22047.3
A49: Amounts received but not credited by Bank
F50: =SUM(C50:C50) -> 0
F52: =+F47-F50 -> 22047.3
A53: Amounts paid out but not debited by bank
F54: =SUM(C54:C54) -> 0
...

Sheet Jun 25
A1: ££ Income
A2: Date | B2: Details | C2: Amount | D2: Ref. No | E2: Restricted Grants | F2: Restricted Donations | G2: Unrestricted Donations | H2: St Martin Donations | I2: Interest | J2: Hall Rents | K2: Office Rents | L2: VAT Refund | M2: Other CP Income | N2: Petty Cash | O2: Intergenerational Project | P2: Sharing Secrets | Q2: Ladies Tea Party | R2: Notes
A3: 45694 | B3: T Ramjee SMCRC 2025285 | C3: 7 | D3: SMCRC 2025285 | J3: 7
A4: 45694 | B4: Colla Castellera d SMCRC 2025305 | C4: 221 | D4: SMCRC 2025305 | J4: 221
A5: 45694 | B5: ROBERTSON C & G-RO 2025296 | C5: 82.5 | D5: SMCRC 2025296 | J5: 82.5
A6: 45722 | B6: Christiano Correa Celeiro de Bamba | C6: 52 | D6: SMCRC 2025303 | J6: 52
A7: 45722 | B7: Charms And Chants SMCRC 2025301 | C7: 244 | D7: SMCRC 2025301 | J7: 244
A8: 45722 | B8: HEALTH ALL ROUND INV 2025311 | C8: 313.5 | D8: SMCRC 2025311 | J8: 313.5
A9: 45753 | B9: TCHAKMAKDJIAN A HALL PAYMENTS | C9: 64 | D9: SMCRC 2025308 | J9: 64
A10: 45753 | B10: GORGIE COLLECTIVE GORGIE COLLECTIVE | C10: 138 | D10: DD | K10: 138
A11: 45783 | B11: Alba Vinti Lopez SMCRC 2025299 | C11: 44 | D11: SMCRC 2025299 | J11: 44
A12: 45814 | B12: HOME-START EDINBUR SMCRC 2025297 | C12: 204 | D12: SMCRC 2025297 | J12: 204
A13: 45906 | B13: Nourou Dareyni Sco HALL May | C13: 240 | D13: SMCRC 2025302 | J13: 240
A14: 45997 | B14: K Scott BELLD2025310 | C14: 21 | D14: SMCRC 2025310 | J14: 21
A15: 45997 | B15: CAPS INDEPENDENT A i-v 2025304 | C15: 77 | D15: SMCRC 2025304 | J15: 77
A16: 13/6/2025 | B16: The Welcoming Asso 289-290-306-307 | C16: 432 | D16: SMCRC 2025289 SMCRC 2025290 SMCRC 2025306 SMCRC 2025307 | J16: 432 | R16: SMCRC 2025289 - 120 SMCRC 2025290 - 120 SMCRC 2025306 - 24 SMCRC 2025307 - 168
A17: 13/6/2025 | B17: DINBURGH YOUTH TH 2025300 | C17: 206.25 | D17: SMCRC 2025300 | J17: 206.25
A18: 16/6/2025 | B18: SPOKES 6530670F SPOKES LOTHIAN COU | C18: 92 | D18: DD | K18: 92
A19: 16/6/2025 | B19: ALEXANDER MR ST MARTINS RENT | C19: 450 | D19: DD | J19: 450
A20: 17/6/2025 | B20: 000000 CREDIT 4582400967880000 | C20: 500 | D20: DD | G20: 500
A21: 20/6/2025 | B21: GORGIE DALRY TOY L SMCRC | C21: 30 | D21: DD | J21: 30
A22: 24/6/2025 | B22: MONTAGU EVANS OFFI SMCRC 2025295 | C22: 93.5 | D22: SMCRC 2025295 | J22: 93.5
A24: Total | C24: =SUM(C3:C22) -> 3511.75 | D24: =SUM(E24:Q24) -> 3511.75 | E24: =SUM(E3:E22) -> 0 | F24: =SUM(F3:F22) -> 0 | G24: =SUM(G3:G22) -> 500 | H24: =SUM(H3:H22) -> 0 | I24: =SUM(I3:I22) -> 0 | J24: =SUM(J3:J22) -> 2781.75 | K24: =SUM(K3:K22) -> 230 | L24: =SUM(L3:L22) -> 0 | ... Q24: =SUM(Q3:Q22) -> 0
A26: ££ Expenditure
A27: Date | B27: Details | C27: Amount | D27: Cheque No | E27: Heating Project (unrestricted funds) | F27: Stationery | G27: SMCRC Maintenance | H27: Covid 19 | I27: Cleaner's Salary | J27: HMRC Cleaner | K27: Cleaning & Sundries | L27: Lift/Door/Fire etc | M27: Telephone | N27: Insurance | O27: Utilities | P27: Rates & Water | Q27: Petty Cash | R27: Intergenerational Project | S27: Other | T27: Heating Project (Restricted Funds) | U27: Independent Examiner's Fee | V27: Sharing Secrets Fest. | W27: Ladies Tea Party | X27: Notes
A28: 45694 | B28: ZURICH D6990672C | C28: 352.62 | N28: 352.62
A29: 45997 | B29: YGP 900025281 | C29: 591.48 | O29: 591.48
A30: 16/6/2025 | B30: DAISY COMMS LTD DZG26873 | C30: 48.37 | M30: 48.37
A31: 23/6/2025 | B31: FMS FIRE AND SECUR ST3840 127956 | C31: 156 | L31: 156
A32: 23/6/2025 | B32: FMS FIRE AND SECUR ST3840 - 122632 | C32: 156 | L32: 156
A33: 23/6/2025 | B33: MGC ELECTRICAL (SC JB05700-INV-6398 | C33: 847.14 | G33: 847.14 | X33: Fire Safety log book
A34: 23/6/2025 | B34: MGC ELECTRICAL (SC JB05704-INV-6397 | C34: 1708.8 | G34: 1708.8 | X34: Fire Action notice signs
A35: 25/6/2025 | B35: IONOS CLOUD LTD. V95449917-69239716 | C35: 10.8 | M35: 10.8
A36: 27/6/2025 | B36: SANDRA RAMSAY Salary June | C36: 229.15 | I36: 229.15
A41: Total | C41: =SUM(C28:C40) -> 4100.36 | D41: =SUM(E41:W41) -> 4100.36 | E41: =SUM(E28:E40) -> 0 | F41: =SUM(F28:F40) -> 0 | G41: =SUM(G28:G40) -> 2555.94 | H41: =SUM(H28:H40) -> 0 | I41: =SUM(I28:I40) -> 229.15 | J41: =SUM(J28:J40) -> 0 | K41: =SUM(K28:K40) -> 0 | L41: =SUM(L28:L40) -> 312 | ... W41: =SUM(W28:W40) -> 0
A43: Bank Reconciliation
A44: Balance at 30 May 25 | F44: 22047.3
A45: Amounts received during month | D45: =+C24 -> 3511.75
A46: Amounts paid out during month | D46: =+C41 -> 4100.36 | F46: =+D45-D46 -> -588.61
A47: Balance | F47: =+F44+F46 -> 21458.69
...

Sheet Jul 25
A1: ££ Income
A2: Date | B2: Details | C2: Amount | D2: Ref. No | E2: Restricted Grants | F2: Restricted Donations | G2: Unrestricted Donations | H2: St Martin Donations | I2: Interest | J2: Hall Rents | K2: Office Rents | L2: VAT Refund | M2: Other CP Income | N2: Petty Cash | O2: Intergenerational Project | P2: Sharing Secrets | Q2: Ladies Tea Party | R2: Notes
A3: 45664 | B3: Colla Castellera d SMCRC 2025323 | C3: 301 | D3: SMCRC 2025323 | J3: 301
A4: 45664 | B4: ROBERTSON C & G-RO 2025314 | C4: 66 | D4: SMCRC 2025314 | J4: 66
A5: 45695 | B5: Capoeira Senzala A SMCRC 2025321 | C5: 64 | D5: SMCRC 2025321 | J5: 64
A6: 45754 | B6: GORGIE COLLECTIVE GORGIE COLLECTIVE | C6: 138 | D6: DD | K6: 138
A7: 45754 | B7: HEALTH ALL ROUND 2025328 | C7: 330 | D7: SMCRC 2025328 | J7: 330
A8: 45907 | B8: HOME-START EDINBUR 2025315 | C8: 204 | D8: SMCRC 2025315 | J8: 204
A9: 45907 | B9: K Scott BELLD 2025327 | C9: 21 | D9: SMCRC 2025327 | J9: 21
A10: 45937 | B10: The Welcoming Asso inv 2025324 | C10: 192 | D10: SMCRC 2025324 | J10: 192
A11: 14/7/2025 | B11: CAPS INDEPENDENT A i-v 2025322 | C11: 10 | D11: SMCRC 2025322 | J11: 10
A12: 14/7/2025 | B12: EDINBURGH YOUTH TH 301 AND 318 | C12: 371.25 | D12: SMCRC 2025318 SMCRC 2025300 SMCRC 2025334 | J12: 371.25 | R12: SMCRC 2025318 - 165 SMCRC 2025300 - 206.25 - already paid SMCRC 2025334 - 123.75
A13: 15/7/2025 | B13: SPOKES 6530670F SPOKES LOTHIAN COU | C13: 92 | D13: DD | K13: 92
A14: 16/7/2025 | B14: Nourou Dareyni Sco HALL June | C14: 212 | D14: SMCRC 2025320 | J14: 212
A15: 16/7/2025 | B15: ALEXANDER MR ST MARTINS RENT | C15: 450 | D15: DD | J15: 450
A16: 17/7/2025 | B16: Praveen Mariappan LITHINS BDAY 04-07 | C16: 48 | D16: SMCRC 2025329 | J16: 48
A17: 21/7/2025 | B17: GORGIE DALRY TOY L SMCRC | C17: 30 | D17: DD | J17: 30
A18: 28/7/2025 | B18: Charms And Chants SMCRC 2025319 | C18: 68 | D18: SMCRC 2025319 | J18: 68
A19: 31/7/2025 | B19: Gayle Strachan GSAC2505 | C19: 135 | D19: SMCRC 2023260 | J19: 135 | R19: SMCRC 2023260 - 180
A20: 31/7/2025 | B20: Gayle Strachan GSAC2502 | C20: 135 | D20: SMCRC 2025309 | J20: 135
A21: 31/7/2025 | B21: Gayle Strachan GSAC0425 | C21: 138 | D21: SMCRC 2025292 | J21: 138
A22: 31/7/2025 | B22: Gayle Strachan GSAC2506 | C22: 225 | D22: SMCRC 2025326 | J22: 225
A24: Total | C24: =SUM(C3:C22) -> 3230.25 | D24: =SUM(E24:Q24) -> 3230.25 | E24: =SUM(E3:E22) -> 0 | F24: =SUM(F3:F22) -> 0 | G24: =SUM(G3:G22) -> 0 | H24: =SUM(H3:H22) -> 0 | I24: =SUM(I3:I22) -> 0 | J24: =SUM(J3:J22) -> 3000.25 | K24: =SUM(K3:K22) -> 230 | L24: =SUM(L3:L22) -> 0 | ... Q24: =SUM(Q3:Q22) -> 0
A26: ££ Expenditure
A27: Date | B27: Details | C27: Amount | D27: Cheque No | E27: Heating Project (unrestricted funds) | F27: Stationery | G27: SMCRC Maintenance | H27: Covid 19 | I27: Cleaner's Salary | J27: HMRC Cleaner | K27: Cleaning & Sundries | L27: Lift/Door/Fire etc | M27: Telephone | N27: Insurance | O27: Utilities | P27: Rates & Water | Q27: Petty Cash | R27: Intergenerational Project | S27: Other | T27: Heating Project (Restricted Funds) | U27: Independent Examiner's Fee | V27: Sharing Secrets Fest. | W27: Ladies Tea Party | X27: Notes
A28: 45664 | B28: ZURICH D6990672C | C28: 352.62 | N28: 352.62
A29: 14/7/2025 | B29: DAISY COMMS LTD DZG26873 | C29: 48.37 | M29: 48.37
A30: 14/7/2025 | B30: YGP 900025281 | C30: 477.76 | O30: 477.76
A31: 23/7/2025 | B31: IONOS CLOUD LTD. V95449917-64301364 | C31: 10.8 | M31: 10.8
A32: 24/7/2025 | B32: HMRC SDDS 0000296094 | C32: 152.33 | J32: 152.33
A33: 28/7/2025 | B33: SANDRA RAMSAY Salary July 2025 | C33: 229.16 | I33: 229.16 | X33: Fire Safety log book
A34: 29/7/2025 | B34: MGC ELECTRICAL (SC INV-6482 | C34: 506.23 | G34: 506.23 | X34: Fire Action notice signs
A41: Total | C41: =SUM(C28:C40) -> 1777.27 | D41: =SUM(E41:W41) -> 1777.27 | E41: =SUM(E28:E40) -> 0 | F41: =SUM(F28:F40) -> 0 | G41: =SUM(G28:G40) -> 506.23 | H41: =SUM(H28:H40) -> 0 | I41: =SUM(I28:I40) -> 229.16 | J41: =SUM(J28:J40) -> 152.33 | K41: =SUM(K28:K40) -> 0 | L41: =SUM(L28:L40) -> 0 | ... W41: =SUM(W28:W40) -> 0
A43: Bank Reconciliation
A44: Balance at 30 June 25 | F44: 21458.69
A45: Amounts received during month | D45: =+C24 -> 3230.25
A46: Amounts paid out during month | D46: =+C41 -> 1777.27 | F46: =+D45-D46 -> 1452.98
A47: Balance | F47: =+F44+F46 -> 22911.67
A49: Amounts received but not credited by Bank
F50: =SUM(C50:C50) -> 0
...

Sheet Aug 25
A1: ££ Income
A2: Date | B2: Details | C2: Amount | D2: Ref. No | E2: Restricted Grants | F2: Restricted Donations | G2: Unrestricted Donations | H2: St Martin Donations | I2: Interest | J2: Hall Rents | K2: Office Rents | L2: VAT Refund | M2: Other CP Income | N2: Petty Cash | O2: Intergenerational Project | P2: Sharing Secrets | Q2: Ladies Tea Party | R2: Notes
A3: 45755 | B3: K Scott BELLD 2025343 | C3: 21 | D3: SMCRC 2025343 | J3: 21
A4: 45755 | B4: Capoeira Senzala A SMCRC 2025339 | C4: 64 | D4: SMCRC 2025339 | J4: 64
A5: 45755 | B5: GORGIE COLLECTIVE GORGIE COLLECTIVE | C5: 138 | D5: DD | K5: 138
A6: 45755 | B6: HEALTH ALL ROUND INV 2025344 | C6: 412.5 | D6: SMCRC 2025344 | J6: 412.5
A7: 45755 | B7: ROBERTSON C & G-RO 2025331 Cat Rob | C7: 49.5 | D7: SMCRC 2025331 | J7: 49.5
A8: 45785 | B8: CHRISTOPHER HARRIS CHASE | C8: 77 | D8: SMCRC 2025336 | J8: 77
A9: 45816 | B9: The Welcoming Asso SMCRC 2025342 | C9: 168 | D9: SMCRC 2025342 | J9: 168
A10: 45877 | B10: HOME-START EDINBUR SMCRC 2025332 | C10: 255 | D10: SMCRC 2025332 | J10: 255
A11: 45877 | B11: Colla Castellera d SMCRC 2025341 | C11: 215.33 | D11: SMCRC 2025341 | J11: 215.33
A12: 45969 | B12: MONTAGU EVANS OFFI SMCRC 2025313 | C12: 88 | D12: SMCRC 2025313 | J12: 88
A13: 45999 | B13: CAPS INDEPENDENT A i-v 2025330 | C13: 82.5 | D13: SMCRC 2025330 | J13: 82.5
A14: 45999 | B14: Nourou Dareyni Sco HALL July | C14: 234.5 | D14: SMCRC 2025338 | J14: 234.5
A15: 13/8/2025 | B15: T Ramjee SMCRC 2025337 | C15: 91 | D15: SMCRC 2025337 | J15: 91
A16: 13/8/2025 | B16: EDINBURGH YOUTH TH 302 + 334 | C16: 354.75 | J16: 354.75
A17: 15/8/2025 | B17: Safe and Sound SMCRC 2025335 | C17: 82 | D17: SMCRC 2025335 | J17: 82
A18: 15/8/2025 | B18: SPOKES 6530670F SPOKES LOTHIAN COU | C18: 92 | D18: DD | K18: 92
A19: 18/8/2025 | B19: ALEXANDER MR ST MARTINS RENT | C19: 450 | D19: DD | J19: 450
A20: 20/8/2025 | B20: GORGIE DALRY TOY L SMCRC | C20: 30 | D20: DD | J20: 30
A24: Total | C24: =SUM(C3:C22) -> 2905.08 | D24: =SUM(E24:Q24) -> 2905.08 | E24: =SUM(E3:E22) -> 0 | F24: =SUM(F3:F22) -> 0 | G24: =SUM(G3:G22) -> 0 | H24: =SUM(H3:H22) -> 0 | I24: =SUM(I3:I22) -> 0 | J24: =SUM(J3:J22) -> 2675.08 | K24: =SUM(K3:K22) -> 230 | L24: =SUM(L3:L22) -> 0 | ... Q24: =SUM(Q3:Q22) -> 0
A26: ££ Expenditure
A27: Date | B27: Details | C27: Amount | D27: Cheque No | E27: Heating Project (unrestricted funds) | F27: Stationery | G27: SMCRC Maintenance | H27: Covid 19 | I27: Cleaner's Salary | J27: HMRC Cleaner | K27: Cleaning & Sundries | L27: Lift/Door/Fire etc | M27: Telephone | N27: Insurance | O27: Utilities | P27: Rates & Water | Q27: Petty Cash | R27: Intergenerational Project | S27: Other | T27: Heating Project (Restricted Funds) | U27: Independent Examiner's Fee | V27: Sharing Secrets Fest. | W27: Ladies Tea Party | X27: Notes
A28: 45999 | B28: YGP 900025281 | C28: 372.58 | O28: 372.58
A29: 15/8/2025 | B29: DAISY COMMS LTD DZG26873 | C29: 48.37 | M29: 48.37
A30: 19/8/2025 | B30: MR L BARCLAY Inv No 381 | C30: 129 | G30: 129
A31: 19/8/2025 | B31: Progression AV 228 AudioS Deposit | C31: 1909.98 | G31: 1909.98
A32: 26/8/2025 | B32: John Vincent 10 Hall Keys Cut | C32: 49.9 | G32: 49.9
A33: 26/8/2025 | B33: Zurich Charities, XAO1220550833 | C33: 472 | O33: 472 | X33: Fire Safety log book
A34: 26/8/2025 | B34: IONOS CLOUD LTD. V95449917-65274738 | C34: 10.8 | M34: 10.8 | X34: Fire Action notice signs
A41: Total | C41: =SUM(C28:C40) -> 2992.63 | D41: =SUM(E41:W41) -> 2992.63 | E41: =SUM(E28:E40) -> 0 | F41: =SUM(F28:F40) -> 0 | G41: =SUM(G28:G40) -> 2088.88 | H41: =SUM(H28:H40) -> 0 | I41: =SUM(I28:I40) -> 0 | J41: =SUM(J28:J40) -> 0 | K41: =SUM(K28:K40) -> 0 | L41: =SUM(L28:L40) -> 0 | ... W41: =SUM(W28:W40) -> 0
A43: Bank Reconciliation
A44: Balance at 31 July 25 | F44: 22911.67
A45: Amounts received during month | D45: =+C24 -> 2905.08
A46: Amounts paid out during month | D46: =+C41 -> 2992.63 | F46: =+D45-D46 -> -87.55
A47: Balance | F47: =+F44+F46 -> 22824.12
A49: Amounts received but not credited by Bank
F50: =SUM(C50:C50) -> 0
F52: =+F47-F50 -> 22824.12
A53: Amounts paid out but not debited by bank
...

Sheet Sep 25
A1: ££ Income
A2: Date | B2: Details | C2: Amount | D2: Ref. No | E2: Restricted Grants | F2: Restricted Donations | G2: Unrestricted Donations | H2: St Martin Donations | I2: Interest | J2: Hall Rents | K2: Office Rents | L2: VAT Refund | M2: Other CP Income | N2: Petty Cash | O2: Intergenerational Project | P2: Sharing Secrets | Q2: Ladies Tea Party | R2: Notes
A3: 45697 | B3: Colla Castellera d SMCRC 2025354 | C3: 80 | D3: SMCRC 2025354 | J3: 80
A4: 45697 | B4: CF CREATIVE CONSUL SMCRC 2025349 | C4: 900 | D4: SMCRC 2025349 | J4: 900
A5: 45756 | B5: GORGIE COLLECTIVE | C5: 138 | D5: DD | K5: 138
A6: 45786 | B6: HOME-START EDINBUR SMCRC 2025347 | C6: 51 | D6: SMCRC 2025347 | J6: 51
A7: 45786 | B7: TCHAKMAKDJIAN A HALL PAYMENTS | C7: 48 | D7: SMCRC 2025356 | J7: 48
A8: 45786 | B8: ROBERTSON C & G/RO 2025346 | C8: 49.5 | D8: SMCRC 2025346 | J8: 49.5
A9: 45878 | B9: Spokes-The Lothian SPOKES KEYS | C9: 20 | D9: DD | J9: 20
A10: 45878 | B10: K Scott BELLD2025358 | C10: 21 | D10: SMCRC 2025358 | J10: 21
A11: 45939 | B11: Capoeira Senzala A SMCRC 2025353 | C11: 64 | D11: SMCRC 2025353 | J11: 64
A12: 45939 | B12: HEALTH ALL ROUND ROOM HIRE | C12: 247.5 | D12: SMCRC 2025359 | J12: 247.5
A13: 46000 | B13: The Welcoming Asso inv 2025355 | C13: 192 | D13: SMCRC 2025355 | J13: 192
A14: 46000 | B14: EDINBURGH YOUTH TH 2025303 | C14: 206.25 | D14: SMCRC 2025350 | J14: 206.25
A15: 15/9/2025 | B15: SPOKES 6530670F SPOKES LOTHIAN COU | C15: 92 | D15: DD | K15: 92
A16: 15/9/2025 | B16: Nourou Dareyni Sco HALL August | C16: 238.5 | D16: SMCRC 2025352 | J16: 238.5
A17: 15/9/2025 | B17: CAF2509102462CF 2509102462CF | C17: 100 | D17: DD | G17: 100
A18: 16/9/2025 | B18: Gayle Strachan SMCRC 2025357 | C18: 102 | D18: SMCRC 2025357 | J18: 102
A19: 16/9/2025 | B19: ALEXANDER MR ST MARTINS RENT | C19: 450 | D19: DD | J19: 450
A20: 17/9/2025 | B20: Safe and Sound SMCRC 2025351 | C20: 266 | D20: SMCRC 2025351 | J20: 266
A21: 22/9/2025 | B21: GORGIE DALRY TOY L SMCRC | C21: 30 | D21: DD | J21: 30
A24: Total | C24: =SUM(C3:C21) -> 3295.75 | D24: =SUM(E24:Q24) -> 3295.75 | E24: =SUM(E3:E21) -> 0 | F24: =SUM(F3:F21) -> 0 | G24: =SUM(G3:G21) -> 100 | H24: =SUM(H3:H21) -> 0 | I24: =SUM(I3:I21) -> 0 | J24: =SUM(J3:J21) -> 2965.75 | K24: =SUM(K3:K21) -> 230 | L24: =SUM(L3:L21) -> 0 | ... Q24: =SUM(Q3:Q21) -> 0
A26: ££ Expenditure
A27: Date | B27: Details | C27: Amount | D27: Cheque No | E27: Heating Project (unrestricted funds) | F27: Stationery | G27: SMCRC Maintenance | H27: Covid 19 | I27: Cleaner's Salary | J27: HMRC Cleaner | K27: Cleaning & Sundries | L27: Lift/Door/Fire etc | M27: Telephone | N27: Insurance | O27: Utilities | P27: Rates & Water | Q27: Petty Cash | R27: Intergenerational Project | S27: Other | T27: Heating Project (Restricted Funds) | U27: Independent Examiner's Fee | V27: Sharing Secrets Fest. | W27: Ladies Tea Party | X27: Notes
A28: 45666 | B28: SANDRA RAMSAY Salary August 2025 | C28: 229.15 | I28: 229.15
A29: 46000 | B29: YGP 900025281 | C29: 682.49 | O29: 682.49
A30: 15/9/2025 | B30: DAISY COMMS LTD DZG26873 | C30: 48.37 | M30: 48.37
A31: 16/9/2025 | B31: Francis Alexander RadioShack Power S | C31: 14.99 | K31: 14.99
A32: 16/9/2025 | B32: Jean Gifford PrintingFireSafety | C32: 16.29 | L32: 16.29
A33: 16/9/2025 | B33: Christiano Correa SMCRC Key Refund | C33: 20 | G33: 20 | X33: Fire Safety log book
A34: 16/9/2025 | B34: Hallmaster Ltd Invoice HM-9266 | C34: 265 | G34: 265 | X34: Fire Action notice signs
A35: 16/9/2025 | B35: Progression AV 250 Microphones | C35: 550.46 | G35: 550.46
A36: 16/9/2025 | B36: Progression AV 229 Audio Solution | C36: 1273.31 | G36: 1273.31
A37: 17/9/2025 | B37: Invoice DG/CB6509 MacFadyen Preserva | C37: 3426 | G37: 3426
A38: 24/9/2025 | B38: DD IONOS CLOUD LTD. V95449917-63331601 | C38: 10.8 | M38: 10.8
A39: 29/9/2025 | B39: SANDRA RAMSAY Salary September25 | C39: 229.16 | I39: 229.16
A41: Total | C41: =SUM(C28:C40) -> 6766.02 | D41: =SUM(E41:W41) -> 6766.02 | E41: =SUM(E28:E40) -> 0 | F41: =SUM(F28:F40) -> 0 | G41: =SUM(G28:G40) -> 5534.77 | H41: =SUM(H28:H40) -> 0 | I41: =SUM(I28:I40) -> 458.31 | J41: =SUM(J28:J40) -> 0 | K41: =SUM(K28:K40) -> 14.99 | L41: =SUM(L28:L40) -> 16.29 | ... W41: =SUM(W28:W40) -> 0
A43: Bank Reconciliation
A44: Balance at 26 August 25 | F44: 22824.12
A45: Amounts received during month | D45: =+C24 -> 3295.75
...

Sheet Oct 25
A1: ££ Income
A2: Date | B2: Details | C2: Amount | D2: Ref. No | E2: Restricted Grants | F2: Restricted Donations | G2: Unrestricted Donations | H2: St Martin Donations | I2: Interest | J2: Hall Rents | K2: Office Rents | L2: VAT Refund | M2: Other CP Income | N2: Petty Cash | O2: Intergenerational Project | P2: Sharing Secrets | Q2: Ladies Tea Party | R2: Notes
A3: 45698 | B3: Colla Castellera d SMCRC 2025368 | C3: 468 | D3: SMCRC 2025368 | J3: 468
A4: 45698 | B4: ROBERTSON C & G/RO 2025363 | C4: 49.5 | D4: SMCRC 2025363 | J4: 49.5
A5: 45726 | B5: Nourou Dareyni Sco HALL September | C5: 240 | D5: SMCRC 2025367 | J5: 240
A6: 45818 | B6: K Scott BELLD2025372 | C6: 21 | D6: SMCRC 2025372 | J6: 21
A7: 45848 | B7: EDINBURGH COMMUNIT SMCRC 2025361 | C7: 393.5 | D7: SMCRC 2025361 | J7: 393.5
A8: 45848 | B8: The Welcoming Asso Inv 2025369 | C8: 216 | D8: SMCRC 2025369 | J8: 216
A9: 45879 | B9: Charms And Chants SMCRC 2025365 | C9: 132 | D9: SMCRC 2025365 | J9: 132
A10: 45940 | B10: CAF2510072579CF 2510072579CF | C10: 250 | D10: DD | G10: 250
A11: 15/10/2025 | B11: SPOKES 6530670F SPOKES LOTHIAN COU | C11: 92 | D11: DD | K11: 92
A12: 16/10/2025 | B12: ALEXANDER MR ST MARTINS RENT | C12: 450 | D12: DD | J12: 450
A13: 17/10/2025 | B13: T Ramjee SMCRC 2025366 | C13: 10 | D13: SMCRC 2025366 | J13: 10
A14: 20/10/2025 | B14: GORGIE DALRY TOY L SMCR | C14: 30 | D14: DD | J14: 30
A15: 21/10/2025 | B15: Gayle Strachan SMCRC 2025371 | C15: 195 | D15: SMCRC 2025371 | J15: 195
A16: 45698 | B16: Nourou Dareyni Sco HALL August
A17: 45698 | B17: CAF2509102462CF 2509102462CF
A18: 45698 | B18: Gayle Strachan SMCRC 2025357
A19: 45698 | B19: ALEXANDER MR ST MARTINS RENT
A20: 45698 | B20: Safe and Sound SMCRC 2025351
A24: Total | C24: =SUM(C3:C21) -> 2547 | D24: =SUM(E24:Q24) -> 2547 | E24: =SUM(E3:E21) -> 0 | F24: =SUM(F3:F21) -> 0 | G24: =SUM(G3:G21) -> 250 | H24: =SUM(H3:H21) -> 0 | I24: =SUM(I3:I21) -> 0 | J24: =SUM(J3:J21) -> 2205 | K24: =SUM(K3:K21) -> 92 | L24: =SUM(L3:L21) -> 0 | ... Q24: =SUM(Q3:Q21) -> 0
A26: ££ Expenditure
A27: Date | B27: Details | C27: Amount | D27: Cheque No | E27: Heating Project (unrestricted funds) | F27: Stationery | G27: SMCRC Maintenance | H27: Covid 19 | I27: Cleaner's Salary | J27: HMRC Cleaner | K27: Cleaning & Sundries | L27: Lift/Door/Fire etc | M27: Telephone | N27: Insurance | O27: Utilities | P27: Rates & Water | Q27: Petty Cash | R27: Intergenerational Project | S27: Other | T27: Heating Project (Restricted Funds) | U27: Independent Examiner's Fee | V27: Sharing Secrets Fest. | W27: Ladies Tea Party | X27: Notes
A28: 45726 | B28: MGC ELECTRICAL (SC MGCInvoiceINV-6604 | C28: 174.59 | G28: 174.59
A29: 45726 | B29: MGC ELECTRICAL (SC MGCInvoiceINV-6603 | C29: 1774.09 | G29: 1774.09
A30: 45940 | B30: Francis Alexander Miscellaneous Exp | C30: 17.3 | G30: 17.3
A31: 45940 | B31: LBC Building Servi Invoice No 25623 | C31: 1132 | G31: 1132
A32: 13/10/2025 | B32: DD YGP 900025281 | C32: 704.46 | O32: 704.46
A33: 17/10/2025 | B33: DD DAISY COMMS LTD DZG26873 | C33: 48.37 | M33: 48.37 | X33: Fire Safety log book
A34: 23/10/2025 | B34: DD IONOS CLOUD LTD. V95449917-67250364 | C34: 10.8 | M34: 10.8 | X34: Fire Action notice signs
A35: 23/10/2025 | B35: DD HMRC SDDS 0000296094 | C35: 152.53 | J35: 152.53
A36: 30/10/2025 | B36: SANDRA RAMSAY Salary October 25 | C36: 229.16 | I36: 229.16
A41: Total | C41: =SUM(C28:C40) -> 4243.3 | D41: =SUM(E41:W41) -> 4243.3 | E41: =SUM(E28:E40) -> 0 | F41: =SUM(F28:F40) -> 0 | G41: =SUM(G28:G40) -> 3097.98 | H41: =SUM(H28:H40) -> 0 | I41: =SUM(I28:I40) -> 229.16 | J41: =SUM(J28:J40) -> 152.53 | K41: =SUM(K28:K40) -> 0 | L41: =SUM(L28:L40) -> 0 | ... W41: =SUM(W28:W40) -> 0
A43: Bank Reconciliation
A44: Balance at 29 September 25 | F44: 19353.85
A45: Amounts received during month | D45: =+C24 -> 2547
A46: Amounts paid out during month | D46: =+C41 -> 4243.3 | F46: =+D45-D46 -> -1696.3
A47: Balance | F47: =+F44+F46 -> 17657.55
A49: Amounts received but not credited by Bank
F50: =SUM(C50:C50) -> 0
...

Sheet Nov 25
A1: ££ Income
A2: Date | B2: Details | C2: Amount | D2: Ref. No | E2: Restricted Grants | F2: Restricted Donations | G2: Unrestricted Donations | H2: St Martin Donations | I2: Interest | J2: Hall Rents | K2: Office Rents | L2: VAT Refund | M2: Other CP Income | N2: Petty Cash | O2: Intergenerational Project | P2: Sharing Secrets | Q2: Ladies Tea Party | R2: Notes
A3: 45727 | B3: Deo Pilates Ltd SMCRC 2025377 | C3: 110 | D3: SMCRC 2025377 | J3: 110
A4: 45727 | B4: Charms And Chants SMCRC 2025382 | C4: 132 | D4: SMCRC 2025382 | J4: 132
A5: 45727 | B5: Colla Castellera d SMCRC 2025385 | C5: 228 | D5: SMCRC 2025385 | J5: 228
A6: 45758 | B6: ROBERTSON C & G-RO 2025379 | C6: 82.5 | D6: SMCRC 2025379 | J6: 82.5
A7: 45758 | B7: F Murdanaigum | C7: 66 | D7: SMCRC 2025375 | J7: 66
A8: 45758 | B8: HEALTH ALL ROUND ROOM HIRE 2025373 | C8: 198 | D8: SMCRC 2025373 | J8: 198
A9: 45758 | B9: HEALTH ALL ROUND ROOM HIRE | C9: 313.5 | D9: SMCRC 2025389 | J9: 313.5
A10: 45941 | B10: Gayle Strachan SMCRC 2025388 | C10: 117 | D10: SMCRC 2025388 | J10: 117
A11: 46002 | B11: Nourou Dareyni Sco HALL October | C11: 279 | D11: SMCRC 2025383 | J11: 279
A12: 17/11/2025 | B12: LOTHIAN HEALTH BOA SMCRC 2025378 | C12: 255 | D12: SMCRC 2025378 | J12: 255
A13: 17/11/2025 | B13: SPOKES 6530670F SPOKES LOTHIAN COU | C13: 92 | D13: DD | K13: 92
A14: 17/11/2025 | B14: Colla Castellera d SMCRC 2023223 | C14: 277 | D14: SMCRC 2023223 | J14: 277
A15: 17/11/2025 | B15: ALEXANDER MR ST MARTINS RENT | C15: 450 | D15: DD | J15: 450
A16: 18/11/2025 | B16: Alba Vinti Lopez SMCRC 2025380 | C16: 187 | D16: SMCRC 2023251 SMCRC 2025317 SMCRC 2025380 | J16: 187
A17: 19/11/2025 | B17: The Welcoming Asso Welcoming | C17: 1056 | D17: SMCRC 2023148 SMCRC 2023147 SMCRC 2023162 SMCRC 2023161 SMCRC 2023210 SMCRC 2023225 SMCRC 2023224 SMCRC 2023257 SMCRC 2023258 SMCRC 2025274 SMCRC 2025275 | J17: 1056 | R17: SMCRC 2023148 96 SMCRC 2023147 96 SMCRC 2023162 120 SMCRC 2023161 96 SMCRC 2023210 96 SMCRC 2023225 96 SMCRC 2023224 72 SMCRC 2023257 96 SMCRC 2023258 96 SMCRC 2025274 96 SMCRC 2025275 96
A18: 20/11/2025 | B18: GORGIE DALRY TOY L SMCRC | C18: 30 | D18: DD | J18: 30
A19: 20/11/2025 | B19: Colla Castellera d SMCRC 2023151 | C19: 220 | D19: SMCRC 2023151 | J19: 220 | R19: Partial payment of 260 invoiced
A20: 20/11/2025 | B20: HEALTH ALL ROUND ROOM HIRE 2023153 | C20: 264 | D20: SMCRC 2023153 | J20: 264
A21: 24/11/2025 | B21: Talia Watrous COMMUNITY SPACE | C21: 32 | D21: SMCRC 2025360 | J21: 32
A22: 28/11/2025 | B22: TCHAKMAKDJIAN A HALL PAYMENTS | C22: 415.5 | D22: SMCRC 2025387 SMCRC 2025370 SMCRC 2025325 SMCRC 2025291 SMCRC 2023226 | J22: 415.5 | R22: SMCRC 2025387 176 SMCRC 2025370 112 SMCRC 2025325 48 SMCRC 2025291 16 SMCRC 2023226 63.5
A24: Total | C24: =SUM(C3:C22) -> 4804.5 | D24: =SUM(E24:Q24) -> 4804.5 | E24: =SUM(E3:E21) -> 0 | F24: =SUM(F3:F21) -> 0 | G24: =SUM(G3:G21) -> 0 | H24: =SUM(H3:H21) -> 0 | I24: =SUM(I3:I21) -> 0 | J24: =SUM(J3:J22) -> 4712.5 | K24: =SUM(K3:K21) -> 92 | L24: =SUM(L3:L21) -> 0 | M24: =SUM(M3:M21) -> 0 | N24: =SUM(N3:N21) -> 0 | O24: =SUM(O3:O21) -> 0 | P24: =SUM(P3:P21) -> 0 | Q24: =SUM(Q3:Q21) -> 0
A26: ££ Expenditure
A27: Date | B27: Details | C27: Amount | D27: Cheque No | E27: Heating Project (unrestricted funds) | F27: Stationery | G27: SMCRC Maintenance | H27: Covid 19 | I27: Cleaner's Salary | J27: HMRC Cleaner | K27: Cleaning & Sundries | L27: Lift/Door/Fire etc | M27: Telephone | N27: Insurance | O27: Utilities | P27: Rates & Water | Q27: Petty Cash | R27: Intergenerational Project | S27: Other | T27: Heating Project (Restricted Funds) | U27: Independent Examiner's Fee | V27: Sharing Secrets Fest. | W27: Ladies Tea Party | X27: Notes
A28: 45758 | B28: East Coast Drainag ECD 0231838 | C28: 130 | G28: 130
A29: 45819 | B29: MacFadyen Preserva Invoice No 108045 | C29: 5100 | G29: 5100
A30: 46002 | B30: YGP 900025281 | C30: 763.81 | O30: 763.81
A31: 17/11/2025 | B31: DAISY COMMS LTD DZG26873 | C31: 48.37 | M31: 48.37
A32: 25/11/2026 | B32: IONOS CLOUD LTD. V95449917-66287943 | C32: 10.8 | M32: 10.8
X33: Fire Safety log book
X34: Fire Action notice signs
A41: Total | C41: =SUM(C28:C40) -> 6052.98 | D41: =SUM(E41:W41) -> 6052.98 | E41: =SUM(E28:E40) -> 0 | F41: =SUM(F28:F40) -> 0 | G41: =SUM(G28:G40) -> 5230 | H41: =SUM(H28:H40) -> 0 | I41: =SUM(I28:I40) -> 0 | J41: =SUM(J28:J40) -> 0 | K41: =SUM(K28:K40) -> 0 | L41: =SUM(L28:L40) -> 0 | ... W41: =SUM(W28:W40) -> 0
A43: Bank Reconciliation
A44: Balance at 30 October 25 | F44: 17657.55
A45: Amounts received during month | D45: =+C24 -> 4804.5
A46: Amounts paid out during month | D46: =+C41 -> 6052.98 | F46: =+D45-D46 -> -1248.48
A47: Balance | F47: =+F44+F46 -> 16409.07
A49: Amounts received but not credited by Bank
F50: =SUM(C50:C50) -> 0
...

Sheet Dec 25
A1: ££ Income
A2: Date | B2: Details | C2: Amount | D2: Ref. No | E2: Restricted Grants | F2: Restricted Donations | G2: Unrestricted Donations | H2: St Martin Donations | I2: Interest | J2: Hall Rents | K2: Office Rents | L2: VAT Refund | M2: Other CP Income | N2: Petty Cash | O2: Intergenerational Project | P2: Sharing Secrets | Q2: Ladies Tea Party | R2: Notes
A3: 45669 | B3: E Chalmers DIAMONIQUE | C3: 50 | D3: SMCRC 2023250 | J3: 50
A4: 45669 | B4: E Chalmers DIAMONIQUE | C4: 50 | D4: SMCRC 2023250 | J4: 50
A5: 45700 | B5: EDINBURGH COMMUNIT 2025376 | C5: 9 | D5: SMCRC 2025376 | J5: 9
A6: 45700 | B6: ROGER MEACHEM U3a Writers Crit | C6: 21 | D6: SMCRC 2025391 | J6: 21
A7: 45728 | B7: ROBERTSON C & G/RO 2025396 | C7: 66 | D7: SMCRC 2025396 | J7: 66
A8: 45728 | B8: MR CORBETT SMCRC 2025393 | C8: 44 | D8: SMCRC 2025393 | J8: 44
A9: 45789 | B9: Colla Castellera d SMCRC 2025399 | C9: 333 | D9: SMCRC 2025399 | J9: 333
A10: 45912 | B10: Gayle Strachan SMCRC 2025403 | C10: 156 | D10: SMCRC 2025403 | J10: 156
A11: 45912 | B11: The Welcoming Asso SMCRC 2025401 | C11: 192 | D11: SMCRC 2025401 | J11: 192
A12: 45912 | B12: HEALTH ALL ROUND ROOM HIRE | C12: 264 | D12: SMCRC 2025405 | J12: 264
A13: 45942 | B13: K Scott BELLD2025404 | C13: 21 | D13: SMCRC 2025404 | J13: 21
A14: 45942 | B14: EDINBURGH COUNCIL 220560 | C14: 33 | D14: SMCRC 2025312 | J14: 33
A15: 15/12/2025 | B15: SPOKES LOTHIAN COU SPOKES 6530670F | C15: 92 | D15: DD | K15: 92
A16: 15/12/2025 | B16: VICTORY HILL CHURC SMCRC 2025392 | C16: 66 | D16: SMCRC 2025392 | J16: 66
A17: 15/12/2025 | B17: Nourou Dareyni Sco HALL November | C17: 333 | D17: SMCRC 2025398 | J17: 333
A18: 16/12/2025 | B18: ALEXANDER MR ST MARTINS RENT | C18: 450 | D18: DD | J18: 450
A19: 19/12/2025 | B19: The Welcoming Asso 2025401 | C19: 192 | D19: SMCRC 2025401 | J19: 192
A20: 22/12/2025 | B20: GORGIE DALRY TOY L SMCRC | C20: 30 | D20: DD | J20: 30
A21: 30/12/2025 | B21: E Chalmers DIAMONIQUE | C21: 50 | D21: DD | J21: 50
A24: Total | C24: =SUM(C3:C22) -> 2452 | D24: =SUM(E24:Q24) -> 2452 | E24: =SUM(E3:E21) -> 0 | F24: =SUM(F3:F21) -> 0 | G24: =SUM(G3:G21) -> 0 | H24: =SUM(H3:H21) -> 0 | I24: =SUM(I3:I21) -> 0 | J24: =SUM(J3:J22) -> 2360 | K24: =SUM(K3:K21) -> 92 | L24: =SUM(L3:L21) -> 0 | M24: =SUM(M3:M21) -> 0 | N24: =SUM(N3:N21) -> 0 | O24: =SUM(O3:O21) -> 0 | P24: =SUM(P3:P21) -> 0 | Q24: =SUM(Q3:Q21) -> 0
A26: ££ Expenditure
A27: Date | B27: Details | C27: Amount | D27: Cheque No | E27: Heating Project (unrestricted funds) | F27: Stationery | G27: SMCRC Maintenance | H27: Covid 19 | I27: Cleaner's Salary | J27: HMRC Cleaner | K27: Cleaning & Sundries | L27: Lift/Door/Fire etc | M27: Telephone | N27: Insurance | O27: Utilities | P27: Rates & Water | Q27: Petty Cash | R27: Intergenerational Project | S27: Other | T27: Heating Project (Restricted Funds) | U27: Independent Examiner's Fee | V27: Sharing Secrets Fest. | W27: Ladies Tea Party | X27: Notes
A28: 45669 | B28: SANDRA RAMSAY Salary November 25 | C28: 229.15 | I28: 229.15
A29: 45759 | B29: Deò Pilates Ltd £20 deposit | C29: 20 | G29: 20
A30: 45759 | B30: RS Fire Protection Acc No 49 / 28471 | C30: 273.6 | L30: 273.6
A31: 45759 | B31: PJ & RDG Allen 4.12.25 Expenses | C31: 220.16 | G31: 220.16
A32: 45759 | B32: Francis Alexander 4.12.25 Screwfix | C32: 38.98 | G32: 38.98
A33: 46003 | B33: YGP 900025281 | C33: 629.91 | O33: 629.91 | X33: Fire Safety log book
A34: 16/12/2025 | B34: DAISY COMMS LTD DZG26873 | C34: 48.37 | M34: 48.37 | X34: Fire Action notice signs
A35: 24/12/2025 | B35: IONOS CLOUD LTD. V95449917-61318583 | C35: 10.8 | M35: 10.8
A36: 29/12/2025 | B36: SANDRA RAMSAY Salary December 25 | C36: 229.16 | I36: 229.16
A37: 31/12/2025 | B37: Surrealist Solutio Invoice 001 | C37: 400 | U37: 400
A38: 31/12/2025 | B38: Zurich Charities; 6990672 XAO1220775 | C38: 5761.7 | N38: 5761.7
A41: Total | C41: =SUM(C28:C40) -> 7861.83 | D41: =SUM(E41:W41) -> 7861.83 | E41: =SUM(E28:E40) -> 0 | F41: =SUM(F28:F40) -> 0 | G41: =SUM(G28:G40) -> 279.14 | H41: =SUM(H28:H40) -> 0 | I41: =SUM(I28:I40) -> 458.31 | J41: =SUM(J28:J40) -> 0 | K41: =SUM(K28:K40) -> 0 | L41: =SUM(L28:L40) -> 273.6 | ... W41: =SUM(W28:W40) -> 0
A43: Bank Reconciliation
