Workbook

Sheet R&P Accounts
B1: Charity name | L1: Charity No.
B2: East Neuk of Fife Preservation Society (SCIO) | L2: SC051336
B3: Receipts & Payments Accounts
B4: From | D4: Period start date | G4: to | H4: Period end date
D5: 1/1/2025 | H5: 31/12/2025
A7: Section A Statement of Receipts & Payments
B8: Unrestricted funds | D8: Restricted funds | F8: Expendable endowment funds | H8: Permanent endowment funds | J8: Total funds current period | L8: Total funds last period
B9: to nearest £ | D9: to nearest £ | F9: to nearest £ | H9: to nearest £ | J9: to nearest £ | L9: to nearest £
A10: A1 Receipts
A11: Donations and Legacies | B11: 2910.27 | D11: 19311.24 | F11: 0 | H11: 0 | J11: =H11+D11+B11+F11 -> 22221.51 | L11: 9653
A12: Charitable Activities | B12: 1922 | D12: 0 | F12: 0 | H12: 0 | J12: =H12+D12+B12+F12 -> 1922 | L12: 1604
A13: Investment Asset Gain | B13: 0 | D13: 2835 | F13: 0 | H13: 0 | J13: =H13+D13+B13+F13 -> 2835 | L13: 3010
A14: A1 Sub total | B14: =SUM(B11:B13) -> 4832.27 | D14: =SUM(D11:D13) -> 22146.24 | F14: =SUM(F11:F13) -> 0 | H14: =SUM(H11:H13) -> 0 | J14: =H14+D14+B14+F14 -> 26978.51 | L14: =SUM(L11:L13) -> 14267
J15: =IF(ABS(B14+D14+F14+H14-J14)<0.000001," ","error")
A16: A2 Receipts from asset & investment sales
A17: Proceeds from sale of fixed assets | J17: =H17+D17+B17+F17 -> 0
A18: Proceeds from sale of investments | J18: =H18+D18+B18+F18 -> 0
A19: Loans taken out | J19: =H19+D19+B19+F19 -> 0
A20: Loan repayments received | J20: =H20+D20+B20+F20 -> 0
A21: A2 Sub total | B21: =SUM(B17:B20) -> 0 | D21: =SUM(D17:D20) -> 0 | F21: =SUM(F17:F20) -> 0 | H21: =SUM(H17:H20) -> 0 | J21: =SUM(J17:J20) -> 0 | L21: =SUM(L17:L20) -> 0
J22: =IF(ABS(B21+D21+F21+H21-J21)<0.000001," ","error")
A23: Total receipts | B23: =B21+B14 -> 4832.27 | D23: =D21+D14 -> 22146.24 | F23: =F21+F14 -> 0 | H23: =H21+H14 -> 0 | J23: =J21+J14 -> 26978.51 | L23: =L21+L14 -> 14267
J24: =IF(ABS(B23+D23+F23+H23-J23)<0.000001," ","error")
A25: A3 Payments
A26: Charitable Activities | B26: 4681.93 | D26: 38373.6 | F26: 0 | H26: 0 | J26: =H26+D26+B26+F26 -> 43055.53 | L26: 5717
J27: =H27+D27+B27+F27 -> 0
A28: A3 Sub total | B28: =SUM(B26:B27) -> 4681.93 | D28: =SUM(D26:D27) -> 38373.6 | F28: =SUM(F26:F27) -> 0 | H28: =SUM(H26:H27) -> 0 | J28: =H28+D28+B28+F28 -> 43055.53 | L28: =SUM(L26:L27) -> 5717
J29: =IF(ABS(B28+D28+F28+H28-J28)<0.000001," ","error")
A30: A4 Payments relating to asset and investment movements
A31: Purchases of fixed assets | J31: =H31+D31+F31+B31 -> 0
A32: Purchase of investments | J32: =H32+D32+F32+B32 -> 0
A33: Loans made | J33: =H33+D33+F33+B33 -> 0
A34: Loan repayments | J34: =H34+D34+F34+B34 -> 0
A35: A4 Sub total | B35: =SUM(B31:B34) -> 0 | D35: =SUM(D31:D34) -> 0 | F35: =SUM(F31:F34) -> 0 | H35: =SUM(H31:H34) -> 0 | J35: =SUM(J31:J34) -> 0 | L35: =SUM(L31:L34) -> 0
J36: =IF(ABS(B35+D35+F35+H35-J35)<0.000001," ","error")
A37: Total payments | B37: =+B35+B28 -> 4681.93 | D37: =+D35+D28 -> 38373.6 | F37: =+F35+F28 -> 0 | H37: =+H35+H28 -> 0 | J37: =+J35+J28 -> 43055.53 | L37: =+L35+L28 -> 5717
J38: =IF(ABS(B37+D37+F37+H37-J37)<0.000001," ","error")
A39: Net receipts/(payments) | B39: =+B23-B37 -> 150.34 | D39: =+D23-D37 -> -16227.36 | F39: =+F23-F37 -> 0 | H39: =+H23-H37 -> 0 | J39: =IF(ROUND((B39+D39+F39+H39),2)=ROUND((+J23-J37),2),H39+F39+D39+B39,"Cross Add Error") -> -16077.02 | L39: =+L23-L37 -> 8550
A41: A5 Transfers to/(from) funds | B41: 0 | D41: 0 | F41: 0 | H41: 0 | J41: =IF(ABS(H41+F41+D41+B41)<0.000001,0,"Transfer error") -> 0 | L41: 0
A43: Surplus/(deficit) for year | B43: =+B39+B41 -> 150.34 | D43: =+D39+D41 -> -16227.36 | F43: =+F39+F41 -> 0 | H43: =+H39+H41 -> 0 | J43: =+J39+J41 -> -16077.02 | L43: =+L39+L41 -> 8550
...

Sheet Statement of Balances
A1: ='R&P Accounts'!B2 -> East Neuk of Fife Preservation Society (SCIO) | N1: ='R&P Accounts'!L2 -> SC051336
A3: Section B Statement of Balances
A4: Categories | B4: Details | F4: Unrestricted funds | H4: Restricted funds | J4: Expendable endowment funds | L4: Permanent endowment funds | N4: Total current period | P4: Total last period
F5: to nearest £ | H5: to nearest £ | J5: to nearest £ | L5: to nearest £ | N5: to nearest £ | P5: to nearest £
A6: B1 Cash funds | B6: Cash and bank balances at start of year | F6: ='R&P Accounts'!B45 -> 4404.81 | H6: ='R&P Accounts'!D45 -> 26785 | J6: ='R&P Accounts'!F45 -> 0 | L6: ='R&P Accounts'!H45 -> 0 | N6: =F6+H6+J6+L6 -> 31189.81 | P6: ='R&P Accounts'!L45 -> 70920.81
B7: Surplus / (deficit) shown on receipts and payments account | F7: ='R&P Accounts'!B43 -> 150.34 | H7: ='R&P Accounts'!D43 -> -16227.36 | J7: ='R&P Accounts'!F43 -> 0 | L7: ='R&P Accounts'!H43 -> 0 | N7: =F7+H7+J7+L7 -> -16077.02 | P7: ='R&P Accounts'!L43 -> 8550
B8: Derived cash balances at year end | F8: =SUM(F6:F7) -> 4555.15 | H8: =SUM(H6:H7) -> 10557.64 | J8: =SUM(J6:J7) -> 0 | L8: =SUM(L6:L7) -> 0 | N8: =F8+H8+J8+L8 -> 15112.79 | P8: =SUM(P6:P7) -> 79470.81
J9: Cash/bank balances at year end | N9: 15112.79 | P9: =IF(ROUND(N8,2)=ROUND(N9,2),"","bank balance cross check error")
B11: Details | J11: Fund to which asset belongs | N11: Market valuation | P11: Last year
N12: to nearest £ | P12: to nearest £
A13: B2 Investments | B13: Other Investments | J13: Scottish Widows | N13: 18524 | P13: 18281
L15: Total | N15: =SUM(N13:N14) -> 18524 | P15: =SUM(P13:P14) -> 18281
B17: Details | J17: Fund to which asset belongs | N17: Current value (if available) | P17: Last year
N18: to nearest £ | P18: to nearest £
A19: B3 Other assets
L21: Total | N21: =SUM(N19:N20) -> 0 | P21: =SUM(P19:P20) -> 0
B23: Details | J23: Fund to which asset belongs | N23: Market valuation | P23: Last year
N24: to nearest £ | P24: to nearest £
A25: B4 Assets retained for the charity’s own use | B25: Industrial Building | J25: General Fund | N25: 30000 | P25: 30000
L27: Total | N27: =SUM(N25:N26) -> 30000 | P27: =SUM(P25:P26) -> 30000
B29: Details | J29: Fund to which liability relates | N29: Amount due | P29: Last year
N30: to nearest £ | P30: to nearest £
A31: B5 Liabilities
L33: Total | N33: =SUM(N31:N32) -> 0 | P33: =SUM(P31:P32) -> 0
B35: Details | J35: Fund to which liability relates | N35: Amount due (estimate) | P35: Last year
N36: to nearest £ | P36: to nearest £
A37: B6 Contingent liabilities
L39: Total | N39: =SUM(N37:N38) -> 0 | P39: =SUM(P37:P38) -> 0
A41: Signed by one or two trustees on behalf of all the trustees | B41: Signature | D41: Martin Gorrie | H41: Print Name | J41: Martin Gorrie | N41: 46146 | P41: Date of approval

Sheet Notes
A1: ='R&P Accounts'!B2 -> East Neuk of Fife Preservation Society (SCIO) | J1: ='R&P Accounts'!L2 -> SC051336
A3: Section C Notes to the Accounts
B5: Type of activity or project supported | H5: Individual / institution | J5: Number of grants made | K5: £
A6: C2 Grants
B11: Total | K11: =SUM(K6:K10) -> 0
A13: C3a Trustee remuneration | B13: If no remuneration was paid during the period to any charity trustee or person connected to a trustee cross this box (otherwise complete section 3b)
B16: Authority under which paid | K16: £
A17: C3b Trustee remuneration - details
A23: C4a Trustee expenses | B23: If no expenses were paid to any charity trustee during the period then cross this box (otherwise complete section 4b)
J26: Number of trustees | K26: £
A27: C4b Trustee expenses - details
B33: Nature of relationship | F33: Nature of transaction | J33: Transaction amount (£) | K33: Balance outstanding at period end (£)
A34: C5 Transactions with trustees and connected persons
A40: C6 Other information

Sheet Unrestricted Funds
A1: ='R&P Accounts'!B2 -> East Neuk of Fife Preservation Society (SCIO) | K1: ='R&P Accounts'!L2 -> SC051336
A3: 5 Breakdown of unrestricted funds
C5: General Fund | E5: Scottish Widows | G5: Unrestricted Asset Fund | I5: Total unrestricted funds | K5: Total unrestricted funds last period
A6: Receipts
A7: Donations and Legacies | C7: 0 | E7: 0 | G7: 0 | I7: =SUM(C7:H7) -> 0 | K7: 0
A8: . . Donations | C8: 2473.94 | E8: 0 | G8: 0 | I8: =SUM(C8:H8) -> 2473.94 | K8: 0
A9: . . Gift Aid Claimed | C9: 436.33 | E9: 0 | G9: 0 | I9: =SUM(C9:H9) -> 436.33 | K9: 0
A10: Charitable Activities | C10: 1922 | E10: 0 | G10: 0 | I10: =SUM(C10:H10) -> 1922 | K10: 0
A11: Sub total | C11: =SUM(C7:C10) -> 4832.27 | E11: =SUM(E7:E10) -> 0 | G11: =SUM(G7:G10) -> 0 | I11: =SUM(C11:H11) -> 4832.27 | K11: =SUM(K7:K10) -> 0
I12: =IF(ROUND(I11,2)=ROUND('R&P Accounts'!$B14,2),0,"cross ref error") -> 0
A13: Receipts from asset & investment sales
A14: Proceeds from sale of fixed assets | C14: 0 | E14: 0 | G14: 0 | I14: =SUM(C14:H14) -> 0 | K14: 0
A15: Proceeds from sale of investments | C15: 0 | E15: 0 | G15: 0 | I15: =SUM(C15:H15) -> 0 | K15: 0
A16: Loans taken out | C16: 0 | E16: 0 | G16: 0 | I16: =SUM(C16:H16) -> 0 | K16: 0
A17: Loan repayments received | C17: 0 | E17: 0 | G17: 0 | I17: =SUM(C17:H17) -> 0 | K17: 0
A18: Sub total | C18: =SUM(C14:C17) -> 0 | E18: =SUM(E14:E17) -> 0 | G18: =SUM(G14:G17) -> 0 | I18: =SUM(C18:H18) -> 0 | K18: =SUM(K14:K17) -> 0
A20: Total receipts | C20: =C11+C18 -> 4832.27 | E20: =E11+E18 -> 0 | G20: =G11+G18 -> 0 | I20: =I11+I18 -> 4832.27 | K20: =K11+K18 -> 0
I21: =IF(ROUND(I20,2)=ROUND('R&P Accounts'!$B23,2),0,"cross ref error") -> 0
A23: Payments
A24: Charitable Activities | C24: 1200 | E24: 0 | G24: 0 | I24: =SUM(C24:H24) -> 1200 | K24: 0
A25: . . Charity Management & Administration | C25: 3481.93 | E25: 0 | G25: 0 | I25: =SUM(C25:H25) -> 3481.93 | K25: 0
A26: Sub total | C26: =SUM(C24:C25) -> 4681.93 | E26: =SUM(E24:E25) -> 0 | G26: =SUM(G24:G25) -> 0 | I26: =SUM(C26:H26) -> 4681.93 | K26: =SUM(K24:K25) -> 0
I27: =IF(ROUND(I26,2)=ROUND('R&P Accounts'!$B28,2),0,"cross ref error") -> 0
A28: Payments relating to asset and investment movements
A29: Purchases of fixed assets | C29: 0 | E29: 0 | G29: 0 | I29: =SUM(C29:H29) -> 0 | K29: 0
A30: Purchase of investments | C30: 0 | E30: 0 | G30: 0 | I30: =SUM(C30:H30) -> 0 | K30: 0
A31: Loans made | C31: 0 | E31: 0 | G31: 0 | I31: =SUM(C31:H31) -> 0 | K31: 0
A32: Loan repayments | C32: 0 | E32: 0 | G32: 0 | I32: =SUM(C32:H32) -> 0 | K32: 0
A33: Sub total | C33: =SUM(C29:C32) -> 0 | E33: =SUM(E29:E32) -> 0 | G33: =SUM(G29:G32) -> 0 | I33: =SUM(I29:I32) -> 0 | K33: =SUM(K29:K32) -> 0
I34: =IF(ROUND(I33,2)=ROUND('R&P Accounts'!$B35,2),0,"cross ref error") -> 0
A35: Total payments | C35: =+C33+C26 -> 4681.93 | E35: =+E33+E26 -> 0 | G35: =+G33+G26 -> 0 | I35: =+I33+I26 -> 4681.93 | K35: =+K33+K26 -> 0
I36: =IF(ROUND(I35,2)=ROUND('R&P Accounts'!$B37,2),0,"cross ref error") -> 0
A37: Net receipts / (payments) | C37: =+C20-C35 -> 150.34 | E37: =+E20-E35 -> 0 | G37: =+G20-G35 -> 0 | I37: =+I20-I35 -> 150.34 | K37: =+K20-K35 -> 0
A39: Transfers to / (from) funds | C39: 0 | E39: 0 | G39: 0 | I39: =SUM(C39:H39) -> 0 | K39: 0
A41: Surplus / (deficit) for year | C41: =C37+C39 -> 150.34 | E41: =E37+E39 -> 0 | G41: =G37+G39 -> 0 | I41: =I37+I39 -> 150.34 | K41: =K37+K39 -> 0
I42: =IF(ROUND(I41,2)=ROUND('R&P Accounts'!$B43,2),0,"cross ref error") -> 0
A44: Nature and purpose of funds
A45: General Fund: Scottish Widows: Savings Account Unrestricted Asset Fund: Charity Office

Sheet Restricted Funds
A1: ='R&P Accounts'!B2 -> East Neuk of Fife Preservation Society (SCIO) | K1: ='R&P Accounts'!L2 -> SC051336
A3: 6 Breakdown of restricted funds
C5: Pittenweem Boards | E5: Pittenweem Parish Church | G5: St Monans Auld Kirk Enterprises Ltd | I5: Total restricted funds | K5: Total restricted funds last period
A6: Receipts
A7: Donations and Legacies | C7: 6941.24 | E7: 12370 | G7: 0 | I7: =SUM(C7:H7) -> 19311.24 | K7: 0
A8: Investment Asset Gain | C8: 0 | E8: 0 | G8: 2835 | I8: =SUM(C8:H8) -> 2835 | K8: 0
A9: Sub total | C9: =SUM(C7:C8) -> 6941.24 | E9: =SUM(E7:E8) -> 12370 | G9: =SUM(G7:G8) -> 2835 | I9: =SUM(C9:H9) -> 22146.24 | K9: =SUM(K7:K8) -> 0
I10: =IF(ROUND(I9,2)=ROUND('R&P Accounts'!$D14,2),0,"cross ref error") -> 0
A11: Receipts from asset & investment sales
A12: Proceeds from sale of fixed assets | C12: 0 | E12: 0 | G12: 0 | I12: =SUM(C12:H12) -> 0 | K12: 0
A13: Proceeds from sale of investments | C13: 0 | E13: 0 | G13: 0 | I13: =SUM(C13:H13) -> 0 | K13: 0
A14: Loans taken out | C14: 0 | E14: 0 | G14: 0 | I14: =SUM(C14:H14) -> 0 | K14: 0
A15: Loan repayments received | C15: 0 | E15: 0 | G15: 0 | I15: =SUM(C15:H15) -> 0 | K15: 0
A16: Sub total | C16: =SUM(C12:C15) -> 0 | E16: =SUM(E12:E15) -> 0 | G16: =SUM(G12:G15) -> 0 | I16: =SUM(C16:H16) -> 0 | K16: =SUM(K12:K15) -> 0
A18: Total receipts | C18: =C9+C16 -> 6941.24 | E18: =E9+E16 -> 12370 | G18: =G9+G16 -> 2835 | I18: =I9+I16 -> 22146.24 | K18: =K9+K16 -> 0
I19: =IF(ROUND(I18,2)=ROUND('R&P Accounts'!$D23,2),0,"cross ref error") -> 0
A21: Payments
A22: Charitable Activities | C22: 20529 | E22: 17844.6 | G22: 0 | I22: =SUM(C22:H22) -> 38373.6 | K22: 0
I23: =SUM(C23:H23) -> 0
A24: Sub total | C24: =SUM(C22:C23) -> 20529 | E24: =SUM(E22:E23) -> 17844.6 | G24: =SUM(G22:G23) -> 0 | I24: =SUM(C24:H24) -> 38373.6 | K24: =SUM(K22:K23) -> 0
I25: =IF(ROUND(I24,2)=ROUND('R&P Accounts'!$D28,2),0,"cross ref error") -> 0
A26: Payments relating to asset and investment movements
A27: Purchases of fixed assets | C27: 0 | E27: 0 | G27: 0 | I27: =SUM(C27:H27) -> 0 | K27: 0
A28: Purchase of investments | C28: 0 | E28: 0 | G28: 0 | I28: =SUM(C28:H28) -> 0 | K28: 0
A29: Loans made | C29: 0 | E29: 0 | G29: 0 | I29: =SUM(C29:H29) -> 0 | K29: 0
A30: Loan repayments | C30: 0 | E30: 0 | G30: 0 | I30: =SUM(C30:H30) -> 0 | K30: 0
A31: Sub total | C31: =SUM(C27:C30) -> 0 | E31: =SUM(E27:E30) -> 0 | G31: =SUM(G27:G30) -> 0 | I31: =SUM(I27:I30) -> 0 | K31: =SUM(K27:K30) -> 0
I32: =IF(ROUND(I31,2)=ROUND('R&P Accounts'!$D35,2),0,"cross ref error") -> 0
A33: Total payments | C33: =+C31+C24 -> 20529 | E33: =+E31+E24 -> 17844.6 | G33: =+G31+G24 -> 0 | I33: =+I31+I24 -> 38373.6 | K33: =+K31+K24 -> 0
I34: =IF(ROUND(I33,2)=ROUND('R&P Accounts'!$D37,2),0,"cross ref error") -> 0
A35: Net receipts / (payments) | C35: =+C18-C33 -> -13587.76 | E35: =+E18-E33 -> -5474.6 | G35: =+G18-G33 -> 2835 | I35: =+I18-I33 -> -16227.36 | K35: =+K18-K33 -> 0
A37: Transfers to / (from) funds | C37: 0 | E37: 0 | G37: 0 | I37: =SUM(C37:H37) -> 0 | K37: 0
A39: Surplus / (deficit) for year | C39: =C35+C37 -> -13587.76 | E39: =E35+E37 -> -5474.6 | G39: =G35+G37 -> 2835 | I39: =I35+I37 -> -16227.36 | K39: =K35+K37 -> 0
I40: =IF(ROUND(I39,2)=ROUND('R&P Accounts'!$D43,2),0,"cross ref error") -> 0
A42: Nature and purpose of funds
A43: Pittenweem Boards: Pittenweem Parish Church: St Monans Auld Kirk Enterprises Ltd:

Sheet Independent Examiner Report
A3: Independent examiner’s report to the Trustee’s of East Neuk of Fife Preservation Society (SCIO)
A6: I report on the accounts of the trust for the year ended 31/12/2025
A8: Respective responsibilities of the Trustee’s and the examiner
A10: The charity’s trustees consider that an audit is not required for this year under section 144(2) of the Charities Act 2011 (the 2011 Act) and that an independent examination is needed.
A13: It is my responsibility to
A14: - | B14: examine the accounts under section 145 of the 2011 Act;
A15: - | B15: follow the procedures laid down in the general directions given by the Charity Commissioners section 145(5)(b) of the 2011Act; and
A17: - | B17: state whether particular matters have come to my attention.
A20: Basis of Independent Examiner’s Statement
A22: My remote examination was carried out in accordance with the General Directions given by the Charity Commission. An examination includes a review of the accounting records kept by the charity and a comparison of the accounts presented with those records. It also includes consideration of any unusual items or disclosures in the accounts, and seeking explanations from you, as trustees, concerning such matters. The procedures undertaken do not provide all the evidence that would be required in an audit and consequently no opinion is given as to whether the accounts present a “true and fair view” and the report is limited to those matters set out in the statement below.
A31: Independent examiner’s statement
A33: In connection with my examination no matter has come to my attention:
A35: 1. | B35: which gives me reasonable cause to believe that in any material respect the requirements:
B36: - | C36: to keep accounting records in accordance with section 130 of the 2011 Act; and
B37: - | C37: to prepare accounts which accord with the accounting records and comply with the requirements of the 2011 Act and Regulations have not been met; or
A39: 2. | B39: to which, in my opinion, attention should be drawn in order to enable a proper understanding of the accounts to be reached.
D43: Signed | F43: Dated
