Workbook

Sheet cover and guidance
A1: Blank formatted accounts in Receipts and Payments style
A3: General Guidance starts at cell A43 below | L3: Specific guidance, comments etc
A9: Kilsyth Anderson Church of Scotland | L9: enter name of church | O9: will also enter on all pages
A16: Receipts and Payments Accounts
A18: =CONCATENATE("for the year ended 31 December ",'R&P Account'!$D$8) -> for the year ended 31 December 2025 | L18: date will be pulled in from D8 on R&P Account
A28: Congregation No: 160865 | L28: enter No | N28: will also enter in TAR
A29: Charity No: SC009866 | L29: enter No | N29: will also enter in TAR and IER
A43: Guidance Notes
A44: Protection
A45: The workbook has been built to work as a protected one so that formulae which have been set up will not be accidentally overwritten.
A46: Cells are either locked or unlocked and the status of a cell can be seen and changed in the Protection Section of Format in the Home menu. First unprotect sheet, then lock or unlock cell(s) as desired and reprotect sheet.
A47: The workbook is already set up with cells unlocked where it is anticipated that the user may want to enter figures or edit a narrative.
A48: Otherwise cells are locked
A49: It will of course be necessary from time to time to change a locked cell or insert additional lines and in that event the sheet should be unprotected, the necessary change made and the sheet returned to protected status. Inserted lines adopt a default setting equivalent to the line above the insertion.
A51: Group
A52: At various points in the ref info and Trustees Report sheets there is guidance which is hidden by using the Group option in the Data menu. To see it unprotect the sheet and click on the + sign in the left margin. When finished, to ensure hidden when printing, click on the - sign and reprotect sheet . (There won't be a margin unless grouping has been done)
A54: Page Numbering
A55: The sheets have page numbers set up in footers (excluding the cover which is not numbered) Done in Print Titles in Page Layout menu.
A56: If only printing 1 sheet the numbering will start at 1. However, if you print the whole workbook the numbering will be continuous (1 to 11 for basic model and will adjust if you write a lot in let's say the Trustees Report)
... A74: Where there are rows that are not required it may well be easier to group them (as happens in terms of advice in Trustees Report (noted in Group above)) rather than delete them with potential for knocking out formulae.

Sheet ref info
A1: ='cover and guidance'!$A$9 -> Kilsyth Anderson Church of Scotland
A2: Reference and Administrative Information
A5: Charity Name: | F5: ='cover and guidance'!A9 -> Kilsyth Anderson Church of Scotland
A6: Charity Registration Number: | F6: =RIGHT('cover and guidance'!A29,8) -> SC009866
A7: Congregation Reference Number: | F7: =RIGHT('cover and guidance'!A28,6) -> 160865 | K7: Advice on completion of some sections is hidden by using "Group". To see it unprotect the sheet and click on the + sign in the left margin. When finished, to ensure hidden when printing, click on the - sign. Adjust column height to cater for the amount of text you enter and reprotect sheet.
A8: Contact Address | F8: Christine Johnston
F9: 18 Barlandfauld Street
F10: Kilsyth
F11: G65 OBU
A12: (The contact address shown should be the same as that held by OSCR)
A14: Trustees
A15: List all trustees who served during the year up to date of signing the accounts
A16: List Kirk Session members separately from Congrgational Board Members
A17: Where a Kirk session member is also a Board member then that person need
A18: only be listed once but indicate member of Board.
A20: Kirk Session Members
D21: Mr. W. McIlwain | F21: Miss C. Johnston | H21: Mrs. H. Provan
D22: Mr. J. Weir | F22: Miss O Brittian | H22: Miss A Strang
D23: Mr. A. Strang | F23: Mrs. E. Strang | H23: Mrs. M. Whitelaw
D24: Mr. W. Smith | F24: Mrs. M. Brown | H24: Mrs. H. Gordon
D25: Mr. I. Ross | F25: Mrs. C. McIlwain | H25: Mrs. J. Ewen
D26: Mr. W. Shaw | F26: Mrs. J. Bateman | H26: Mrs. D. Barrowman
D27: Mr. C. Waddell | F27: Mr. G. Ewen | H27: Mr G Barrie
A31: Principal Office-bearers
A32: Interim Moderator: | D32: Mr. Graeme Barrie
A33: Locum | D33: Rev. Kenneth D. MacLeod
A34: Session Clerk: | D34: Miss Christine Johnston
A35: Church Treasurer: | D35: Miss Christine Johnston
A38: Independent Examiner | D38: Mr. John Haggart
A39: (Name & address should be given)
D40: 5 Victoria Park
D41: Kilsyth G65 9AH
A43: Bankers: | D43: Royal Bank of Scot!and
D44: 116 Cowgate
A45: Address should be given
D46: Kirkintilloch

Sheet Trustees Report
A1: ='cover and guidance'!$A$9 -> Kilsyth Anderson Church of Scotland | K1: Specific guidance, comments etc
A2: Trustees' Annual Report
A3: =CONCATENATE("for the year ended 31 December ",'R&P Account'!$D$8) -> for the year ended 31 December 2025
A5: Structure, Governance and Management
A7: Governing Document
A8: The Church is administered in accordance with the terms of the Unitary Constitution.
A10: Recruitment and Appointment of Trustees | K10: See SORP sample accounts if Unitary Constitution
A11: Members of the Kirk Session are the charity trustees. The Kirk Session members are the elders of the church and are chosen from those members of the church who are considered to have the appropriate gifts and skills. The minister, who is a member of the Kirk Session, is elected by the congregation and inducted by Presbytery. In a ministerial vacancy, Presbytery appoints an Interim Moderator who is also a trustee. | K11: alternative sample wording re Congregational Board
A12: Organisational Structure
A13: The Kirk Session which meets nine times a year is responsible for all affairs within the Church under the Unitary Constitution. The Kirk Session appoints work groups from time to time which consider specific areas such as Mission, Membership, Spiritual Maturity, Worship, Youth, Ministry and Property.
A15: Objectives and Activities
A16: The Church of Scotland is Trinitarian in doctrine, Reformed in tradition and Presbyterian in polity. It exists to glorify God and to work for the advancement of Christ’s Kingdom throughout the world. As a national Church, it acknowledges a distinctive call and duty to bring the ordinances of religion to the people in every parish of Scotland through a territorial ministry. It co-operates with other Churches in various ecumenical bodies in Scotland and beyond.
A18: Achievements and Performance
A19: (Again give details relevant to the individual congregation e.g. attendance at events, groups etc, new activities commenced during the year, innovations in worship. These should be non-finance related as this will be covered in next section.)
A20: Our Church has been working together with Burns and Old congregation having joint monthly services and other joint functions which are bringing the congregations together towards a union in Spring 2026. We also take a very active part in the Kilsyth and District Churches Connecting together to co- operate with other denominations in providing a loving and Christian Mission to the local community. Our BB and GB continue to work towards the higher awards available through these organisations. The Church hosted a number of holiday club events - one week long and a couple of day events. Our roll is currently 170 members, 87 adherents (many of whom are regular attenders and supporters) 12 children attending Jam club and around 75 young folks involved in BB and GB. 16 Funerals were conducted.
A22: Financial Review
A23: The principal source of receipts is weekly offerings and donations together with gift aid tax refund. During the year 2025 total receipts amounted to £107,314 (year 2024 - £110,334). Total payments amounted to £105,741 (year 2024 - £115,606). That resulted in a increase in cash this year of £1,573 compared with a reduction last year of £5,272. However, the 2024 payments included the purchase of £25,000 of investments compared with £10,000 in 2025. Fuller details of the receipts and payments are given in the accounts.
A25: Reserves Policy
A26: This section should be amended as appropriate.
A27: The charity trustees have considered the reserves required and have taken into account their current and future liabilities. It is the Trustees' policy to hold reserves of approximately 6 months expenditure including designated funds. At the year end the church held unrestricted funds of £50,958 of which £29,562 had been designated for the Fabric Fund. The remaining balance of £21,396 is held in the General Fund which, overall represents about six months expenditure. They also have unrestricted investments of around £200,000. | K27: adjust as appropriate
A28: The church also held £5,861 of restricted funds which have been provided for the purposes specified in Note 2.
A30: Statement of Trustees' Responsibilities
A31: The Trustees must prepare financial statements which give sufficient detail to enable an appreciation of the transactions of the Church during the financial year. The Trustees are responsible for keeping proper accounting records which, on request, must reflect the financial position of the Church at that time. This must be done to ensure that the financial statements comply with the Charities and Trustee Investment (Scotland) Act 2005, the Charities Accounts (Scotland) Regulations 2006 (as amended) and the Regulations Anent Congregational Finance approved by the General Assembly of the Church of Scotland in 2016. They are also responsible for safeguarding the assets of the Church and must take reasonable steps for the prevention and/or detection of fraud and other irregularities.
A33: Approved by the Trustees on 24/03/2026 and signed on their behalf by. | K33: adjust as appropriate
A37: Christine Johnston
A38: Session Clerk

Sheet Examiners Report
A1: ='cover and guidance'!$A$9 -> Kilsyth Anderson Church of Scotland | M1: Specific guidance, comments etc
A2: ='ref info'!F6 -> SC009866
A4: =CONCATENATE("Independent Examiner's Report to the Trustees of ",'cover and guidance'!$A$9)&" " -> Independent Examiner's Report to the Trustees of Kilsyth Anderson Church of Scotland
A6: =CONCATENATE("I report on the accounts of the charity for the year ended 31 December ",'R&P Account'!$D$8)&" which are set out on pages 5 to 10." -> I report on the accounts of the charity for the year ended 31 December 2025 which are set out on pages 5 to 10.
M7: adjust page numbers as appropriate
A9: Respective responsibilities of trustees and examiner
A10: The charity's trustees are responsible for the preparation of the accounts in accordance with the terms of the Charities and Trustee Investment (Scotland) Act 2005 and the Charities Accounts (Scotland) Regulations 2006 (as amended).
A11: The charity trustees consider that the audit requirement of Regulation 10(1)(d) of the Accounts Regulations does not apply. It is my responsibility to examine the accounts as required under section 44(1)(c) of the Act and to state whether particular matters have come to my attention.
A13: Basis of independent examiner’s statement
A14: An examination is carried out in accordance with Regulation 11 of the Charities Accounts (Scotland) Regulations 2006 (as amended). An examination includes a review of the accounting records kept by the charity and a comparison of the accounts presented with those records. It also includes consideration of any unusual items or disclosures in the accounts, and seeks explanations from the trustees concerning any such matters. The procedures undertaken do not provide all the evidence that would be required in an audit, and consequently I do not express an audit opinion on the view given by the accounts.
A16: Independent examiner’s statement
A17: In the course of my examination, no matter has come to my attention [other than disclosed below*] | M17: * | N17: Please delete the words in brackets if they do not apply.
A18: 1. | B18: which gives me reasonable cause to believe that in any material respect the requirements: | N18: If the words do apply set out those matters which have come to your attention.
B19: ● | C19: to keep accounting records in accordance with Section 44 (1)(a) of the 2005 Act and Regulation 4 of the 2006 Accounts Regulations (as amended), and
B20: ● | C20: to prepare accounts which accord with the accounting records and comply with Regulation 9 of the 2006 Accounts Regulations (as amended) have not been met, or
A21: 2. | B21: to which, in my opinion, attention should be drawn in order to enable a proper understanding of the accounts to be reached.
A24: Name: | D24: John Haggart BA, ACMA
A26: Address: | D26: 5 Victoria Park
D27: Kilsyth G65 9AH
A29: Date: | D29: 46239

Sheet R&P Account
A1: ='cover and guidance'!$A$9 -> Kilsyth Anderson Church of Scotland
A2: Receipts and Payments Account | K2: Specific guidance, comments etc
A3: =CONCATENATE("for the year ended 31 December ",$D$8) -> for the year ended 31 December 2025
D6: Unrestricted | E6: Restricted | F6: Endowment
D7: Funds | E7: Funds | F7: Funds | G7: Total | H7: Total
D8: 2025 | E8: =$D$8 -> 2025 | F8: =$D$8 -> 2025 | G8: =$D$8 -> 2025 | H8: =$D$8-1 -> 2024 | K8: put year in D8 and it will spin through accounts
C9: Note | D9: £ | E9: £ | F9: £ | G9: £ | H9: £
A10: Receipts | K10: Main RBS A/c | L10: Fabric | M10: Jam | N10: Guild | O10: COSIT DF | P10: Total
A11: Donations | C11: 3 | D11: =P11 -> 67344.73 | E11: ='Notes to Accounts'!F55 -> 0 | F11: ='Notes to Accounts'!G55 -> 0 | G11: ='Notes to Accounts'!H55 -> 67344.73 | H11: ='Notes to Accounts'!I55 -> 71435 | K11: ='Notes to Accounts'!K55 -> 67344.73 | L11: ='Notes to Accounts'!L55 -> 0 | N11: ='Notes to Accounts'!N55 -> 0 | P11: =SUM(K11:O11) -> 67344.73
A12: Legacies | D12: =P12 -> 0 | E12: 0 | F12: 0 | G12: =SUM(D12:F12) -> 0 | H12: 0 | P12: =SUM(K12:O12) -> 0
A13: Church boxes | D13: =P13-0.04 -> 1091.49 | E13: 0 | F13: 0 | G13: =SUM(D13:F13) -> 1091.49 | H13: 959 | K13: =Bank!Q69 -> 1091.53 | P13: =SUM(K13:O13) -> 1091.53
A14: Bank & Deposit Interest | D14: =P14 -> 533.2 | E14: 0 | F14: 0 | G14: =SUM(D14:F14) -> 533.2 | H14: 691 | K14: =Bank!Q70 -> 224.34 | L14: =Bank!L18 -> 290.96 | O14: ='Notes to Accounts'!S123 -> 17.9 | P14: =SUM(K14:O14) -> 533.2
A15: Investment Income | D15: =P15 -> 10683.6 | E15: 0 | F15: 0 | G15: =SUM(D15:F15) -> 10683.6 | H15: 8686 | L15: =Bank!L17 -> 8632.2 | O15: ='Notes to Accounts'!R123 -> 2051.4 | P15: =SUM(K15:O15) -> 10683.6
A16: Weddings & Funerals | D16: =P16 -> 600 | E16: 0 | F16: 0 | G16: =SUM(D16:F16) -> 600 | H16: 800 | K16: 600 | P16: =SUM(K16:O16) -> 600
A17: Rental of Premises | D17: =P17 -> 16318.84 | E17: 0 | F17: 0 | G17: =SUM(D17:F17) -> 16318.84 | H17: 14826 | K17: 16318.84 | P17: =SUM(K17:O17) -> 16318.84
A18: Fabric/Fayres/Donations | D18: =P18 -> 4991.02 | E18: 0 | F18: 0 | G18: =SUM(D18:F18) -> 4991.02 | H18: 6956 | L18: =Bank!L19 -> 4991.02 | P18: =SUM(K18:O18) -> 4991.02
A19: Drawn down from General Trustees | D19: =P19 -> 0 | E19: 0 | F19: 0 | G19: =SUM(D19:F19) -> 0 | H19: 0 | L19: . | P19: =SUM(K19:O19) -> 0
A20: Other Receipts | D20: =P20++Q20 -> 1079.04 | E20: 0 | F20: 0 | G20: =SUM(D20:F20) -> 1079.04 | H20: 1296 | K20: =+Bank!Q80 -> 191.25 | P20: =SUM(K20:O20) -> 191.25 | Q20: =Bank!W26 -> 887.79
D21: ------------ | E21: ---------- | F21: ---------- | G21: ------------ | H21: ------------
B22: =D22 -> 102642.02 | D22: =SUM(D11:D20)+0.1 -> 102642.02 | E22: =SUM(E11:E20) -> 0 | F22: =SUM(F11:F20) -> 0 | G22: =SUM(G11:G20)+0.1 -> 102642.02 | H22: =SUM(H11:H20) -> 105649 | K22: =SUM(K11:K21) -> 85770.69 | L22: =SUM(L11:L21) -> 13914.18 | M22: =SUM(M11:M21) -> 0 | N22: =SUM(N11:N21) -> 0 | O22: =SUM(O11:O21) -> 2069.3 | P22: =SUM(P11:P21) -> 101754.17 | Q22: =SUM(Q12:Q21) -> 887.79 | R22: =P22+Q22 -> 102641.96
A23: Guild | D23: 0 | E23: =P23+Q23 -> 3320.87 | F23: 0 | G23: =SUM(D23:F23) -> 3320.87 | H23: 3020 | N23: =Bank!Q4 -> 3317.75 | P23: =SUM(K23:O23) -> 3317.75 | Q23: =Bank!W27 -> 3.12
A24: Sunday schools (Jam club) | D24: 0 | E24: =P24+Q24 -> 924.39 | F24: 0 | G24: =SUM(D24:F24) -> 924.39 | H24: 871 | M24: =Bank!G24 -> 924.33 | P24: =SUM(K24:O24) -> 924.33 | Q24: =Bank!W28 -> 0.06
A25: Benevolent Fund | D25: 0 | E25: =P25 -> 427 | F25: 0 | G25: =SUM(D25:F25) -> 427 | H25: 794 | K25: =Bank!Q75 -> 427 | P25: =SUM(K25:O25) -> 427
D26: ------------ | E26: ---------- | F26: ---------- | G26: ------------ | H26: ------------
A27: Total Receipts | D27: =SUM(D22:D26) -> 102642.02 | E27: =SUM(E22:E26) -> 4672.26 | F27: =SUM(F22:F26) -> 0 | G27: =SUM(G22:G26) -> 107314.28 | H27: =SUM(H22:H26) -> 110334 | K27: =SUM(K22:K26) -> 86197.69 | L27: =SUM(L22:L26) -> 13914.18 | M27: =SUM(M22:M26) -> 924.33 | N27: =SUM(N22:N26) -> 3317.75 | O27: =SUM(O22:O26) -> 2069.3 | P27: =SUM(P22:P26) -> 106423.25 | Q27: =SUM(Q22:Q26) -> 890.97 | R27: =P27+Q27 -> 107314.22
A29: Payments
A30: Cost of Generating Funds | C30: 4 | D30: ='Notes to Accounts'!E60 -> 150.21 | E30: ='Notes to Accounts'!F60 -> 0 | F30: ='Notes to Accounts'!G60 -> 0 | G30: ='Notes to Accounts'!H60 -> 150.21 | H30: ='Notes to Accounts'!I60 -> 155
A31: Charitable Activities | C31: 4 | D31: ='Notes to Accounts'!E79 -> 92288.54 | E31: ='Notes to Accounts'!F79 -> 3122.06 | F31: ='Notes to Accounts'!G79 -> 0 | G31: ='Notes to Accounts'!H79+0.1 -> 95410.6 | H31: ='Notes to Accounts'!I79 -> 90271 | K31: =D31 -> 92288.54 | L31: =E31 -> 3122.06
A32: Governance Costs | C32: 4 | D32: ='Notes to Accounts'!E82 -> 180 | E32: ='Notes to Accounts'!F82 -> 0 | F32: ='Notes to Accounts'!G82 -> 0 | G32: ='Notes to Accounts'!H82 -> 180 | H32: ='Notes to Accounts'!I82 -> 180
D33: ------------ | E33: ---------- | F33: ---------- | G33: ------------ | H33: ------------
D34: =SUM(D30:D33) -> 92618.75 | E34: =SUM(E30:E33) -> 3122.06 | F34: =SUM(F30:F33) -> 0 | G34: =SUM(G30:G33) -> 95740.81 | H34: =SUM(H30:H33) -> 90606
A36: Assets & Investments | C36: 4 | D36: ='Notes to Accounts'!E88 -> 10000 | E36: ='Notes to Accounts'!F88 -> 0 | F36: ='Notes to Accounts'!G88 -> 0 | G36: ='Notes to Accounts'!H88 -> 10000 | H36: ='Notes to Accounts'!I88 -> 25000
D37: ------------ | E37: ---------- | F37: ---------- | G37: ------------ | H37: ------------
A38: Total Payments | D38: =SUM(D34:D37) -> 102618.75 | E38: =SUM(E34:E36) -> 3122.06 | F38: =SUM(F34:F36) -> 0 | G38: =SUM(G34:G36) -> 105740.81 | H38: =SUM(H34:H36) -> 115606 | K38: =D38 -> 102618.75 | L38: =E38 -> 3122.06
D39: ------------ | E39: ---------- | F39: ---------- | G39: ------------ | H39: ------------
A40: Excess of Receipts over Payments
A41: for the year before transfers | D41: =D27-D38 -> 23.27 | E41: =E27-E38 -> 1550.2 | F41: =F27-F38 -> 0 | G41: =G27-G38 -> 1573.47 | H41: =H27-H38 -> -5272
A42: Transfers | C42: 2 | D42: ='Notes to Accounts'!H17 -> 600 | E42: ='Notes to Accounts'!H26 -> -600 | F42: ='Notes to Accounts'!H29 -> 0 | G42: =SUM(D42:F42) -> 0 | H42: 0
D43: ------------ | E43: ---------- | F43: ---------- | G43: ------------ | H43: ------------
A44: Excess of Receipts over Payments | D44: =SUM(D41:D43) -> 623.27 | E44: =SUM(E41:E43) -> 950.2 | F44: =SUM(F41:F43) -> 0 | G44: =SUM(G41:G43) -> 1573.47 | H44: =SUM(H41:H43) -> -5272 | K44: =G44 -> 1573.47
...

Sheet Statement of Balances
A1: ='cover and guidance'!$A$9 -> Kilsyth Anderson Church of Scotland
A2: Statement of Balances | K2: Specific guidance, comments etc
A3: =CONCATENATE("At 31 December ",'R&P Account'!$D$8) -> At 31 December 2025
D6: Unrestricted | E6: Restricted | F6: Endowment
D7: Funds | E7: Funds | F7: Funds | G7: Total | H7: Total
D8: ='R&P Account'!$D$8 -> 2025 | E8: ='R&P Account'!$D$8 -> 2025 | F8: ='R&P Account'!$D$8 -> 2025 | G8: ='R&P Account'!$D$8 -> 2025 | H8: ='R&P Account'!$D$8-1 -> 2024
C9: Note | D9: £ | E9: £ | F9: £ | G9: £ | H9: £
A11: Bank and Deposit Balances
A12: Bank and deposit balances
A13: brought forward | D13: ='Notes to Accounts'!E17 -> 50335 | E13: ='Notes to Accounts'!E26 -> 4911 | F13: ='Notes to Accounts'!E31 -> 0 | G13: =SUM(D13:F13) -> 55246 | H13: =G13-H17 -> 60518 | K13: 50335 | L13: 4911
A15: Movement in year:
A16: Excess of Receipts over
A17: Payments | D17: ='R&P Account'!D44 -> 623.27 | E17: ='R&P Account'!E44 -> 950.2 | F17: ='R&P Account'!F44 -> 0 | G17: ='R&P Account'!G44 -> 1573.47 | H17: ='R&P Account'!H44 -> -5272
D18: ------------ | E18: ---------- | F18: ---------- | G18: ------------ | H18: ------------
A19: Bank and deposit balances
A20: carried forward | C20: 2 | D20: =SUM(D13:D17) -> 50958.27 | E20: =SUM(E13:E17) -> 5861.2 | F20: =SUM(F13:F17) -> 0 | G20: =SUM(G13:G17) -> 56819.47 | H20: =SUM(H13:H17) -> 55246 | J20: =G20 -> 56819.47 | K20: all bank figures should flow through from notes / R&P A/c
D21: ======= | E21: ====== | F21: ====== | G21: ======= | H21: =======
J22: =D20 -> 50958.27 | K22: =E20 -> 5861.2
A23: Investments at market value
A24: (cost - £) | C24: 7 | D24: ='Notes to Accounts'!I120 -> 199848.94 | E24: 0 | F24: ='Notes to Accounts'!I113 -> 15649.86 | G24: =SUM(D24:F24) -> 215498.8 | H24: ='Notes to Accounts'!E123 -> 199353.98 | I24: =G20+G24 -> 272318.27 | J24: =H20+H24 -> 254599.98 | K24: =I24-J24 -> 17718.285
D25: ======= | E25: ====== | F25: ======= | G25: ======= | H25: =======
O26: 0
A27: Assets
A28: Gift Aid Receivable | D28: 0 | E28: 0 | F28: 0 | G28: =SUM(D28:F28) -> 0 | H28: 0 | K28: adjust as appropriate
D29: ======== | E29: ====== | F29: ====== | G29: ======== | H29: ========
A30: Liabilities
A31: None | D31: 0 | E31: 0 | F31: 0 | G31: =SUM(D31:F31) -> 0 | H31: 0 | K31: adjust as appropriate
D32: ======= | E32: ====== | F32: ======= | G32: ======= | H32: =======
A34: The accounts were approved by the Trustees on 24/03/2026 and signed on their behalf by:
F38: Session Clerk/Treasurer

Sheet Notes to Accounts
A1: ='cover and guidance'!$A$9 -> Kilsyth Anderson Church of Scotland
A2: Notes forming part of the accounts
A3: =CONCATENATE("for the year ended 31 December ",'R&P Account'!$D$8) -> for the year ended 31 December 2025 | L3: Specific guidance, comments etc
A6: 1 | B6: Basis of Accounting
B7: These accounts have been prepared on the Receipts & Payments basis in accordance with the Charities and Trustee Investment (Scotland) Act 2005, The Charities Accounts (Scotland) Regulations 2006 (as amended) and the Regulations anent Congregational Finance approved by the General Assembly of the Church of Scotland in 2016.
A9: 2 | B9: Movement in Funds
E10: At 1 Jan | I10: At 31 Dec
E11: ='R&P Account'!$D$8 -> 2025 | F11: Receipts | G11: Payments | H11: Transfers | I11: ='R&P Account'!$D$8 -> 2025
E12: £ | F12: £ | G12: £ | H12: £ | I12: £
B13: Unrestricted funds | L13: enter payments as negatives
B14: Designated Fabric Fund | E14: 25181 | F14: =Bank!L21+0.76 -> 13914.94 | G14: =Bank!M12+Bank!M13-0.1 -> -9533.52 | H14: 0 | I14: =SUM(E14:H14) -> 29562.42 | J14: =I14 -> 29562.42 | P14: -9533.42
B15: General Fund | E15: 25154 | F15: ='R&P Account'!D27-F14 -> 88727.08 | G15: =-'R&P Account'!D38-G14 -> -93085.23 | H15: =-H23 -> 600 | I15: =SUM(E15:H15) -> 21395.85 | M15: closing check | P15: -93085.33
E16: ----------- | F16: ------------- | G16: ------------- | H16: ---------- | I16: ----------- | M16: to see agrees with Statement of Balances
E17: =SUM(E14:E16) -> 50335 | F17: =SUM(F14:F16) -> 102642.02 | G17: =SUM(G14:G16) -> -102618.75 | H17: =SUM(H14:H16) -> 600 | I17: =SUM(I14:I16) -> 50958.27 | M17: =IF(I17='Statement of Balances'!D20,"ok",'Statement of Balances'!D20-'Notes to Accounts'!I17) -> ok
E18: ----------- | F18: ------------- | G18: ------------- | H18: ---------- | I18: -----------
B19: Restricted funds | L19: note 2 | N19: Bank (main a/c + COSIT Deps)
B20: Benevolent Fund | E20: 1211 | F20: ='R&P Account'!E25 -> 427 | G20: =-F74 -> 0 | H20: 0 | I20: =SUM(E20:H20) -> 1638 | K20: Gen Fund | L20: =I15 -> 21395.85 | N20: =Bank!S17+Bank!S25+Bank!S26 -> 25210.24
B21: Sanctuary Development | E21: 797 | F21: 0 | G21: 0 | H21: 0 | I21: =SUM(E21:H21) -> 797 | K21: Benev Fund | L21: =I20 -> 1638
B22: Praise Group | E22: 743 | F22: 0 | G22: 0 | H22: 0 | I22: =SUM(E22:H22) -> 743 | K22: Sanctuary | L22: =I21 -> 797
B23: The Guild | E23: 1360 | F23: ='R&P Account'!E23 -> 3320.87 | G23: =-F75 -> -2214.4 | H23: =Bank!R6 -> -600 | I23: =SUM(E23:H23) -> 1866.47 | J23: =I23 -> 1866.47 | K23: Praise Group | L23: =I22 -> 743 | M23: =SUM(L20:L23) -> 24573.85
B24: The Sunday School | E24: 800 | F24: ='R&P Account'!E24 -> 924.39 | G24: =-F76 -> -907.66 | H24: 0 | I24: =SUM(E24:H24) -> 816.73 | J24: =I24 -> 816.73
E25: ---------- | F25: ------------ | G25: ------------ | H25: ---------- | I25: ----------- | M25: to see agrees with Statement of Balances
E26: =SUM(E20:E25) -> 4911 | F26: =SUM(F20:F25) -> 4672.26 | G26: =SUM(G20:G25) -> -3122.06 | H26: =SUM(H20:H25) -> -600 | I26: =SUM(I20:I25) -> 5861.2 | M26: =IF(I26='Statement of Balances'!E20,"ok",'Statement of Balances'!E20-'Notes to Accounts'!I26) -> ok
E27: ---------- | F27: ------------ | G27: ------------ | H27: ---------- | I27: -----------
B28: Endowment funds
B29: None | E29: 0 | F29: 0 | G29: 0 | H29: 0 | I29: =SUM(E29:H29) -> 0 | M29: closing check
E30: ------------ | F30: ----------- | G30: ------------ | H30: ---------- | I30: ------------- | M30: to see agrees with Statement of Balances
E31: =SUM(E29:E30) -> 0 | F31: =SUM(F29:F30) -> 0 | G31: =SUM(G29:G30) -> 0 | H31: =SUM(H29:H30) -> 0 | I31: =SUM(I29:I30) -> 0 | M31: =IF(I31='Statement of Balances'!F20,"ok",'Statement of Balances'!F20-'Notes to Accounts'!I31) -> ok
E32: ------------ | F32: ------------- | G32: ------------- | H32: ---------- | I32: ------------- | K32: Bank
B33: Total Funds | E33: =E17+E26+E31 -> 55246 | F33: =F17+F26+F31 -> 107314.28 | G33: =G17+G26+G31 -> -105740.81 | H33: =H17+H26+H31 -> 0 | I33: =I17+I26+I31 -> 56819.47 | J33: =I33 -> 56819.47 | K33: =Bank!S28 -> 56819.51
E34: ======= | F34: ======== | G34: ======== | H34: ====== | I34: =======
B36: Purposes of Unrestricted Funds
B37: Fabric Fund: Set aside for maintenance of Church Property
B38: General Fund - Operating Fund for General Income and Expenses
B39: Purposes of Restricted Funds
B40: Sanctuary Development Fund - for redevelopment of the Church((sub account in Fabric)
B41: Guild - Ladies Weekly Meeting during the year.
B42: Sunday School (JAM Club) - JAM meets weekly for younger age groups
B43: Benevolent Fund - Fund to allow assistance to be given to the elderly and those in need
B44: Praise Group - supports the congregation in singing of hymns
...

Sheet Bank
A1: Main RBS A/c | F1: Jam | G1: Scan | K1: Fabric | L1: Scan | P1: Guild | Q1: Scan
A3: Balance at 1/1/25 | D3: 28792.17 | I3: 800.06 | N3: 25181.76 | S3: 1363.12
A4: Jan | B4: 8888.06 | C4: -8769.62 | D4: =D3+B4+C4 -> 28910.61 | F4: Wyper div | G4: ='Notes to Accounts'!N109 -> 528.6 | K4: Div Mar | L4: 4316.1 | P4: Income | Q4: 3317.75
A5: Feb | B5: 7344.07 | C5: -18292.33 | D5: =D4+B5+C5 -> 17962.35 | F5: Munro div | G5: ='Notes to Accounts'!N110 -> 264.6 | K5: Div Sep | L5: 4316.1 | P5: Guild Project | R5: -600
A6: Mar | B6: 6986.15 | C6: -6618.28 | D6: =D5+B6+C6 -> 18330.22 | F6: Bank int | G6: 11.13 | K6: Int | L6: 76.9 | P6: Church | R6: -600
A7: Apr | B7: 6675.91 | C7: -9464.69 | D7: =D6+B7+C7 -> 15541.44 | F7: Donations | G7: 120 | K7: Int | L7: 72.52 | P7: Other costs | R7: -1614.4 | S7: =SUM(Q4:R7) -> 503.35
A8: May | B8: 10216.69 | C8: -7431.87 | D8: =D7+B8+C8 -> 18326.26 | F8: Compassion | H8: -300 | K8: Int | L8: 69.46
A9: Jun | B9: 6173.55 | C9: -6668.74 | D9: =D8+B9+C9 -> 17831.07 | F9: Mod Challenge | H9: -240 | K9: Int | L9: 72.08 | S9: =S3+S7 -> 1866.47
A10: Jul | B10: 9499.51 | C10: -8330.98 | D10: =D9+B10+C10 -> 18999.6 | F10: Running costs | H10: -367.66 | I10: =SUM(G4:H10) -> 16.67 | K10: Sum Fayre | L10: 2515.34
A11: Aug | B11: 5059.02 | C11: -6571.71 | D11: =D10+B11+C11 -> 17486.91 | H11: =SUM(H8:H10) -> -907.66 | K11: Xmas Fayre | L11: 2475.68
A12: Sep | B12: 6841.68 | C12: -7032.43 | D12: =D11+B12+C12 -> 17296.16 | I12: =SUM(I3:I11) -> 816.73 | K12: Ins claim | M12: 554.8
A13: Oct | B13: 9204.01 | C13: -7128.23 | D13: =D12+B13+C13 -> 19371.94 | K13: costs | M13: -10088.22 | N13: =SUM(L4:M13) -> 4380.76
A14: Nov | B14: 2823.76 | C14: -6609.14 | D14: =D13+B14+C14 -> 15586.56 | F14: Moderator's Challenge
A15: Dec | B15: 10306.73 | C15: -2752.35 | D15: =D14+B15+C15 -> 23140.94 | F15: per above | H15: =H9 -> -240 | N15: =N3+N13 -> 29562.52 | S15: 2025 | U15: 2024
F16: Cong lunch | H16: -760
B17: =SUM(B4:B16) -> 90019.14 | C17: =SUM(C4:C16) -> -95670.37 | F17: Indiv donor | H17: -300 | K17: Dividend | L17: =L4+L5 -> 8632.2 | P17: =A1 -> Main RBS A/c | S17: =D15 -> 23140.94 | U17: =D3 -> 28792.17
H18: =SUM(H15:H17) -> -1300 | K18: Bank int | L18: =SUM(L6:L9) -> 290.96 | P18: o/s cheques | S18: =-P40 -> -636.45
F19: included in Char Dons | K19: Fayres | L19: =L10+L11 -> 4991.02 | P19: =F1 -> Jam | S19: =I12 -> 816.73 | U19: =I3 -> 800.06
K20: Ins claim | L20: =L12 -> 0 | M20: Treated as deduction from costs | P20: =K1 -> Fabric | S20: =N15 -> 29562.52 | U20: =N3 -> 25181.76
F21: Dividend | G21: =G4+G5 -> 793.2 | L21: =SUM(L17:L20) -> 13914.18 | P21: =P1 -> Guild | S21: =S9 -> 1866.47 | U21: =S3 -> 1363.12
G22: =G6 -> 11.13 | J22: . | S22: =SUM(S17:S21) -> 54750.21 | U22: =SUM(U17:U21) -> 56137.11
G23: =G7 -> 120
G24: =SUM(G21:G23) -> 924.33 | P24: Cosit Deposit
P25: ='Notes to Accounts'!P121 -> Gen Cong | S25: ='Notes to Accounts'!V121 -> 1898.25
P26: ='Notes to Accounts'!B111 -> Martha Duncan Bequest | S26: ='Notes to Accounts'!V111 -> 171.05 | V26: General | W26: 887.79
V27: Guild | W27: 3.12
S28: =SUM(S22:S27) -> 56819.51 | V28: Jam | W28: 0.06
P30: Statement of Balances | S30: ='Statement of Balances'!G20 -> 56819.47 | U30: ='Statement of Balances'!G13 -> 55246 | V30: dif in exp anal | W30: 0.14
P32: dif | S32: =S28-S30 -> 0.04 | U32: =U22-U30 -> 891.11 | W32: =SUM(W26:W31) -> 891.11
E34: Jan | F34: Feb | G34: Mar | H34: Apr | I34: May | J34: Jun | K34: Jul | L34: Aug | M34: Sep | N34: Oct | O34: Nov | P34: Dec | Q34: Total | S34: Fabric
A36: Giving to Grow | B36: p | C36: 54770 | D36: =C36-Q36 -> 0 | F36: 5477 | G36: 5477 | H36: 5477 | I36: 5477 | J36: 5477 | K36: 5477 | L36: 5477 | M36: 5477 | N36: 5477 | O36: 5477 | Q36: =SUM(E36:P36) -> 54770
A37: Presbytery Dues | B37: p | C37: 2925 | D37: =C37-Q37 -> 0 | E37: 2925 | Q37: =SUM(E37:P37) -> 2925
A38: Locum | B38: p | C38: 4722.28 | D38: =C38-Q38 -> 0 | E38: 3541.71 | H38: 1180.57 | Q38: =SUM(E38:P38) -> 4722.28
A39: Donations | B39: p | C39: 1000 | D39: =C39-Q39 -> 0 | E39: =550-E40 -> 0 | H39: =1300-H40 -> 0 | K39: =735-K40 -> 0 | P39: 1000 | Q39: =SUM(E39:P39) -> 1000
A40: 3rd Party | E40: 550 | H40: 1300 | K40: 735 | P40: =286.45+350 -> 636.45 | R40: =SUM(E40:P40) -> 3221.45
A41: Canon (Printing) | B41: p | C41: 668.67 | D41: =C41-Q41 -> 0 | E41: 121.58 | H41: 319.74 | K41: 94.16 | N41: 133.19 | Q41: =SUM(E41:P41) -> 668.67
A42: Locum (CT and Trav?) | B42: p | C42: 876.6 | D42: =C42-Q42 -> 0 | E42: 205.2 | I42: 237.6 | K42: 234 | N42: 199.8 | Q42: =SUM(E42:P42) -> 876.6
A43: CSS (Alarm) | B43: p | C43: 408 | D43: =C43-Q43 -> 0 | E43: 34 | F43: 34 | G43: 34 | H43: 34 | I43: 34 | J43: 34 | K43: 34 | L43: 34 | M43: 34 | N43: 34 | O43: 34 | P43: 34 | Q43: =SUM(E43:P43) -> 408
A44: Eon (Gas) | B44: p | C44: 6737.29 | D44: =C44-Q44 -> 0 | E44: 848.93 | F44: 1047.86 | G44: 850.37 | H44: 801.69 | I44: 483.62 | J44: 257.09 | K44: 270.6 | L44: 158 | M44: 177.17 | N44: 365.36 | O44: 508.93 | P44: 967.67 | Q44: =SUM(E44:P44) -> 6737.29
A45: Cardless (Booker) | B45: p | C45: 294.43 | D45: =C45-Q45 -> 0 | E45: 48.2 | G45: 84.62 | I45: 61.83 | K45: 53.31 | P45: 46.47 | Q45: =SUM(E45:P45) -> 294.43
...

Sheet Sheet1
A1: Main RBS A/c
A3: Balance at 1/1/25 | D3: 28792.17
A4: Jan | B4: 8888.06 | C4: -8769.62 | D4: =D3+B4+C4 -> 28910.61
A5: Feb | B5: 7344.07 | C5: -18292.33 | D5: =D4+B5+C5 -> 17962.35
A6: Mar | B6: 6986.15 | C6: -6618.28 | D6: =D5+B6+C6 -> 18330.22
A7: Apr | B7: 6675.91 | C7: -9464.69 | D7: =D6+B7+C7 -> 15541.44
A8: May | B8: 10216.69 | C8: -7431.87 | D8: =D7+B8+C8 -> 18326.26
A9: Jun | B9: 6173.55 | C9: -6668.74 | D9: =D8+B9+C9 -> 17831.07
A10: Jul | B10: 9499.51 | C10: -8330.98 | D10: =D9+B10+C10 -> 18999.6
A11: Aug | B11: 5059.02 | C11: -6571.71 | D11: =D10+B11+C11 -> 17486.91
A12: Sep | B12: 6841.68 | C12: -7032.43 | D12: =D11+B12+C12 -> 17296.16
A13: Oct | B13: 9204.01 | C13: -7128.23 | D13: =D12+B13+C13 -> 19371.94
A14: Nov | B14: 2823.76 | C14: -6609.14 | D14: =D13+B14+C14 -> 15586.56
A15: Dec | B15: 10306.73 | C15: -2752.35 | D15: =D14+B15+C15 -> 23140.94

Sheet Appendix
A1: ='cover and guidance'!$A$9 -> Kilsyth Anderson Church of Scotland
A2: =CONCATENATE("Year ended 31 December ",'R&P Account'!$D$8) -> Year ended 31 December 2025
A3: Appendix
A5: FUNDS HELD ON BEHALF OF THE CONGREGATION
A6: BY THE CHURCH OF SCOTLAND GENERAL TRUSTEES
G9: ='R&P Account'!$D$8 -> 2025 | I9: ='R&P Account'!$D$8-1 -> 2024
G10: £ | I10: £
A12: CAPITAL ACCOUNT
A14: Credit Balances held at 31 December at cost | G14: 0 | I14: 0
A17: Market Value of Balances at 31 December | G17: 0 | I17: 0
A21: REVENUE ACCOUNT
A23: Credit Balance at 31 December | G23: 0 | I23: 0
