Workbook
Name Clean_Sheet: Cashbook!$A$13:$M$142
Name Excel_BuiltIn__FilterDatabase: Cashbook!$A$11:$Z$139
Name Excel_BuiltIn__FilterDatabase: Pivot!$F$86:$P$246
Name Excel_BuiltIn__FilterDatabase: 'Summary of Codes'!$C$10:$E$68
Name Sort: Cashbook!$B$13:$J$142
Name TAB: 'Summary of Codes'!$C$9:$E$30

Sheet Cashbook
A1: Charity Name | C1: Portosy Outdoor Pool | D1: Portsoy Outdoor Pool Accounts 1.4.2025 to 31.3.2026.
P2: =N5-N8 -> 0
I3: Enter Info from latest statement.
I4: Uncleared items will throw out balance | O4: 42589 | Q4: 42461 | R4: closed | S4: 42522
O5: 5540 | P5: 10.01 | Q5: 620.89 | R5: 0 | S5: 21385.42
A7: Sort Code | C7: 00-00-00
A8: Account | C8: 0 | O8: 0 | P8: =P142 -> 0 | Q8: =Q142 -> 0 | R8: =R142 -> 0 | S8: =S142 -> 0 | U8: =SUBTOTAL(9,N8:T8) -> 0
Y9: Ignite
J10: Statement | N10: Account | O10: Account | P10: Account | Q10: Account | R10: Account | S10: Account | Y10: Account
A11: Year | B11: No | C11: Date | D11: Details | E11: Ch/Pay-in Ref. | F11: Code | G11: Account | H11: Income | I11: Total Expenditure | J11: Number | K11: VAT | L11: Statement | M11: Month | N11: 01 | O11: 02 | P11: 02 | Q11: 03 | R11: 04 | S11: 05 | V11: 113 | X11: Concat | Y11: 1 | AE11: Invoice ref
D12: Opening Bank Balances | E12: Numbers | L12: No | O12: 0 | P12: 0 | Q12: 0 | R12: 0 | S12: 0 | U12: =SUM(N12:T12) -> 0 | V12: 0
A13: 2025/26
D14: Outgoings
C15: 5.9.25. | D15: AGM Room Hire @ Portsoy Church | I15: 20 | K15: 0
C16: 6.9.25. | D16: New Lap top from HP UK Inc | I16: 316.98 | K16: 52.83
C17: 17.11.25. | D17: 2 x Container modular buildings and initial storage from Just Move It Ltd | I17: 7680 | K17: 1280
C18: 18.12.25. | D18: Delivery of 2 x containers from Just Move It Ltd | I18: 360 | K18: 60
C19: 18.12.25. | D19: Signage for containers from Amazon | I19: 41.68 | K19: 4.96
C20: 21.12.25 | D20: Heavy duty padlock from Rosy Blooming Ltd | I20: 7.99 | K20: 1.33
C21: 21.12.25. | D21: Waterproof tape from TEMU | I21: 25.88 | K21: 4.32
I22: =SUM(I15:I21) -> 8452.53
X138: =M138&F138
X139: =M139&F139
X140: =M140&F140
X141: =M141&F141
X142: =M142&F142
H143: =SUM(H13:H142) -> 0 | I143: =SUM(I13:I142) -> 16905.06

Sheet Summary of Codes
L8: Sum of Income
C9: Income | L9: Code | M9: Total
C10: Code | D10: Cost Centre | L10: (blank)
B11: Y | C11: MS | D11: Membership Fees | E11: =SUMIF(Cashbook!F$13:F$143,'Summary of Codes'!C11,Cashbook!H$13:H$143) -> 0 | L11: ADM | M11: 0
B12: y | E12: =SUMIF(Cashbook!F$13:F$143,'Summary of Codes'!C12,Cashbook!H$13:H$143) -> 0 | L12: DON | M12: 4933.03
B13: y | C13: INTC | D13: Interest received Main (Cashflow) A/c | E13: =SUMIF(Cashbook!F$13:F$143,'Summary of Codes'!C13,Cashbook!H$13:H$143) -> 0 | L13: GRANTS | M13: 293
B14: y | E14: =SUMIF(Cashbook!F$13:F$143,'Summary of Codes'!C14,Cashbook!H$13:H$143) -> 0 | L14: HH
B15: y | E15: =SUMIF(Cashbook!F$13:F$143,'Summary of Codes'!C15,Cashbook!H$13:H$143) -> 0 | L15: Grand Total | M15: 5226.03
B16: x | C16: GRANTS | D16: Various Grants | E16: =SUMIF(Cashbook!F$13:F$143,'Summary of Codes'!C16,Cashbook!H$13:H$143) -> 0
C17: FR | D17: Fund raising | E17: =SUMIF(Cashbook!F$13:F$143,'Summary of Codes'!C17,Cashbook!H$13:H$143) -> 0
C18: INS | D18: Insurance Rebate | E18: =SUMIF(Cashbook!F$13:F$143,'Summary of Codes'!C18,Cashbook!H$13:H$143) -> 0
C19: DON | D19: Donations | E19: =SUMIF(Cashbook!F$13:F$143,'Summary of Codes'!C19,Cashbook!H$13:H$143) -> 0
C20: QI | E20: =SUMIF(Cashbook!F$13:F$143,'Summary of Codes'!C20,Cashbook!H$13:H$143) -> 0
E21: =SUMIF(Cashbook!F$13:F$143,'Summary of Codes'!C21,Cashbook!H$13:H$143) -> 0
E22: =SUMIF(Cashbook!F$13:F$143,'Summary of Codes'!C22,Cashbook!H$13:H$143) -> 0
E23: =SUMIF(Cashbook!F$13:F$143,'Summary of Codes'!C23,Cashbook!H$13:H$143) -> 0
E24: =SUMIF(Cashbook!F$13:F$143,'Summary of Codes'!C24,Cashbook!H$13:H$143) -> 0
E25: =SUMIF(Cashbook!F$13:F$143,'Summary of Codes'!C25,Cashbook!H$13:H$143) -> 0
C26: 0 | E26: =SUMIF(Cashbook!F$13:F$143,'Summary of Codes'!C26,Cashbook!H$13:H$143) -> 0
C27: Contra | D27: Transfers of entries between accounts | E27: =SUMIF(Cashbook!F$13:F$143,'Summary of Codes'!C27,Cashbook!H$13:H$143) -> 0
E28: =SUM(E11:E27) -> 0
D29: Total from cashbook | E29: =Cashbook!H143 -> 0
D30: Difference | E30: =E28-E29 -> 0
C33: Expenditure
B34: y | C34: WALL | D34: Wall Hire | E34: =SUMIF(Cashbook!F$13:F$142,'Summary of Codes'!C34,Cashbook!I$13:I$142) -> 0
B35: y | C35: EQUIP | D35: Equipment Purchased | E35: =SUMIF(Cashbook!F$13:F$142,'Summary of Codes'!C35,Cashbook!I$13:I$142) -> 0
B36: x | C36: AUDIT | D36: Professional Fees | E36: =SUMIF(Cashbook!F$13:F$142,'Summary of Codes'!C36,Cashbook!I$13:I$142) -> 0
B37: y | C37: 132 | D37: Bank Charges | E37: =SUMIF(Cashbook!F$13:F$142,'Summary of Codes'!C37,Cashbook!I$13:I$142) -> 0
B38: y | C38: INS | D38: Insurances | E38: =SUMIF(Cashbook!F$13:F$142,'Summary of Codes'!C38,Cashbook!I$13:I$142) -> 0
B39: y | E39: =SUMIF(Cashbook!F$13:F$142,'Summary of Codes'!C39,Cashbook!I$13:I$142) -> 0
B40: y | C40: FR | D40: Fund Raising costs | E40: =SUMIF(Cashbook!F$13:F$142,'Summary of Codes'!C40,Cashbook!I$13:I$142) -> 0
C41: SUBS | D41: Subscriptions | E41: =SUMIF(Cashbook!F$13:F$142,'Summary of Codes'!C41,Cashbook!I$13:I$142) -> 0
C42: ADM | D42: Admin Charges | E42: =SUMIF(Cashbook!F$13:F$142,'Summary of Codes'!C42,Cashbook!I$13:I$142) -> 0
E43: =SUMIF(Cashbook!F$13:F$142,'Summary of Codes'!C43,Cashbook!I$13:I$142) -> 0
E44: =SUMIF(Cashbook!F$13:F$142,'Summary of Codes'!C44,Cashbook!I$13:I$142) -> 0
C45: QE | E45: =SUMIF(Cashbook!F$13:F$142,'Summary of Codes'!C45,Cashbook!I$13:I$142) -> 0
E46: =SUMIF(Cashbook!F$13:F$142,'Summary of Codes'!C46,Cashbook!I$13:I$142) -> 0
C47: 171 | E47: =SUMIF(Cashbook!F$13:F$142,'Summary of Codes'!C47,Cashbook!I$13:I$142) -> 0
E48: =SUMIF(Cashbook!F$13:F$142,'Summary of Codes'!C48,Cashbook!I$13:I$142) -> 0
E49: =SUMIF(Cashbook!F$13:F$142,'Summary of Codes'!C49,Cashbook!I$13:I$142) -> 0
...

Sheet Notes
B1: =#REF! -> #REF! | K1: =#REF! -> #REF!
A3: Section C Notes to the Accounts
A5: C1 Nature and purpose of funds (may be stated on analysis of funds worksheets)
B11: Type of activity or project supported | H11: Individual / institution | J11: Number of grants made | K11: £
A12: C2 Grants | B12: General purposes | H12: Awards for all | J12: 1 | K12: 6235
B13: General purposes | H13: Co-op Comm | J13: 1 | K13: 2000
B17: Total | K17: =SUM(K12:K16) -> 8235
A19: C3a Trustee remuneration | B19: If no remuneration was paid during the period to any charity trustee or person connected to a trustee cross this box (otherwise complete section 3b) | K19: x
B22: Authority under which paid | K22: £
A23: C3b Trustee remuneration - details
A29: C4a Trustee expenses | B29: If no expenses were paid to any charity trustee during the period then cross this box (otherwise complete section 4b) | K29: x
J32: Number of trustees | K32: £
A33: C4b Trustee expenses - details
B39: Nature of relationship | F39: Nature of transaction | J39: Transaction amount (£) | K39: Balance outstanding at period end (£)
A40: C5 Transactions with trustees and connected persons
A46: C6 Other information

Sheet Additional notes (1)
C1: =#REF! -> #REF! | M1: =#REF! -> #REF!
A3: Additional analysis (1)
A5: Analysis of receipts and payments
A7: 1 Donations
C8: Unrestricted funds | E8: Restricted funds | G8: Expendable endowment funds | I8: Permanent endowment funds | K8: Total current period | M8: Total last period
C9: to nearest £ | E9: to nearest £ | G9: to nearest £ | I9: to nearest £ | K9: to nearest £ | M9: to nearest £
C10: =Pivot!O96 -> 0 | K10: =SUM(C10:I10) -> 0 | M10: 243
K11: =SUM(C11:I11) -> 0
K12: =SUM(C12:I12) -> 0
K13: =SUM(C13:I13) -> 0
A14: Total | C14: =SUM(C10:C13) -> 0 | E14: =SUM(E10:E13) -> 0 | G14: =SUM(G10:G13) -> 0 | I14: =SUM(I10:I13) -> 0 | K14: =SUM(K10:K13) -> 0 | M14: =SUM(M10:M13) -> 243
C16: =IF(#REF!-'Additional notes (1)'!C14=0,0,"reference error") -> #REF! | E16: =IF(#REF!-'Additional notes (1)'!E14=0,0,"reference error") -> #REF! | G16: =IF(#REF!-'Additional notes (1)'!G14=0,0,"reference error") -> #REF! | I16: =IF(#REF!-'Additional notes (1)'!I14=0,0,"reference error") -> #REF! | K16: =IF(#REF!-'Additional notes (1)'!K14=0,0,"reference error") -> #REF! | M16: =IF(#REF!-'Additional notes (1)'!M14=0,0,"reference error") -> #REF!
A18: 2 Grants
C19: Unrestricted funds | E19: Restricted funds | K19: Total current period | M19: Total last period
C20: to nearest £ | E20: to nearest £ | K20: to nearest £ | M20: to nearest £
C21: =Pivot!O99 -> 0 | K21: =SUM(C21:I21) -> 0 | M21: 21581
K22: =SUM(C22:I22) -> 0
K23: =SUM(C23:I23) -> 0
K24: =SUM(C24:I24) -> 0
A25: Total | C25: =SUM(C21:C24) -> 0 | E25: =SUM(E21:E24) -> 0 | K25: =SUM(K21:K24) -> 0 | M25: =SUM(M21:M24) -> 21581
C27: =IF(#REF!-'Additional notes (1)'!C25=0,0,"reference error") -> #REF! | E27: =IF(#REF!-'Additional notes (1)'!E25=0,0,"reference error") -> #REF! | K27: =IF(#REF!-'Additional notes (1)'!K25=0,0,"reference error") -> #REF! | M27: =IF(#REF!-'Additional notes (1)'!M25=0,0,"reference error") -> #REF!
A29: 3 Gross receipts from other charitable activities
C30: Unrestricted funds | E30: Restricted funds | G30: Expendable endowment funds | I30: Permanent endowment funds | K30: Total current period | M30: Total last period
C31: to nearest £ | E31: to nearest £ | G31: to nearest £ | I31: to nearest £ | K31: to nearest £ | M31: to nearest £
K32: =SUM(C32:I32) -> 0
K33: =SUM(C33:I33) -> 0
K34: =SUM(C34:I34) -> 0
K35: =SUM(C35:I35) -> 0
K36: =SUM(C36:I36) -> 0
K37: =SUM(C37:I37) -> 0
K38: =SUM(C38:I38) -> 0
K39: =SUM(C39:I39) -> 0
A40: Total | C40: =SUM(C32:C39) -> 0 | E40: =SUM(E32:E39) -> 0 | G40: =SUM(G32:G39) -> 0 | I40: =SUM(I32:I39) -> 0 | K40: =SUM(K32:K39) -> 0 | M40: =SUM(M32:M39) -> 0
C42: =IF(C40-#REF!=0,0,"reference error") -> #REF! | E42: =IF(E40-#REF!=0,0,"reference error") -> #REF! | G42: =IF(G40-#REF!=0,0,"reference error") -> #REF! | I42: =IF(I40-#REF!=0,0,"reference error") -> #REF! | K42: =IF(K40-#REF!=0,0,"reference error") -> #REF! | M42: =IF(M40-#REF!=0,0,"reference error") -> #REF!
A44: 4 Payments relating directly to charitable activities
C45: Unrestricted funds | E45: Restricted funds | G45: Expendable endowment funds | I45: Permanent endowment funds | K45: Total current period | M45: Total last period
C46: to nearest £ | E46: to nearest £ | G46: to nearest £ | I46: to nearest £ | K46: to nearest £ | M46: to nearest £
K47: =SUM(C47:I47) -> 0 | M47: =#REF! -> #REF!
K48: =SUM(C48:I48) -> 0
K49: =SUM(C49:I49) -> 0
...

Sheet Additional notes (2)
C1: =#REF! -> #REF! | M1: =#REF! -> #REF!
A3: Additional analysis (2)
A5: 5 Breakdown of unrestricted funds
C6: Unrestricted fund 1 - enter name of fund below | E6: Unrestricted fund 2 - enter name of fund below | G6: Unrestricted fund 3 - enter name of fund below | I6: Unrestricted fund 4 - enter name of fund below
K7: Total unrestricted funds | M7: Total unrestricted funds last period
A8: Receipts
A9: Donations | C9: =#REF! -> #REF! | K9: =SUM(C9:I9) -> #REF! | M9: ='Additional notes (1)'!M10 -> 243
A10: Legacies | K10: =SUM(C10:I10) -> 0
A11: Grants | C11: =#REF! -> #REF! | K11: =SUM(C11:I11) -> #REF! | M11: ='Additional notes (1)'!M21 -> 21581
A12: Receipts from fundraising activities | C12: =#REF! -> #REF! | K12: =SUM(C12:I12) -> #REF!
A13: Gross trading receipts | C13: =#REF! -> #REF! | K13: =SUM(C13:I13) -> #REF! | M13: =#REF! -> #REF!
A14: Income from investments other than land and buildings | C14: =#REF! -> #REF! | K14: =SUM(C14:I14) -> #REF! | M14: =#REF! -> #REF!
A15: Rents from land & buildings | K15: =SUM(C15:I15) -> 0
A16: Gross receipts from other charitable activities | K16: =SUM(C16:I16) -> 0
A17: Sub total | C17: =SUM(C9:C16) -> #REF! | E17: =SUM(E9:E16) -> 0 | G17: =SUM(G9:G16) -> 0 | I17: =SUM(I9:I16) -> 0 | K17: =SUM(K9:K16) -> #REF! | M17: =SUM(M9:M16) -> #REF!
K18: =IF(K17=#REF!,0,"cross ref error") -> #REF!
A19: Receipts from asset & investment sales
A20: Proceeds from sale of fixed assets | K20: =SUM(C20:I20) -> 0
A21: Proceeds from sale of investments | K21: =SUM(C21:I21) -> 0
A22: Sub total | C22: =SUM(C20:C21) -> 0 | E22: =SUM(E20:E21) -> 0 | G22: =SUM(G20:G21) -> 0 | I22: =SUM(I20:I21) -> 0 | K22: =SUM(K20:K21) -> 0 | M22: =SUM(M20:M21) -> 0
A24: Total receipts | C24: =C17+C22 -> #REF! | E24: =E17+E22 -> 0 | G24: =G17+G22 -> 0 | I24: =I17+I22 -> 0 | K24: =K17+K22 -> #REF! | M24: =M17+M22 -> #REF!
K25: =IF(K24=#REF!,0,"cross ref error") -> #REF!
A27: Payments
A28: Expenses for fundraising activities | C28: =#REF! -> #REF! | K28: =SUM(C28:I28) -> #REF! | M28: =#REF! -> #REF!
A29: Gross trading payments | C29: =#REF! -> #REF! | K29: =SUM(C29:I29) -> #REF!
A30: Investment management costs | K30: =SUM(C30:I30) -> 0
A31: Payments relating directly to charitable activities | K31: =SUM(C31:I31) -> 0 | M31: =#REF! -> #REF!
A32: Grants and donations | K32: =SUM(C32:I32) -> 0 | M32: =#REF! -> #REF!
A33: Governance costs: | K33: =SUM(C33:I33) -> 0 | M33: =#REF! -> #REF!
A34: Audit / independent examination | C34: =#REF! -> #REF! | K34: =SUM(C34:I34) -> #REF!
A35: Preparation of annual accounts | K35: =SUM(C35:I35) -> 0
A36: Legal costs | K36: =SUM(C36:I36) -> 0
K37: =SUM(C37:I37) -> 0
K38: =SUM(C38:I38) -> 0
A39: Sub total | C39: =SUM(C28:C38) -> #REF! | E39: =SUM(E28:E38) -> 0 | G39: =SUM(G28:G38) -> 0 | I39: =SUM(I28:I38) -> 0 | K39: =SUM(K28:K38) -> #REF! | M39: =SUM(M28:M38) -> #REF!
K40: =IF(K39=#REF!,0,"cross ref error") -> #REF!
A41: Payments relating to asset and investment movements
A42: Purchases of fixed assets | K42: =SUM(C42:I42) -> 0
A43: Purchase of investments | K43: =SUM(C43:I43) -> 0
A44: Sub total | C44: =C42+C43 -> 0 | E44: =E42+E43 -> 0 | G44: =G42+G43 -> 0 | I44: =I42+I43 -> 0 | K44: =K42+K43 -> 0 | M44: =M42+M43 -> 0
...

Sheet Additional notes (3)
C1: =#REF! -> #REF! | M1: =#REF! -> #REF!
A3: Additional analysis (3)
A5: 6 Breakdown of restricted funds
C6: Restricted fund 1 - enter name of fund below | E6: Restricted fund 2 - enter name of fund below | G6: Restricted fund 3 - enter name of fund below | I6: Restricted fund 4 - enter name of fund below
K7: Total restricted funds | M7: Total restricted funds last period
A8: Receipts
A9: Donations | K9: =SUM(C9:I9) -> 0
A10: Legacies | K10: =SUM(C10:I10) -> 0
A11: Grants | K11: =SUM(C11:I11) -> 0
A12: Receipts from fundraising activities | K12: =SUM(C12:I12) -> 0
A13: Gross trading receipts | K13: =SUM(C13:I13) -> 0
A14: Income from investments other than land and buildings | K14: =SUM(C14:I14) -> 0
A15: Rents from land & buildings | K15: =SUM(C15:I15) -> 0
A16: Gross receipts from other charitable activities | K16: =SUM(C16:I16) -> 0
A17: Sub total | C17: =SUM(C9:C16) -> 0 | E17: =SUM(E9:E16) -> 0 | G17: =SUM(G9:G16) -> 0 | I17: =SUM(I9:I16) -> 0 | K17: =SUM(K9:K16) -> 0 | M17: =SUM(M9:M16) -> 0
K18: =IF(K17=#REF!,0,"cross ref error") -> #REF!
A19: Receipts from asset & investment sales
A20: Proceeds from sale of fixed assets | K20: =SUM(C20:I20) -> 0
A21: Proceeds from sale of investments | K21: =SUM(C21:I21) -> 0
A22: Sub total | C22: =SUM(C20:C21) -> 0 | E22: =SUM(E20:E21) -> 0 | G22: =SUM(G20:G21) -> 0 | I22: =SUM(I20:I21) -> 0 | K22: =SUM(K20:K21) -> 0 | M22: =SUM(M20:M21) -> 0
A24: Total receipts | C24: =C17+C22 -> 0 | E24: =E17+E22 -> 0 | G24: =G17+G22 -> 0 | I24: =I17+I22 -> 0 | K24: =K17+K22 -> 0 | M24: =M17+M22 -> 0
K25: =IF(K24=#REF!,0,"cross ref error") -> #REF!
A27: Payments
A28: Expenses for fundraising activities | K28: =SUM(C28:I28) -> 0
A29: Gross trading payments | K29: =SUM(C29:I29) -> 0
A30: Investment management costs | K30: =SUM(C30:I30) -> 0
A31: Payments relating directly to charitable activities | K31: =SUM(C31:I31) -> 0
A32: Grants and donations | K32: =SUM(C32:I32) -> 0
A33: Governance costs: | K33: =SUM(C33:I33) -> 0
A34: Audit / independent examination | K34: =SUM(C34:I34) -> 0
A35: Preparation of annual accounts | K35: =SUM(C35:I35) -> 0
A36: Legal costs | K36: =SUM(C36:I36) -> 0
K37: =SUM(C37:I37) -> 0
K38: =SUM(C38:I38) -> 0
A39: Sub total | C39: =SUM(C28:C38) -> 0 | E39: =SUM(E28:E38) -> 0 | G39: =SUM(G28:G38) -> 0 | I39: =SUM(I28:I38) -> 0 | K39: =SUM(K28:K38) -> 0 | M39: =SUM(M28:M38) -> 0
K40: =IF(K39=#REF!,0,"cross ref error") -> #REF!
A41: Payments relating to asset and investment movements
A42: Purchases of fixed assets | K42: =SUM(C42:I42) -> 0
A43: Purchase of investments | K43: =SUM(C43:I43) -> 0
A44: Sub total | C44: =C42+C43 -> 0 | E44: =E42+E43 -> 0 | G44: =G42+G43 -> 0 | I44: =I42+I43 -> 0 | K44: =K42+K43 -> 0 | M44: =M42+M43 -> 0
...

Sheet Codes
A1: CODES
A4: SINGLE | B4: Single Payment
A5: WEEK | B5: Weekly Payment
A6: MONTH | B6: Monthly Payment
A7: ANNUAL | B7: Annual Payment
A8: MERCH | B8: Merchandise
A16: RENT | B16: Rent
A17: EQUIP | B17: Equipment Purchased
A18: SUBS | B18: Subscriptions
A19: ADM | B19: Admin Charges
A20: TRAIN | B20: Training Costs
A21: AUDIT | B21: Professional Fees
A22: BCHGS | B22: Bank Charges
A23: INS | B23: Insurances

Sheet Monthly Analysis
C1: TREASURER'S REPORT AS | E1: =NOW() -> 46119.574
C3: For the Period 01/04/24to | E3: =NOW() -> 46119.574
B5: A/c No | C5: Account Bal:
B6: 01 | C6: Current | D6: =+Cashbook!N137 -> 0
B7: 142 | C7: Major Repairs | D7: =Cashbook!Q142 -> 0
B8: 113 | C8: Investment | D8: =Cashbook!S142 -> 0
B9: 299 | C9: Depreciation | D9: =Cashbook!O142 -> 0
D11: =+D6 -> 0 | F11: 45292 | G11: 45323 | H11: 45352 | I11: 45383 | J11: 45413 | K11: 45444 | L11: 45474 | M11: 45505 | N11: 45536 | O11: 45566 | P11: 45597 | Q11: 45627 | R11: 45658 | S11: 45689 | T11: 45717
D13: DON | E13: Donations | F13: =SUMIF(Cashbook!$X$13:$X$142,F$11&$D13,Cashbook!$H$13:$H$142) -> 0 | G13: =SUMIF(Cashbook!$X$13:$X$142,G$11&$D13,Cashbook!$H$13:$H$142) -> 0 | H13: =SUMIF(Cashbook!$X$13:$X$142,H$11&$D13,Cashbook!$H$13:$H$142) -> 0 | I13: =SUMIF(Cashbook!$X$13:$X$142,I$11&$D13,Cashbook!$H$13:$H$142) -> 0 | J13: =SUMIF(Cashbook!$X$13:$X$142,J$11&$D13,Cashbook!$H$13:$H$142) -> 0 | K13: =SUMIF(Cashbook!$X$13:$X$142,K$11&$D13,Cashbook!$H$13:$H$142) -> 0 | L13: =SUMIF(Cashbook!$X$13:$X$142,L$11&$D13,Cashbook!$H$13:$H$142) -> 0 | M13: =SUMIF(Cashbook!$X$13:$X$142,M$11&$D13,Cashbook!$H$13:$H$142) -> 0 | ... T13: =SUMIF(Cashbook!$X$13:$X$142,T$11&$D13,Cashbook!$H$13:$H$142) -> 0 | V13: =SUM(F13:U13) -> 0
D14: GRANTS | E14: Grants | F14: =SUMIF(Cashbook!$X$13:$X$142,F$11&$D14,Cashbook!$H$13:$H$142) -> 0 | G14: =SUMIF(Cashbook!$X$13:$X$142,G$11&$D14,Cashbook!$H$13:$H$142) -> 0 | H14: =SUMIF(Cashbook!$X$13:$X$142,H$11&$D14,Cashbook!$H$13:$H$142) -> 0 | I14: =SUMIF(Cashbook!$X$13:$X$142,I$11&$D14,Cashbook!$H$13:$H$142) -> 0 | J14: =SUMIF(Cashbook!$X$13:$X$142,J$11&$D14,Cashbook!$H$13:$H$142) -> 0 | K14: =SUMIF(Cashbook!$X$13:$X$142,K$11&$D14,Cashbook!$H$13:$H$142) -> 0 | L14: =SUMIF(Cashbook!$X$13:$X$142,L$11&$D14,Cashbook!$H$13:$H$142) -> 0 | M14: =SUMIF(Cashbook!$X$13:$X$142,M$11&$D14,Cashbook!$H$13:$H$142) -> 0 | ... T14: =SUMIF(Cashbook!$X$13:$X$142,T$11&$D14,Cashbook!$H$13:$H$142) -> 0 | V14: =SUM(F14:Q14) -> 0
D15: FUNDINC | E15: Fundraising Income | F15: =SUMIF(Cashbook!$X$13:$X$142,F$11&$D15,Cashbook!$H$13:$H$142) -> 0 | G15: =SUMIF(Cashbook!$X$13:$X$142,G$11&$D15,Cashbook!$H$13:$H$142) -> 0 | H15: =SUMIF(Cashbook!$X$13:$X$142,H$11&$D15,Cashbook!$H$13:$H$142) -> 0 | I15: =SUMIF(Cashbook!$X$13:$X$142,I$11&$D15,Cashbook!$H$13:$H$142) -> 0 | J15: =SUMIF(Cashbook!$X$13:$X$142,J$11&$D15,Cashbook!$H$13:$H$142) -> 0 | K15: =SUMIF(Cashbook!$X$13:$X$142,K$11&$D15,Cashbook!$H$13:$H$142) -> 0 | L15: =SUMIF(Cashbook!$X$13:$X$142,L$11&$D15,Cashbook!$H$13:$H$142) -> 0 | M15: =SUMIF(Cashbook!$X$13:$X$142,M$11&$D15,Cashbook!$H$13:$H$142) -> 0 | ... T15: =SUMIF(Cashbook!$X$13:$X$142,T$11&$D15,Cashbook!$H$13:$H$142) -> 0 | V15: =SUM(F15:T15) -> 0
D16: CROWD | E16: Crowdfunder | F16: =SUMIF(Cashbook!$X$13:$X$142,F$11&$D16,Cashbook!$H$13:$H$142) -> 0 | G16: =SUMIF(Cashbook!$X$13:$X$142,G$11&$D16,Cashbook!$H$13:$H$142) -> 0 | H16: =SUMIF(Cashbook!$X$13:$X$142,H$11&$D16,Cashbook!$H$13:$H$142) -> 0 | I16: =SUMIF(Cashbook!$X$13:$X$142,I$11&$D16,Cashbook!$H$13:$H$142) -> 0 | J16: =SUMIF(Cashbook!$X$13:$X$142,J$11&$D16,Cashbook!$H$13:$H$142) -> 0 | K16: =SUMIF(Cashbook!$X$13:$X$142,K$11&$D16,Cashbook!$H$13:$H$142) -> 0 | L16: =SUMIF(Cashbook!$X$13:$X$142,L$11&$D16,Cashbook!$H$13:$H$142) -> 0 | M16: =SUMIF(Cashbook!$X$13:$X$142,M$11&$D16,Cashbook!$H$13:$H$142) -> 0 | ... T16: =SUMIF(Cashbook!$X$13:$X$142,T$11&$D16,Cashbook!$H$13:$H$142) -> 0 | V16: =SUM(F16:T16) -> 0
D17: IT | E17: IT | F17: =SUMIF(Cashbook!$X$13:$X$142,F$11&$D17,Cashbook!$H$13:$H$142) -> 0 | G17: =SUMIF(Cashbook!$X$13:$X$142,G$11&$D17,Cashbook!$H$13:$H$142) -> 0 | H17: =SUMIF(Cashbook!$X$13:$X$142,H$11&$D17,Cashbook!$H$13:$H$142) -> 0 | I17: =SUMIF(Cashbook!$X$13:$X$142,I$11&$D17,Cashbook!$H$13:$H$142) -> 0 | J17: =SUMIF(Cashbook!$X$13:$X$142,J$11&$D17,Cashbook!$H$13:$H$142) -> 0 | K17: =SUMIF(Cashbook!$X$13:$X$142,K$11&$D17,Cashbook!$H$13:$H$142) -> 0 | L17: =SUMIF(Cashbook!$X$13:$X$142,L$11&$D17,Cashbook!$H$13:$H$142) -> 0 | M17: =SUMIF(Cashbook!$X$13:$X$142,M$11&$D17,Cashbook!$H$13:$H$142) -> 0 | ... T17: =SUMIF(Cashbook!$X$13:$X$142,T$11&$D17,Cashbook!$H$13:$H$142) -> 0 | V17: =SUM(F17:T17) -> 0
F18: =SUMIF(Cashbook!$X$13:$X$142,F$11&$D18,Cashbook!$H$13:$H$142) -> 0 | G18: =SUMIF(Cashbook!$X$13:$X$142,G$11&$D18,Cashbook!$H$13:$H$142) -> 0 | H18: =SUMIF(Cashbook!$X$13:$X$142,H$11&$D18,Cashbook!$H$13:$H$142) -> 0 | I18: =SUMIF(Cashbook!$X$13:$X$142,I$11&$D18,Cashbook!$H$13:$H$142) -> 0 | J18: =SUMIF(Cashbook!$X$13:$X$142,J$11&$D18,Cashbook!$H$13:$H$142) -> 0 | K18: =SUMIF(Cashbook!$X$13:$X$142,K$11&$D18,Cashbook!$H$13:$H$142) -> 0 | L18: =SUMIF(Cashbook!$X$13:$X$142,L$11&$D18,Cashbook!$H$13:$H$142) -> 0 | M18: =SUMIF(Cashbook!$X$13:$X$142,M$11&$D18,Cashbook!$H$13:$H$142) -> 0 | ... T18: =SUMIF(Cashbook!$X$13:$X$142,T$11&$D18,Cashbook!$H$13:$H$142) -> 0 | V18: =SUM(F18:T18) -> 0
F19: =SUMIF(Cashbook!$X$13:$X$142,F$11&$D19,Cashbook!$H$13:$H$142) -> 0 | G19: =SUMIF(Cashbook!$X$13:$X$142,G$11&$D19,Cashbook!$H$13:$H$142) -> 0 | H19: =SUMIF(Cashbook!$X$13:$X$142,H$11&$D19,Cashbook!$H$13:$H$142) -> 0 | I19: =SUMIF(Cashbook!$X$13:$X$142,I$11&$D19,Cashbook!$H$13:$H$142) -> 0 | J19: =SUMIF(Cashbook!$X$13:$X$142,J$11&$D19,Cashbook!$H$13:$H$142) -> 0 | K19: =SUMIF(Cashbook!$X$13:$X$142,K$11&$D19,Cashbook!$H$13:$H$142) -> 0 | L19: =SUMIF(Cashbook!$X$13:$X$142,L$11&$D19,Cashbook!$H$13:$H$142) -> 0 | M19: =SUMIF(Cashbook!$X$13:$X$142,M$11&$D19,Cashbook!$H$13:$H$142) -> 0 | ... T19: =SUMIF(Cashbook!$X$13:$X$142,T$11&$D19,Cashbook!$H$13:$H$142) -> 0 | V19: =SUM(F19:T19) -> 0
F20: =SUMIF(Cashbook!$X$13:$X$142,F$11&$D20,Cashbook!$H$13:$H$142) -> 0 | G20: =SUMIF(Cashbook!$X$13:$X$142,G$11&$D20,Cashbook!$H$13:$H$142) -> 0 | H20: =SUMIF(Cashbook!$X$13:$X$142,H$11&$D20,Cashbook!$H$13:$H$142) -> 0 | I20: =SUMIF(Cashbook!$X$13:$X$142,I$11&$D20,Cashbook!$H$13:$H$142) -> 0 | J20: =SUMIF(Cashbook!$X$13:$X$142,J$11&$D20,Cashbook!$H$13:$H$142) -> 0 | K20: =SUMIF(Cashbook!$X$13:$X$142,K$11&$D20,Cashbook!$H$13:$H$142) -> 0 | L20: =SUMIF(Cashbook!$X$13:$X$142,L$11&$D20,Cashbook!$H$13:$H$142) -> 0 | M20: =SUMIF(Cashbook!$X$13:$X$142,M$11&$D20,Cashbook!$H$13:$H$142) -> 0 | ... T20: =SUMIF(Cashbook!$X$13:$X$142,T$11&$D20,Cashbook!$H$13:$H$142) -> 0 | V20: =SUM(F20:T20) -> 0
F21: =SUMIF(Cashbook!$X$13:$X$142,F$11&$D21,Cashbook!$H$13:$H$142) -> 0 | G21: =SUMIF(Cashbook!$X$13:$X$142,G$11&$D21,Cashbook!$H$13:$H$142) -> 0 | H21: =SUMIF(Cashbook!$X$13:$X$142,H$11&$D21,Cashbook!$H$13:$H$142) -> 0 | I21: =SUMIF(Cashbook!$X$13:$X$142,I$11&$D21,Cashbook!$H$13:$H$142) -> 0 | J21: =SUMIF(Cashbook!$X$13:$X$142,J$11&$D21,Cashbook!$H$13:$H$142) -> 0 | K21: =SUMIF(Cashbook!$X$13:$X$142,K$11&$D21,Cashbook!$H$13:$H$142) -> 0 | L21: =SUMIF(Cashbook!$X$13:$X$142,L$11&$D21,Cashbook!$H$13:$H$142) -> 0 | M21: =SUMIF(Cashbook!$X$13:$X$142,M$11&$D21,Cashbook!$H$13:$H$142) -> 0 | ... T21: =SUMIF(Cashbook!$X$13:$X$142,T$11&$D21,Cashbook!$H$13:$H$142) -> 0 | V21: =SUM(F21:T21) -> 0 | X21: Total from
F22: =SUMIF(Cashbook!$X$13:$X$142,F$11&$D22,Cashbook!$H$13:$H$142) -> 0 | G22: =SUMIF(Cashbook!$X$13:$X$142,G$11&$D22,Cashbook!$H$13:$H$142) -> 0 | H22: =SUMIF(Cashbook!$X$13:$X$142,H$11&$D22,Cashbook!$H$13:$H$142) -> 0 | I22: =SUMIF(Cashbook!$X$13:$X$142,I$11&$D22,Cashbook!$H$13:$H$142) -> 0 | J22: =SUMIF(Cashbook!$X$13:$X$142,J$11&$D22,Cashbook!$H$13:$H$142) -> 0 | K22: =SUMIF(Cashbook!$X$13:$X$142,K$11&$D22,Cashbook!$H$13:$H$142) -> 0 | L22: =SUMIF(Cashbook!$X$13:$X$142,L$11&$D22,Cashbook!$H$13:$H$142) -> 0 | M22: =SUMIF(Cashbook!$X$13:$X$142,M$11&$D22,Cashbook!$H$13:$H$142) -> 0 | ... T22: =SUMIF(Cashbook!$X$13:$X$142,T$11&$D22,Cashbook!$H$13:$H$142) -> 0 | V22: =SUM(F22:T22) -> 0 | X22: cashbook | Y22: Contra | Z22: Difference
F23: =SUM(F13:F22) -> 0 | G23: =SUM(G13:G22) -> 0 | H23: =SUM(H13:H22) -> 0 | I23: =SUM(I13:I22) -> 0 | J23: =SUM(J13:J22) -> 0 | K23: =SUM(K13:K22) -> 0 | L23: =SUM(L13:L22) -> 0 | M23: =SUM(M13:M22) -> 0 | ... T23: =SUM(T13:T22) -> 0 | V23: =SUM(V13:V22) -> 0 | X23: =Cashbook!H143 -> 0 | Y23: =SUMIF(Cashbook!F13:F142,'Monthly Analysis'!Y22,Cashbook!H13:H142) -> 0 | Z23: =V23-(X23-Y23) -> 0
D25: ADM | E25: Admin Charges | F25: =SUMIF(Cashbook!$X$13:$X$142,F$11&$D25,Cashbook!$I$13:$I$142) -> 0 | G25: =SUMIF(Cashbook!$X$13:$X$142,G$11&$D25,Cashbook!$I$13:$I$142) -> 0 | H25: =SUMIF(Cashbook!$X$13:$X$142,H$11&$D25,Cashbook!$I$13:$I$142) -> 0 | I25: =SUMIF(Cashbook!$X$13:$X$142,I$11&$D25,Cashbook!$I$13:$I$142) -> 0 | J25: =SUMIF(Cashbook!$X$13:$X$142,J$11&$D25,Cashbook!$I$13:$I$142) -> 0 | K25: =SUMIF(Cashbook!$X$13:$X$142,K$11&$D25,Cashbook!$I$13:$I$142) -> 0 | L25: =SUMIF(Cashbook!$X$13:$X$142,L$11&$D25,Cashbook!$I$13:$I$142) -> 0 | M25: =SUMIF(Cashbook!$X$13:$X$142,M$11&$D25,Cashbook!$I$13:$I$142) -> 0 | ... T25: =SUMIF(Cashbook!$X$13:$X$142,T$11&$D25,Cashbook!$I$13:$I$142) -> 0 | V25: =SUM(F25:T25) -> 0
D26: EQUIP | E26: Equipment Purchased | F26: =SUMIF(Cashbook!$X$13:$X$142,F$11&$D26,Cashbook!$I$13:$I$142) -> 0 | G26: =SUMIF(Cashbook!$X$13:$X$142,G$11&$D26,Cashbook!$I$13:$I$142) -> 0 | H26: =SUMIF(Cashbook!$X$13:$X$142,H$11&$D26,Cashbook!$I$13:$I$142) -> 0 | I26: =SUMIF(Cashbook!$X$13:$X$142,I$11&$D26,Cashbook!$I$13:$I$142) -> 0 | J26: =SUMIF(Cashbook!$X$13:$X$142,J$11&$D26,Cashbook!$I$13:$I$142) -> 0 | K26: =SUMIF(Cashbook!$X$13:$X$142,K$11&$D26,Cashbook!$I$13:$I$142) -> 0 | L26: =SUMIF(Cashbook!$X$13:$X$142,L$11&$D26,Cashbook!$I$13:$I$142) -> 0 | M26: =SUMIF(Cashbook!$X$13:$X$142,M$11&$D26,Cashbook!$I$13:$I$142) -> 0 | ... T26: =SUMIF(Cashbook!$X$13:$X$142,T$11&$D26,Cashbook!$I$13:$I$142) -> 0 | V26: =SUM(F26:T26) -> 0
D27: AUDIT | E27: Professional Fees | F27: =SUMIF(Cashbook!$X$13:$X$142,F$11&$D27,Cashbook!$I$13:$I$142) -> 0 | G27: =SUMIF(Cashbook!$X$13:$X$142,G$11&$D27,Cashbook!$I$13:$I$142) -> 0 | H27: =SUMIF(Cashbook!$X$13:$X$142,H$11&$D27,Cashbook!$I$13:$I$142) -> 0 | I27: =SUMIF(Cashbook!$X$13:$X$142,I$11&$D27,Cashbook!$I$13:$I$142) -> 0 | J27: =SUMIF(Cashbook!$X$13:$X$142,J$11&$D27,Cashbook!$I$13:$I$142) -> 0 | K27: =SUMIF(Cashbook!$X$13:$X$142,K$11&$D27,Cashbook!$I$13:$I$142) -> 0 | L27: =SUMIF(Cashbook!$X$13:$X$142,L$11&$D27,Cashbook!$I$13:$I$142) -> 0 | M27: =SUMIF(Cashbook!$X$13:$X$142,M$11&$D27,Cashbook!$I$13:$I$142) -> 0 | ... T27: =SUMIF(Cashbook!$X$13:$X$142,T$11&$D27,Cashbook!$I$13:$I$142) -> 0 | V27: =SUM(F27:T27) -> 0
D28: BCHGS | E28: Bank Charges | F28: =SUMIF(Cashbook!$X$13:$X$142,F$11&$D28,Cashbook!$I$13:$I$142) -> 0 | G28: =SUMIF(Cashbook!$X$13:$X$142,G$11&$D28,Cashbook!$I$13:$I$142) -> 0 | H28: =SUMIF(Cashbook!$X$13:$X$142,H$11&$D28,Cashbook!$I$13:$I$142) -> 0 | I28: =SUMIF(Cashbook!$X$13:$X$142,I$11&$D28,Cashbook!$I$13:$I$142) -> 0 | J28: =SUMIF(Cashbook!$X$13:$X$142,J$11&$D28,Cashbook!$I$13:$I$142) -> 0 | K28: =SUMIF(Cashbook!$X$13:$X$142,K$11&$D28,Cashbook!$I$13:$I$142) -> 0 | L28: =SUMIF(Cashbook!$X$13:$X$142,L$11&$D28,Cashbook!$I$13:$I$142) -> 0 | M28: =SUMIF(Cashbook!$X$13:$X$142,M$11&$D28,Cashbook!$I$13:$I$142) -> 0 | ... T28: =SUMIF(Cashbook!$X$13:$X$142,T$11&$D28,Cashbook!$I$13:$I$142) -> 0 | V28: =SUM(F28:T28) -> 0
D29: HH | E29: Hall Hire | F29: =SUMIF(Cashbook!$X$13:$X$142,F$11&$D29,Cashbook!$I$13:$I$142) -> 0 | G29: =SUMIF(Cashbook!$X$13:$X$142,G$11&$D29,Cashbook!$I$13:$I$142) -> 0 | H29: =SUMIF(Cashbook!$X$13:$X$142,H$11&$D29,Cashbook!$I$13:$I$142) -> 0 | I29: =SUMIF(Cashbook!$X$13:$X$142,I$11&$D29,Cashbook!$I$13:$I$142) -> 0 | J29: =SUMIF(Cashbook!$X$13:$X$142,J$11&$D29,Cashbook!$I$13:$I$142) -> 0 | K29: =SUMIF(Cashbook!$X$13:$X$142,K$11&$D29,Cashbook!$I$13:$I$142) -> 0 | L29: =SUMIF(Cashbook!$X$13:$X$142,L$11&$D29,Cashbook!$I$13:$I$142) -> 0 | M29: =SUMIF(Cashbook!$X$13:$X$142,M$11&$D29,Cashbook!$I$13:$I$142) -> 0 | ... T29: =SUMIF(Cashbook!$X$13:$X$142,T$11&$D29,Cashbook!$I$13:$I$142) -> 0 | V29: =SUM(F29:T29) -> 0
D30: FUNDOUT | E30: Fundraising Outgoing | F30: =SUMIF(Cashbook!$X$13:$X$142,F$11&$D30,Cashbook!$I$13:$I$142) -> 0 | G30: =SUMIF(Cashbook!$X$13:$X$142,G$11&$D30,Cashbook!$I$13:$I$142) -> 0 | H30: =SUMIF(Cashbook!$X$13:$X$142,H$11&$D30,Cashbook!$I$13:$I$142) -> 0 | I30: =SUMIF(Cashbook!$X$13:$X$142,I$11&$D30,Cashbook!$I$13:$I$142) -> 0 | J30: =SUMIF(Cashbook!$X$13:$X$142,J$11&$D30,Cashbook!$I$13:$I$142) -> 0 | K30: =SUMIF(Cashbook!$X$13:$X$142,K$11&$D30,Cashbook!$I$13:$I$142) -> 0 | L30: =SUMIF(Cashbook!$X$13:$X$142,L$11&$D30,Cashbook!$I$13:$I$142) -> 0 | M30: =SUMIF(Cashbook!$X$13:$X$142,M$11&$D30,Cashbook!$I$13:$I$142) -> 0 | ... T30: =SUMIF(Cashbook!$X$13:$X$142,T$11&$D30,Cashbook!$I$13:$I$142) -> 0 | V30: =SUM(F30:T30) -> 0
D31: IT | E31: Website Expenses | F31: =SUMIF(Cashbook!$X$13:$X$142,F$11&$D31,Cashbook!$I$13:$I$142) -> 0 | G31: =SUMIF(Cashbook!$X$13:$X$142,G$11&$D31,Cashbook!$I$13:$I$142) -> 0 | H31: =SUMIF(Cashbook!$X$13:$X$142,H$11&$D31,Cashbook!$I$13:$I$142) -> 0 | I31: =SUMIF(Cashbook!$X$13:$X$142,I$11&$D31,Cashbook!$I$13:$I$142) -> 0 | J31: =SUMIF(Cashbook!$X$13:$X$142,J$11&$D31,Cashbook!$I$13:$I$142) -> 0 | K31: =SUMIF(Cashbook!$X$13:$X$142,K$11&$D31,Cashbook!$I$13:$I$142) -> 0 | L31: =SUMIF(Cashbook!$X$13:$X$142,L$11&$D31,Cashbook!$I$13:$I$142) -> 0 | M31: =SUMIF(Cashbook!$X$13:$X$142,M$11&$D31,Cashbook!$I$13:$I$142) -> 0 | ... T31: =SUMIF(Cashbook!$X$13:$X$142,T$11&$D31,Cashbook!$I$13:$I$142) -> 0 | V31: =SUM(F31:T31) -> 0
F32: =SUMIF(Cashbook!$X$13:$X$142,F$11&$D32,Cashbook!$I$13:$I$142) -> 0 | G32: =SUMIF(Cashbook!$X$13:$X$142,G$11&$D32,Cashbook!$I$13:$I$142) -> 0 | H32: =SUMIF(Cashbook!$X$13:$X$142,H$11&$D32,Cashbook!$I$13:$I$142) -> 0 | I32: =SUMIF(Cashbook!$X$13:$X$142,I$11&$D32,Cashbook!$I$13:$I$142) -> 0 | J32: =SUMIF(Cashbook!$X$13:$X$142,J$11&$D32,Cashbook!$I$13:$I$142) -> 0 | K32: =SUMIF(Cashbook!$X$13:$X$142,K$11&$D32,Cashbook!$I$13:$I$142) -> 0 | L32: =SUMIF(Cashbook!$X$13:$X$142,L$11&$D32,Cashbook!$I$13:$I$142) -> 0 | M32: =SUMIF(Cashbook!$X$13:$X$142,M$11&$D32,Cashbook!$I$13:$I$142) -> 0 | ... T32: =SUMIF(Cashbook!$X$13:$X$142,T$11&$D32,Cashbook!$I$13:$I$142) -> 0 | V32: =SUM(F32:T32) -> 0
F33: =SUMIF(Cashbook!$X$13:$X$142,F$11&$D33,Cashbook!$I$13:$I$142) -> 0 | G33: =SUMIF(Cashbook!$X$13:$X$142,G$11&$D33,Cashbook!$I$13:$I$142) -> 0 | H33: =SUMIF(Cashbook!$X$13:$X$142,H$11&$D33,Cashbook!$I$13:$I$142) -> 0 | I33: =SUMIF(Cashbook!$X$13:$X$142,I$11&$D33,Cashbook!$I$13:$I$142) -> 0 | J33: =SUMIF(Cashbook!$X$13:$X$142,J$11&$D33,Cashbook!$I$13:$I$142) -> 0 | K33: =SUMIF(Cashbook!$X$13:$X$142,K$11&$D33,Cashbook!$I$13:$I$142) -> 0 | L33: =SUMIF(Cashbook!$X$13:$X$142,L$11&$D33,Cashbook!$I$13:$I$142) -> 0 | M33: =SUMIF(Cashbook!$X$13:$X$142,M$11&$D33,Cashbook!$I$13:$I$142) -> 0 | ... T33: =SUMIF(Cashbook!$X$13:$X$142,T$11&$D33,Cashbook!$I$13:$I$142) -> 0 | V33: =SUM(F33:T33) -> 0
F34: =SUMIF(Cashbook!$X$13:$X$142,F$11&$D34,Cashbook!$I$13:$I$142) -> 0 | G34: =SUMIF(Cashbook!$X$13:$X$142,G$11&$D34,Cashbook!$I$13:$I$142) -> 0 | H34: =SUMIF(Cashbook!$X$13:$X$142,H$11&$D34,Cashbook!$I$13:$I$142) -> 0 | I34: =SUMIF(Cashbook!$X$13:$X$142,I$11&$D34,Cashbook!$I$13:$I$142) -> 0 | J34: =SUMIF(Cashbook!$X$13:$X$142,J$11&$D34,Cashbook!$I$13:$I$142) -> 0 | K34: =SUMIF(Cashbook!$X$13:$X$142,K$11&$D34,Cashbook!$I$13:$I$142) -> 0 | L34: =SUMIF(Cashbook!$X$13:$X$142,L$11&$D34,Cashbook!$I$13:$I$142) -> 0 | M34: =SUMIF(Cashbook!$X$13:$X$142,M$11&$D34,Cashbook!$I$13:$I$142) -> 0 | ... T34: =SUMIF(Cashbook!$X$13:$X$142,T$11&$D34,Cashbook!$I$13:$I$142) -> 0 | V34: =SUM(F34:T34) -> 0
F35: =SUMIF(Cashbook!$X$13:$X$142,F$11&$D35,Cashbook!$I$13:$I$142) -> 0 | G35: =SUMIF(Cashbook!$X$13:$X$142,G$11&$D35,Cashbook!$I$13:$I$142) -> 0 | H35: =SUMIF(Cashbook!$X$13:$X$142,H$11&$D35,Cashbook!$I$13:$I$142) -> 0 | I35: =SUMIF(Cashbook!$X$13:$X$142,I$11&$D35,Cashbook!$I$13:$I$142) -> 0 | J35: =SUMIF(Cashbook!$X$13:$X$142,J$11&$D35,Cashbook!$I$13:$I$142) -> 0 | K35: =SUMIF(Cashbook!$X$13:$X$142,K$11&$D35,Cashbook!$I$13:$I$142) -> 0 | L35: =SUMIF(Cashbook!$X$13:$X$142,L$11&$D35,Cashbook!$I$13:$I$142) -> 0 | M35: =SUMIF(Cashbook!$X$13:$X$142,M$11&$D35,Cashbook!$I$13:$I$142) -> 0 | ... T35: =SUMIF(Cashbook!$X$13:$X$142,T$11&$D35,Cashbook!$I$13:$I$142) -> 0 | V35: =SUM(F35:T35) -> 0
F36: =SUMIF(Cashbook!$X$13:$X$142,F$11&$D36,Cashbook!$I$13:$I$142) -> 0 | G36: =SUMIF(Cashbook!$X$13:$X$142,G$11&$D36,Cashbook!$I$13:$I$142) -> 0 | H36: =SUMIF(Cashbook!$X$13:$X$142,H$11&$D36,Cashbook!$I$13:$I$142) -> 0 | I36: =SUMIF(Cashbook!$X$13:$X$142,I$11&$D36,Cashbook!$I$13:$I$142) -> 0 | J36: =SUMIF(Cashbook!$X$13:$X$142,J$11&$D36,Cashbook!$I$13:$I$142) -> 0 | K36: =SUMIF(Cashbook!$X$13:$X$142,K$11&$D36,Cashbook!$I$13:$I$142) -> 0 | L36: =SUMIF(Cashbook!$X$13:$X$142,L$11&$D36,Cashbook!$I$13:$I$142) -> 0 | M36: =SUMIF(Cashbook!$X$13:$X$142,M$11&$D36,Cashbook!$I$13:$I$142) -> 0 | ... T36: =SUMIF(Cashbook!$X$13:$X$142,T$11&$D36,Cashbook!$I$13:$I$142) -> 0 | V36: =SUM(F36:T36) -> 0
F37: =SUMIF(Cashbook!$X$13:$X$142,F$11&$D37,Cashbook!$I$13:$I$142) -> 0 | G37: =SUMIF(Cashbook!$X$13:$X$142,G$11&$D37,Cashbook!$I$13:$I$142) -> 0 | H37: =SUMIF(Cashbook!$X$13:$X$142,H$11&$D37,Cashbook!$I$13:$I$142) -> 0 | I37: =SUMIF(Cashbook!$X$13:$X$142,I$11&$D37,Cashbook!$I$13:$I$142) -> 0 | J37: =SUMIF(Cashbook!$X$13:$X$142,J$11&$D37,Cashbook!$I$13:$I$142) -> 0 | K37: =SUMIF(Cashbook!$X$13:$X$142,K$11&$D37,Cashbook!$I$13:$I$142) -> 0 | L37: =SUMIF(Cashbook!$X$13:$X$142,L$11&$D37,Cashbook!$I$13:$I$142) -> 0 | M37: =SUMIF(Cashbook!$X$13:$X$142,M$11&$D37,Cashbook!$I$13:$I$142) -> 0 | ... T37: =SUMIF(Cashbook!$X$13:$X$142,T$11&$D37,Cashbook!$I$13:$I$142) -> 0 | V37: =SUM(F37:T37) -> 0
F38: =SUMIF(Cashbook!$X$13:$X$142,F$11&$D38,Cashbook!$I$13:$I$142) -> 0 | G38: =SUMIF(Cashbook!$X$13:$X$142,G$11&$D38,Cashbook!$I$13:$I$142) -> 0 | H38: =SUMIF(Cashbook!$X$13:$X$142,H$11&$D38,Cashbook!$I$13:$I$142) -> 0 | I38: =SUMIF(Cashbook!$X$13:$X$142,I$11&$D38,Cashbook!$I$13:$I$142) -> 0 | J38: =SUMIF(Cashbook!$X$13:$X$142,J$11&$D38,Cashbook!$I$13:$I$142) -> 0 | K38: =SUMIF(Cashbook!$X$13:$X$142,K$11&$D38,Cashbook!$I$13:$I$142) -> 0 | L38: =SUMIF(Cashbook!$X$13:$X$142,L$11&$D38,Cashbook!$I$13:$I$142) -> 0 | M38: =SUMIF(Cashbook!$X$13:$X$142,M$11&$D38,Cashbook!$I$13:$I$142) -> 0 | ... T38: =SUMIF(Cashbook!$X$13:$X$142,T$11&$D38,Cashbook!$I$13:$I$142) -> 0 | V38: =SUM(F38:T38) -> 0 | X38: Total from
F39: =SUMIF(Cashbook!$X$13:$X$142,F$11&$D39,Cashbook!$I$13:$I$142) -> 0 | G39: =SUMIF(Cashbook!$X$13:$X$142,G$11&$D39,Cashbook!$I$13:$I$142) -> 0 | H39: =SUMIF(Cashbook!$X$13:$X$142,H$11&$D39,Cashbook!$I$13:$I$142) -> 0 | I39: =SUMIF(Cashbook!$X$13:$X$142,I$11&$D39,Cashbook!$I$13:$I$142) -> 0 | J39: =SUMIF(Cashbook!$X$13:$X$142,J$11&$D39,Cashbook!$I$13:$I$142) -> 0 | K39: =SUMIF(Cashbook!$X$13:$X$142,K$11&$D39,Cashbook!$I$13:$I$142) -> 0 | L39: =SUMIF(Cashbook!$X$13:$X$142,L$11&$D39,Cashbook!$I$13:$I$142) -> 0 | M39: =SUMIF(Cashbook!$X$13:$X$142,M$11&$D39,Cashbook!$I$13:$I$142) -> 0 | ... T39: =SUMIF(Cashbook!$X$13:$X$142,T$11&$D39,Cashbook!$I$13:$I$142) -> 0 | V39: =SUM(F39:T39) -> 0 | X39: cashbook | Y39: Contra | Z39: Difference
F40: =SUM(F25:F39) -> 0 | G40: =SUM(G25:G39) -> 0 | H40: =SUM(H25:H39) -> 0 | I40: =SUM(I25:I39) -> 0 | J40: =SUM(J25:J39) -> 0 | K40: =SUM(K25:K39) -> 0 | L40: =SUM(L25:L39) -> 0 | M40: =SUM(M25:M39) -> 0 | ... T40: =SUM(T25:T39) -> 0 | V40: =SUM(V25:V39) -> 0 | X40: =Cashbook!I143 -> 16905.06 | Y40: =SUMIF(Cashbook!F13:F142,'Monthly Analysis'!Y39,Cashbook!I13:I142) -> 0 | Z40: =V40-(X40-Y40) -> -16905.06
E42: Surplus/Deficit for the month | F42: =F23-F40 -> 0 | G42: =G23-G40 -> 0 | H42: =H23-H40 -> 0 | I42: =I23-I40 -> 0 | J42: =J23-J40 -> 0 | K42: =K23-K40 -> 0
E44: Balance B/Forward | F44: =Cashbook!U12 -> 0 | G44: =F46 -> 0 | H44: =G46 -> 0 | I44: =H46 -> 0 | J44: =I46 -> 0 | K44: =J46 -> 0
E45: Surplus/Deficit for the month | F45: =F42 -> 0 | G45: =G42 -> 0 | H45: =H42 -> 0 | I45: =I42 -> 0 | J45: =J42 -> 0 | K45: =K42 -> 0 | W45: Closing Balances from cashbook
E46: Balance C/Forward | F46: =F44+F45 -> 0 | G46: =G44+G45 -> 0 | H46: =H44+H45 -> 0 | I46: =I44+I45 -> 0 | J46: =J44+J45 -> 0 | K46: =K44+K45 -> 0 | W46: =Cashbook!U142 -> 0
E50: Surplus/Deficit to date
...

Sheet Annual Accounts
F14: PORTSOY OUTDOOR POOL
F15: SC0xxxx
F16: Accounts for year to 31/03/25
F50: PORTOSY OUTDOOR POOL
F51: SC0xxxx
H53: Contents
H56: Page:
H58: 1 | I58: Receipts and Payments Account
H60: 2 | I60: Statement of Balances
H62: 3 | I62: Notes
F69: PORTSOY OUTDOOR POOL
F70: SC0xxxx
F72: Receipts and Payments Account as at 31/03/25
O74: 2025
O75: £
H76: Receipts
E78: MS | H78: Donations | O78: =+'Monthly Analysis'!V13 -> 0
E79: GRANTS | H79: Grants | O79: =+'Monthly Analysis'!V14 -> 0
E80: FR | H80: Fundraising Income | O80: =+'Monthly Analysis'!V15 -> 0
E81: DON | H81: Crowdfunder | O81: =+'Monthly Analysis'!V16 -> 0
E82: INSr | H82: IT | O82: =+'Monthly Analysis'!V17 -> 0
E83: INTC | O83: =+'Monthly Analysis'!V18 -> 0
O84: =+'Monthly Analysis'!V19 -> 0
O85: =+'Monthly Analysis'!V20 -> 0
H86: Total receipts | O86: =SUM(O78:O85) -> 0
H89: Payments
A91: WALL | E91: WALL | H91: Admin Charges | O91: =+'Monthly Analysis'!V25 -> 0
A92: EQUIP | E92: EQUIP | H92: Equipment Purchased | O92: =+'Monthly Analysis'!V26 -> 0
A93: FR | E93: FR | H93: Professional Fees | O93: =+'Monthly Analysis'!V27 -> 0
A94: SUBS | E94: SUBS | H94: Bank Charges | O94: =+'Monthly Analysis'!V28 -> 0
A95: ADM | E95: ADM | H95: Hall Hire | O95: =+'Monthly Analysis'!V29 -> 0
A96: TRAIN | E96: TR | H96: Fundraising Outgoing | O96: =+'Monthly Analysis'!V30 -> 0
E97: AUDIT | H97: IT | O97: =+'Monthly Analysis'!V31 -> 0
E98: BCHGS | O98: =+'Monthly Analysis'!V32 -> 0
E99: INS | O99: =+'Monthly Analysis'!V33 -> 0
A100: AUDIT | O100: =+'Monthly Analysis'!V34 -> 0
O101: =+'Monthly Analysis'!V35 -> 0
O102: =+'Monthly Analysis'!V36 -> 0
O103: =+'Monthly Analysis'!V37 -> 0
H104: Total payments | O104: =SUM(O91:O103) -> 0
...

Sheet Categories
A1: income
A2: DON | B2: Donations
A3: GRANTS | B3: Grants
A4: FUNDINC | B4: Fundraising Income
A5: CROWD | B5: Crowdfunder
A13: outgoings
A14: ADM | B14: Admin Charges | E14: Tea, Coffee, Stationary, Misc
A15: EQUIP | B15: Equipment Purchased
A16: AUDIT | B16: Professional Fees
A17: BCHGS | B17: Bank Charges
A18: HH | B18: Hall Hire
A19: FUNDOUT | B19: Fundraising Outgoings
A20: IT | B20: Website etc

Sheet Pivot
G5: CRAIG WILLIAMS
G32: Accounts for year to *** 2017
G63: CRAIG WILLIAMS
G70: Contents
G73: Page:
G75: 1 | H75: Receipts and Payments Account
G77: 2 | H77: Statement of Balances
G86: CRAIG WILLIAMS
G89: Receipts and Payments Account for the year ended **** 2017
O91: 2017
O92: £
H93: Receipts
A95: SINGLE | E95: SINGLE | H95: Single Payment | O95: =VLOOKUP(E95,TAB,3) -> 0
A96: WEEK | E96: WEEK | H96: Weekly Payment | O96: =VLOOKUP(E96,TAB,3) -> 0
A97: MONTH | E97: MONTH | H97: Monthly Payment | O97: =VLOOKUP(E97,TAB,3) -> 0
A98: ANNUAL | E98: ANNUAL | H98: Annual Payment | O98: =VLOOKUP(E98,TAB,3) -> #N/A
A99: MERCH | E99: MERCH | H99: Merchandise | O99: =VLOOKUP(E99,TAB,3) -> 0
H108: Total receipts | O108: =SUM(O95:O107) -> #N/A
H111: Payments
A113: RENT | E113: RENT | H113: Rent | O113: =VLOOKUP(D113,TAB2,3)+VLOOKUP(E113,TAB2,3)+VLOOKUP(C113,TAB2,3) -> #N/A
A114: EQUIP | E114: EQUIP | H114: Equipment Purchased | O114: =VLOOKUP(D114,TAB3,3)+VLOOKUP(E114,TAB3,3)+VLOOKUP(C114,TAB3,3) -> #N/A
A115: SUBS | E115: SUBS | H115: Subscriptions | O115: =VLOOKUP(D115,TAB4,3)+VLOOKUP(E115,TAB4,3)+VLOOKUP(C115,TAB4,3) -> #N/A
A116: ADM | E116: ADM | H116: Admin Charges | O116: =VLOOKUP(D116,TAB5,3)+VLOOKUP(E116,TAB5,3)+VLOOKUP(C116,TAB5,3) -> #N/A
A117: TRAIN | E117: TRAIN | H117: Training Costs | O117: =VLOOKUP(D117,TAB6,3)+VLOOKUP(E117,TAB6,3)+VLOOKUP(C117,TAB6,3) -> #N/A
A118: AUDIT | E118: AUDIT | H118: Professional Fees | O118: =VLOOKUP(D118,TAB7,3)+VLOOKUP(E118,TAB7,3)+VLOOKUP(C118,TAB7,3) -> #N/A
A119: BCHGS | E119: BCHGS | H119: Bank Charges | O119: =VLOOKUP(D119,TAB8,3)+VLOOKUP(E119,TAB8,3)+VLOOKUP(C119,TAB8,3) -> #N/A
A120: INS | E120: INS | H120: Insurances | O120: =VLOOKUP(D120,TAB9,3)+VLOOKUP(E120,TAB9,3)+VLOOKUP(C120,TAB9,3) -> #N/A
H133: Total payments | O133: =O116+O126+O131 -> #N/A
H136: Surplus/ (deficit) for year | O136: =O108-O133 -> #N/A
G142: CRAIG WILLIAMS
H145: Statement of Balances as at ****, 2017
H148: Net current assets at start of year | O148: =Cashbook!U12 -> 0
H151: Surplus/(deficit) for year | O151: =O136 -> #N/A
O153: =SUM(O148:O151) -> #N/A
H155: Net current assets at end of year
H157: Cashflow Account | N157: =Cashbook!N142 -> 0
O163: =SUM(N157:N162) -> 0
