Workbook

Sheet R&P Accounts
B1: Ferryhill Railway Heritage Trust | L1: Enter SC No. below
L2: S
B3: Receipts and payments accounts
B4: For the period from | D4: Period start date | G4: to | H4: Period end date
A8: Section A Statement of receipts and payments
B9: Unrestricted funds | D9: Restricted funds | F9: Expendable endowment funds | H9: Permanent endowment funds | J9: Total funds current period | L9: Total funds last period
B10: to nearest £ | D10: to nearest £ | F10: to nearest £ | H10: to nearest £ | J10: to nearest £ | L10: to nearest £
A11: A1 Receipts
A12: Donations | B12: ='Additional notes (2)'!C9 -> 16183.49 | D12: ='Additional notes (3)'!K9 -> 0 | J12: =H12+D12+B12+F12 -> 16183.49 | L12: ='Additional notes (2)'!M9+'Additional notes (3)'!M9 -> 7212
A13: Gift Aid | B13: ='Additional notes (2)'!C10 -> 4397.25 | D13: ='Additional notes (3)'!K10 -> 0 | J13: =H13+D13+B13+F13 -> 4397.25
A14: Legacies | B14: ='Additional notes (2)'!C11 -> 0 | D14: ='Additional notes (3)'!K10 -> 0 | J14: =H14+D14+B14+F14 -> 0 | L14: ='Additional notes (2)'!M11+'Additional notes (3)'!M10 -> 0
A15: Grants | B15: ='Additional notes (2)'!C12 -> 17405 | D15: ='Additional notes (3)'!K11 -> 0 | J15: =H15+D15+B15+F15 -> 17405 | L15: ='Additional notes (2)'!M12+'Additional notes (3)'!M11 -> 168167
A16: Receipts from fundraising activities | B16: ='Additional notes (2)'!C13 -> 4094.3433 | D16: ='Additional notes (3)'!K12 -> 0 | J16: =H16+D16+B16+F16 -> 4094.3433 | L16: ='Additional notes (2)'!M13+'Additional notes (3)'!M12 -> 2065
A17: Gross trading receipts | B17: ='Additional notes (2)'!C14 -> 3503.0083 | D17: ='Additional notes (3)'!K13 -> 0 | J17: =H17+D17+B17+F17 -> 3503.0083 | L17: ='Additional notes (2)'!M14+'Additional notes (3)'!M13 -> 2713
A18: Income from investments other than land and buildings | B18: ='Additional notes (2)'!C15 -> 0 | D18: ='Additional notes (3)'!K14 -> 0 | J18: =H18+D18+B18+F18 -> 0 | L18: ='Additional notes (2)'!M15+'Additional notes (3)'!M14 -> 0
A19: Rents from land & buildings | B19: ='Additional notes (2)'!C16 -> 0 | D19: ='Additional notes (3)'!K15 -> 0 | J19: =H19+D19+B19+F19 -> 0 | L19: ='Additional notes (2)'!M16+'Additional notes (3)'!M15 -> 0
A20: Gross receipts from other charitable activities | B20: ='Additional notes (2)'!C17 -> 111.1 | D20: ='Additional notes (3)'!K16 -> 641.47 | J20: =H20+D20+B20+F20 -> 752.57 | L20: ='Additional notes (2)'!M17+'Additional notes (3)'!M16 -> 3989
A21: VAT | B21: ='Additional notes (2)'!C18 -> 5831.1917 | J21: =H21+D21+B21+F21 -> 5831.1917 | L21: ='Additional notes (2)'!M18 -> 48432
A22: A1 Sub total | B22: =SUM(B12:B21) -> 51525.383 | D22: =SUM(D12:D21) -> 641.47 | F22: =SUM(F12:F21) -> 0 | H22: =SUM(H12:H21) -> 0 | J22: =H22+D22+B22+F22 -> 52166.853 | L22: =SUM(L12:L21) -> 232578
J23: =IF(B22+D22+F22+H22-J22=0," ","error")
A24: A2 Receipts from asset & investment sales
A25: Proceeds from sale of fixed assets | J25: =H25+D25+B25+F25 -> 0
A26: Proceeds from sale of investments | J26: =H26+D26+B26+F26 -> 0
A27: A2 Sub total | B27: =SUM(B25:B26) -> 0 | D27: =SUM(D25:D26) -> 0 | F27: =SUM(F25:F26) -> 0 | H27: =SUM(H25:H26) -> 0 | J27: =SUM(J25:J26) -> 0 | L27: =SUM(L25:L26) -> 0
J28: =IF(B27+D27+F27+H27-J27=0," ","error")
A29: Total receipts | B29: =B27+B22 -> 51525.383 | D29: =D27+D22 -> 641.47 | F29: =F27+F22 -> 0 | H29: =H27+H22 -> 0 | J29: =J27+J22 -> 52166.853 | L29: =L27+L22 -> 232578
J30: =IF(B29+D29+H29-J29=0," ","error")
A31: A3 Payments
A32: Expenses for fundraising activities | B32: ='Additional notes (2)'!C30 -> 406 | D32: ='Additional notes (3)'!K28 -> 0 | J32: =H32+D32+B32+F32 -> 406 | L32: ='Additional notes (2)'!M30+'Additional notes (3)'!M28 -> 435
A33: Gross trading payments | B33: ='Additional notes (2)'!C31 -> 0 | D33: ='Additional notes (3)'!K29 -> 0 | J33: =H33+D33+B33+F33 -> 0 | L33: ='Additional notes (2)'!M31+'Additional notes (3)'!M29 -> 0
A34: Investment management costs | B34: ='Additional notes (2)'!C32 -> 0 | D34: ='Additional notes (3)'!K30 -> 0 | J34: =H34+D34+B34+F34 -> 0 | L34: ='Additional notes (2)'!M32+'Additional notes (3)'!M30 -> 0
A35: Payments relating directly to charitable activities | B35: ='Additional notes (2)'!C33 -> 36474.433 | D35: ='Additional notes (3)'!K31 -> 363.6 | J35: =H35+D35+B35+F35 -> 36838.033 | L35: ='Additional notes (2)'!M33+'Additional notes (3)'!M31 -> 283568
A36: Grants and donations | B36: ='Additional notes (2)'!C34 -> 0 | D36: ='Additional notes (3)'!K32 -> 0 | J36: =H36+D36+B36+F36 -> 0 | L36: ='Additional notes (2)'!M34+'Additional notes (3)'!M32 -> 0
A37: Governance costs: | B37: ='Additional notes (2)'!C35 -> 4357.65 | D37: ='Additional notes (3)'!K33 -> 0 | J37: =H37+D37+B37+F37 -> 4357.65 | L37: ='Additional notes (2)'!M35+'Additional notes (3)'!M33 -> 4903
A38: Audit / independent examination | B38: ='Additional notes (2)'!C36 -> 0 | D38: ='Additional notes (3)'!K34 -> 0 | J38: =H38+D38+B38+F38 -> 0 | L38: ='Additional notes (2)'!M36+'Additional notes (3)'!M34 -> 0
A39: Preparation of annual accounts | B39: ='Additional notes (2)'!C37 -> 0 | D39: ='Additional notes (3)'!K35 -> 0 | J39: =H39+D39+B39+F39 -> 0 | L39: ='Additional notes (2)'!M37+'Additional notes (3)'!M35 -> 0
A40: Legal costs | B40: ='Additional notes (2)'!C38 -> 0 | D40: ='Additional notes (3)'!K36 -> 0 | J40: =H40+D40+B40+F40 -> 0 | L40: ='Additional notes (2)'!M38+'Additional notes (3)'!M36 -> 0
A41: Other | B41: ='Additional notes (2)'!C39 -> 2056.83 | D41: ='Additional notes (3)'!K37 -> 0 | J41: =H41+D41+B41+F41 -> 2056.83 | L41: ='Additional notes (2)'!M39+'Additional notes (3)'!M37 -> 4111
A42: VAT | B42: ='Additional notes (2)'!C40 -> 6772.5529 | D42: ='Additional notes (3)'!K38 -> 0 | J42: =H42+D42+B42+F42 -> 6772.5529 | L42: ='Additional notes (2)'!M40 -> 48880
A43: A3 Sub total | B43: =SUM(B32:B42) -> 50067.466 | D43: =SUM(D32:D42) -> 363.6 | F43: =SUM(F32:F42) -> 0 | H43: =SUM(H32:H42) -> 0 | J43: =SUM(J32:J42) -> 50431.066 | L43: =SUM(L32:L42) -> 341897
...

Sheet Statement of balances
B1: ='R&P Accounts'!B1 -> Ferryhill Railway Heritage Trust | N1: ='R&P Accounts'!L2 -> S
A2: Section B Statement of balances
A3: Categories | B3: Details | F3: Unrestricted funds | H3: Restricted funds | J3: Expendable endowment funds | L3: Permanent endowment funds | N3: Total current period | P3: Total last period
F4: to nearest £ | H4: to nearest £ | J4: to nearest £ | L4: to nearest £ | N4: to nearest £ | P4: to nearest £
A5: B1 Cash funds | B5: Cash and bank balances at start of year | F5: 13035.22 | N5: =F5+H5+J5+L5 -> 13035.22 | P5: 120910.49
B6: Surplus / (deficit) shown on receipts and payments account | F6: ='R&P Accounts'!B56 -> 1457.9171 | H6: ='R&P Accounts'!D56 -> 277.87 | J6: ='R&P Accounts'!F56 -> 0 | L6: ='R&P Accounts'!H56 -> 0 | N6: =F6+H6+J6+L6 -> 1735.7871 | P6: ='R&P Accounts'!L56 -> -110519
N7: =F7+H7+J7+L7 -> 0
N8: =F8+H8+J8+L8 -> 0
B9: Cash and bank balances at end of year | F9: =SUM(F5:F8) -> 14493.137 | H9: =SUM(H5:H8) -> 277.87 | J9: =SUM(J5:J8) -> 0 | L9: =SUM(L5:L8) -> 0 | N9: =F9+H9+J9+L9 -> 14771.007 | P9: =SUM(P5:P8) -> 10391.49
B11: Details | J11: Fund to which asset belongs | N11: Market valuation | P11: Last year
N12: to nearest £ | P12: to nearest £
A13: B2 Investments
L18: Total | N18: =SUM(N13:N17) -> 0 | P18: =SUM(P13:P17) -> 0
B20: Details | H20: Fund to which asset belongs | L20: Cost (if available) | N20: Current value (if available) | P20: Last year
L21: to nearest £ | N21: to nearest £ | P21: to nearest £
A22: B3 Other assets
J31: Total | L31: =SUM(L22:L30) -> 0 | N31: =SUM(N22:N30) -> 0 | P31: =SUM(P22:P30) -> 0
B33: Details | J33: Fund to which liability relates | N33: Amount due | P33: Last year
N34: to nearest £ | P34: to nearest £
A35: B4 Liabilities | B35: National Transport Loan
L40: Total | N40: =SUM(N35:N39) -> 0 | P40: =SUM(P35:P39) -> 0
B42: Details | J42: Fund to which liability relates | N42: Amount due (estimate) | P42: Last year
N43: to nearest £ | P43: to nearest £
A44: B5 Contingent liabilities
L47: Total | N47: =SUM(N44:N46) -> 0 | P47: =SUM(P44:P46) -> 0
A49: Signed by one or two trustees on behalf of all the trustees | B49: Signature* | H49: Print Name | P49: Date of approval
B53: * Please note - OSCR will accept digital or typed signatures

Sheet Notes
B1: ='R&P Accounts'!B1 -> Ferryhill Railway Heritage Trust | K1: ='R&P Accounts'!L2 -> S
A3: Section C Notes to the Accounts
A5: C1 Nature and purpose of funds (may be stated on analysis of funds worksheets)
B11: Type of activity or project supported | H11: Individual / institution | J11: Number of grants made | K11: £
A12: C2 Grants
B17: Total | K17: =SUM(K12:K16) -> 0
A19: C3a Trustee remuneration | B19: If no remuneration was paid during the period to any charity trustee or person connected to a trustee cross this box (otherwise complete section 3b)
B22: Authority under which paid | K22: £
A23: C3b Trustee remuneration - details
A29: C4a Trustee expenses | B29: If no expenses were paid to any charity trustee during the period then cross this box (otherwise complete section 4b)
J32: Number of trustees | K32: £
A33: C4b Trustee expenses - details
B39: Nature of relationship | F39: Nature of transaction | J39: Transaction amount (£) | K39: Balance outstanding at period end (£)
A40: C5 Transactions with trustees and connected persons
A46: C6 Other information

Sheet Additional notes (1)  
C1: ='R&P Accounts'!B1 -> Ferryhill Railway Heritage Trust | M1: ='R&P Accounts'!L2 -> S
A3: Additional analysis (1)
A5: Analysis of receipts and payments
A7: 1 Donations
C8: Unrestricted funds | E8: Restricted funds | G8: Expendable endowment funds | I8: Permanent endowment funds | K8: Total current period | M8: Total last period
C9: to nearest £ | E9: to nearest £ | G9: to nearest £ | I9: to nearest £ | K9: to nearest £ | M9: to nearest £
A10: General | C10: ='Additional notes (2)'!K9 -> 16183.49 | E10: ='Additional notes (3)'!K9 -> 0 | G10: ='R&P Accounts'!F12 -> 0 | I10: ='R&P Accounts'!H12 -> 0 | K10: =SUM(C10:I10) -> 16183.49 | M10: 7212
K11: =SUM(C11:I11) -> 0
K12: =SUM(C12:I12) -> 0
K13: =SUM(C13:I13) -> 0
A14: Total | C14: =SUM(C10:C13) -> 16183.49 | E14: =SUM(E10:E13) -> 0 | G14: =SUM(G10:G13) -> 0 | I14: =SUM(I10:I13) -> 0 | K14: =SUM(K10:K13) -> 16183.49 | M14: =SUM(M10:M13) -> 7212
C16: =IF('R&P Accounts'!B12-'Additional notes (1) '!C14=0,0,"reference error") -> 0 | E16: =IF('R&P Accounts'!D12-'Additional notes (1) '!E14=0,0,"reference error") -> 0 | F16: =IF('R&P Accounts'!E12-'Additional notes (1) '!F14=0,0,"reference error") -> 0 | G16: =IF('R&P Accounts'!F12-'Additional notes (1) '!G14=0,0,"reference error") -> 0 | H16: =IF('R&P Accounts'!G12-'Additional notes (1) '!H14=0,0,"reference error") -> 0 | I16: =IF('R&P Accounts'!H12-'Additional notes (1) '!I14=0,0,"reference error") -> 0 | J16: =IF('R&P Accounts'!I12-'Additional notes (1) '!J14=0,0,"reference error") -> 0 | K16: =IF('R&P Accounts'!J12-'Additional notes (1) '!K14=0,0,"reference error") -> 0 | L16: =IF('R&P Accounts'!K12-'Additional notes (1) '!L14=0,0,"reference error") -> 0 | M16: =IF('R&P Accounts'!L12-'Additional notes (1) '!M14=0,0,"reference error") -> 0
A18: 2 Grants
C19: Unrestricted funds | E19: Restricted funds | K19: Total current period | M19: Total last period
C20: to nearest £ | E20: to nearest £ | K20: to nearest £ | M20: to nearest £
K21: =SUM(C21:I21) -> 0 | M21: 40000
K22: =SUM(C22:I22) -> 0 | M22: 66667
K23: =SUM(C23:I23) -> 0 | M23: 46000
K24: =SUM(C24:I24) -> 0 | M24: 1500
K25: =SUM(C25:I25) -> 0 | M25: 10000
K26: =SUM(C26:I26) -> 0 | M26: 4000
A27: Total | C27: =SUM(C21:C26) -> 0 | E27: =SUM(E21:E26) -> 0 | K27: =SUM(K21:K26) -> 0 | M27: =SUM(M21:M26) -> 168167
C29: =IF('R&P Accounts'!B15-'Additional notes (1) '!C27=0,0,"reference error") -> reference error | F29: =IF('R&P Accounts'!E15-'Additional notes (1) '!F27=0,0,"reference error") -> 0 | J29: =IF('R&P Accounts'!I15-'Additional notes (1) '!J27=0,0,"reference error") -> 0 | L29: =IF('R&P Accounts'!K15-'Additional notes (1) '!L27=0,0,"reference error") -> 0
A31: 3 Gross receipts from other charitable activities
C32: Unrestricted funds | E32: Restricted funds | G32: Expendable endowment funds | I32: Permanent endowment funds | K32: Total current period | M32: Total last period
C33: to nearest £ | E33: to nearest £ | G33: to nearest £ | I33: to nearest £ | K33: to nearest £ | M33: to nearest £
E34: {=SUMPRODUCT(([1]Bank!$F$8:$F$163=$A34)*([1]Bank!$H$8:$H$163=E$32)*([1]Bank!$E$8:$E$163))} -> 0 | G34: {=SUMPRODUCT(([1]Bank!$F$8:$F$163=$A34)*([1]Bank!$H$8:$H$163=G$32)*([1]Bank!$E$8:$E$163))} -> 0 | I34: {=SUMPRODUCT(([1]Bank!$F$8:$F$163=$A34)*([1]Bank!$H$8:$H$163=I$32)*([1]Bank!$E$8:$E$163))} -> 0 | K34: =SUM(C34:I34) -> 0
E35: {=SUMPRODUCT(([1]Bank!$F$8:$F$163=$A35)*([1]Bank!$H$8:$H$163=E$32)*([1]Bank!$E$8:$E$163))} -> 0 | G35: {=SUMPRODUCT(([1]Bank!$F$8:$F$163=$A35)*([1]Bank!$H$8:$H$163=G$32)*([1]Bank!$E$8:$E$163))} -> 0 | I35: {=SUMPRODUCT(([1]Bank!$F$8:$F$163=$A35)*([1]Bank!$H$8:$H$163=I$32)*([1]Bank!$E$8:$E$163))} -> 0 | K35: =SUM(C35:I35) -> 0
E36: {=SUMPRODUCT(([1]Bank!$F$8:$F$163=$A36)*([1]Bank!$H$8:$H$163=E$32)*([1]Bank!$E$8:$E$163))} -> 0 | G36: {=SUMPRODUCT(([1]Bank!$F$8:$F$163=$A36)*([1]Bank!$H$8:$H$163=G$32)*([1]Bank!$E$8:$E$163))} -> 0 | I36: {=SUMPRODUCT(([1]Bank!$F$8:$F$163=$A36)*([1]Bank!$H$8:$H$163=I$32)*([1]Bank!$E$8:$E$163))} -> 0 | K36: =SUM(C36:I36) -> 0
E37: {=SUMPRODUCT(([1]Bank!$F$8:$F$163=$A37)*([1]Bank!$H$8:$H$163=E$32)*([1]Bank!$E$8:$E$163))} -> 0 | G37: {=SUMPRODUCT(([1]Bank!$F$8:$F$163=$A37)*([1]Bank!$H$8:$H$163=G$32)*([1]Bank!$E$8:$E$163))} -> 0 | I37: {=SUMPRODUCT(([1]Bank!$F$8:$F$163=$A37)*([1]Bank!$H$8:$H$163=I$32)*([1]Bank!$E$8:$E$163))} -> 0 | K37: =SUM(C37:I37) -> 0
E38: {=SUMPRODUCT(([1]Bank!$F$8:$F$163=$A38)*([1]Bank!$H$8:$H$163=E$32)*([1]Bank!$E$8:$E$163))} -> 0 | G38: {=SUMPRODUCT(([1]Bank!$F$8:$F$163=$A38)*([1]Bank!$H$8:$H$163=G$32)*([1]Bank!$E$8:$E$163))} -> 0 | I38: {=SUMPRODUCT(([1]Bank!$F$8:$F$163=$A38)*([1]Bank!$H$8:$H$163=I$32)*([1]Bank!$E$8:$E$163))} -> 0 | K38: =SUM(C38:I38) -> 0
E39: {=SUMPRODUCT(([1]Bank!$F$8:$F$163=$A39)*([1]Bank!$H$8:$H$163=E$32)*([1]Bank!$E$8:$E$163))} -> 0 | G39: {=SUMPRODUCT(([1]Bank!$F$8:$F$163=$A39)*([1]Bank!$H$8:$H$163=G$32)*([1]Bank!$E$8:$E$163))} -> 0 | I39: {=SUMPRODUCT(([1]Bank!$F$8:$F$163=$A39)*([1]Bank!$H$8:$H$163=I$32)*([1]Bank!$E$8:$E$163))} -> 0 | K39: =SUM(C39:I39) -> 0
E40: {=SUMPRODUCT(([1]Bank!$F$8:$F$163=$A40)*([1]Bank!$H$8:$H$163=E$32)*([1]Bank!$E$8:$E$163))} -> 0 | G40: {=SUMPRODUCT(([1]Bank!$F$8:$F$163=$A40)*([1]Bank!$H$8:$H$163=G$32)*([1]Bank!$E$8:$E$163))} -> 0 | I40: {=SUMPRODUCT(([1]Bank!$F$8:$F$163=$A40)*([1]Bank!$H$8:$H$163=I$32)*([1]Bank!$E$8:$E$163))} -> 0 | K40: =SUM(C40:I40) -> 0
E41: {=SUMPRODUCT(([1]Bank!$F$8:$F$163=$A41)*([1]Bank!$H$8:$H$163=E$32)*([1]Bank!$E$8:$E$163))} -> 0 | G41: {=SUMPRODUCT(([1]Bank!$F$8:$F$163=$A41)*([1]Bank!$H$8:$H$163=G$32)*([1]Bank!$E$8:$E$163))} -> 0 | I41: {=SUMPRODUCT(([1]Bank!$F$8:$F$163=$A41)*([1]Bank!$H$8:$H$163=I$32)*([1]Bank!$E$8:$E$163))} -> 0 | K41: =SUM(C41:I41) -> 0
E42: {=SUMPRODUCT(([1]Bank!$F$8:$F$163=$A42)*([1]Bank!$H$8:$H$163=E$32)*([1]Bank!$E$8:$E$163))} -> 0 | G42: {=SUMPRODUCT(([1]Bank!$F$8:$F$163=$A42)*([1]Bank!$H$8:$H$163=G$32)*([1]Bank!$E$8:$E$163))} -> 0 | I42: {=SUMPRODUCT(([1]Bank!$F$8:$F$163=$A42)*([1]Bank!$H$8:$H$163=I$32)*([1]Bank!$E$8:$E$163))} -> 0 | K42: =SUM(C42:I42) -> 0
E43: {=SUMPRODUCT(([1]Bank!$F$8:$F$163=$A43)*([1]Bank!$H$8:$H$163=E$32)*([1]Bank!$E$8:$E$163))} -> 0 | G43: {=SUMPRODUCT(([1]Bank!$F$8:$F$163=$A43)*([1]Bank!$H$8:$H$163=G$32)*([1]Bank!$E$8:$E$163))} -> 0 | I43: {=SUMPRODUCT(([1]Bank!$F$8:$F$163=$A43)*([1]Bank!$H$8:$H$163=I$32)*([1]Bank!$E$8:$E$163))} -> 0 | K43: =SUM(C43:I43) -> 0
E44: {=SUMPRODUCT(([1]Bank!$F$8:$F$163=$A44)*([1]Bank!$H$8:$H$163=E$32)*([1]Bank!$E$8:$E$163))} -> 0 | G44: {=SUMPRODUCT(([1]Bank!$F$8:$F$163=$A44)*([1]Bank!$H$8:$H$163=G$32)*([1]Bank!$E$8:$E$163))} -> 0 | I44: {=SUMPRODUCT(([1]Bank!$F$8:$F$163=$A44)*([1]Bank!$H$8:$H$163=I$32)*([1]Bank!$E$8:$E$163))} -> 0 | K44: =SUM(C44:I44) -> 0
A45: Total | C45: =SUM(C34:C44) -> 0 | E45: =SUM(E34:E44) -> 0 | G45: =SUM(G34:G44) -> 0 | I45: =SUM(I34:I44) -> 0 | K45: =SUM(K34:K44) -> 0 | M45: =SUM(M34:M44) -> 0
A49: 4 Payments relating directly to charitable activities
C50: Unrestricted funds | E50: Restricted funds | G50: Expendable endowment funds | I50: Permanent endowment funds | K50: Total current period | M50: Total last period
...

Sheet Additional notes (2)
C1: ='R&P Accounts'!B1 -> Ferryhill Railway Heritage Trust | M1: ='R&P Accounts'!L2 -> S
A3: Additional analysis (2)
A5: 5 Breakdown of unrestricted funds
C6: General | E6: Unrestricted fund 2 - enter name of fund below | G6: Unrestricted fund 3 - enter name of fund below | I6: Unrestricted fund 4 - enter name of fund below
K7: Total unrestricted funds | M7: Total unrestricted funds last period
A8: Receipts
A9: Donations | C9: ='[2]Year End'!$B$18 -> 16183.49 | K9: =SUM(C9:I9) -> 16183.49 | M9: 7212
A10: Gift Aid | C10: ='[2]Year End'!$B$19 -> 4397.25 | K10: =SUM(C10:I10) -> 4397.25
A11: Legacies | K11: =SUM(C11:I11) -> 0
A12: Grants | C12: ='[2]Year End'!$B$61 -> 17405 | K12: =SUM(C12:I12) -> 17405
A13: Receipts from fundraising activities | C13: ='[2]Year End'!$B$23+'[2]Year End'!$B$25 -> 4094.3433 | K13: =SUM(C13:I13) -> 4094.3433 | M13: 2065
A14: Gross trading receipts | C14: ='[2]Year End'!$B$26+'[2]Year End'!$B$27 -> 3503.0083 | K14: =SUM(C14:I14) -> 3503.0083 | M14: 2713
A15: Income from investments other than land and buildings | K15: =SUM(C15:I15) -> 0
A16: Rents from land & buildings | K16: =SUM(C16:I16) -> 0
A17: Gross receipts from other charitable activities | C17: ='[2]Year End'!$B$24 -> 111.1 | K17: =SUM(C17:I17) -> 111.1 | M17: 309
A18: VAT | C18: ='[2]Year End'!$B$74+'[2]Year End'!$B$75 -> 5831.1917 | M18: 48432
A19: Sub total | C19: =SUM(C9:C18) -> 51525.383 | E19: =SUM(E9:E18) -> 0 | G19: =SUM(G9:G18) -> 0 | I19: =SUM(I9:I18) -> 0 | K19: =SUM(K9:K18) -> 45694.192 | M19: =SUM(M9:M18) -> 60731
A21: Receipts from asset & investment sales
A22: Proceeds from sale of fixed assets | K22: =SUM(C22:I22) -> 0 | M22: 0
A23: Proceeds from sale of investments | K23: =SUM(C23:I23) -> 0 | M23: 0
A24: Sub total | C24: =SUM(C22:C23) -> 0 | E24: =SUM(E22:E23) -> 0 | G24: =SUM(G22:G23) -> 0 | I24: =SUM(I22:I23) -> 0 | K24: =SUM(K22:K23) -> 0 | M24: =SUM(M22:M23) -> 0
A26: Total receipts | C26: =C19+C24 -> 51525.383 | E26: =E19+E24 -> 0 | G26: =G19+G24 -> 0 | I26: =I19+I24 -> 0 | K26: =K19+K24 -> 45694.192 | M26: =M19+M24 -> 60731
A29: Payments
A30: Expenses for fundraising activities | C30: ='[2]Year End'!$B$52 -> 406 | K30: =SUM(C30:I30) -> 406 | M30: 435
A31: Gross trading payments | K31: =SUM(C31:I31) -> 0 | M31: 0
A32: Investment management costs | K32: =SUM(C32:I32) -> 0 | M32: 0
A33: Payments relating directly to charitable activities | C33: ='[2]Year End'!$B$35+'[2]Year End'!$B$38+'[2]Year End'!$B$39+'[2]Year End'!$B$41+'[2]Year End'!$B$42+'[2]Year End'!$B$46+'[2]Year End'!$B$47+'[2]Year End'!$B$49+'[2]Year End'!$B$54-'[2]Year End'!$B$60 -> 36474.433 | K33: =SUM(C33:I33) -> 36474.433 | M33: 13401
A34: Grants and donations | K34: =SUM(C34:I34) -> 0 | M34: 0
A35: Governance costs: | C35: ='[2]Year End'!$B$32+'[2]Year End'!$B$51 -> 4357.65 | K35: =SUM(C35:I35) -> 4357.65 | M35: 4903
A36: Audit / independent examination | K36: =SUM(C36:I36) -> 0 | M36: 0
A37: Preparation of annual accounts | K37: =SUM(C37:I37) -> 0 | M37: 0
A38: Legal costs | K38: =SUM(C38:I38) -> 0 | M38: 0
A39: Other | C39: ='[2]Year End'!$B$34+'[2]Year End'!$B$40+'[2]Year End'!$B$44+'[2]Year End'!$B$45+'[2]Year End'!$B$48 -> 2056.83 | K39: =SUM(C39:I39) -> 2056.83 | M39: 4111
A40: VAT | C40: =-'[2]Year End'!$B$72-'[2]Year End'!$B$73 -> 6772.5529 | K40: =SUM(C40:I40) -> 6772.5529 | M40: 48880
A41: Sub total | C41: =SUM(C30:C40) -> 50067.466 | E41: =SUM(E30:E40) -> 0 | G41: =SUM(G30:G40) -> 0 | I41: =SUM(I30:I40) -> 0 | K41: =SUM(K30:K40) -> 50067.466 | M41: =SUM(M30:M40) -> 71730
A43: Payments relating to asset and investment movements
A44: Purchases of fixed assets | K44: =SUM(C44:I44) -> 0 | M44: 1200
A45: Purchase of investments | K45: =SUM(C45:I45) -> 0 | M45: 0
A46: Sub total | C46: =C44+C45 -> 0 | E46: =E44+E45 -> 0 | G46: =G44+G45 -> 0 | I46: =I44+I45 -> 0 | K46: =K44+K45 -> 0 | M46: =M44+M45 -> 1200
A48: Total payments | C48: =+C46+C41 -> 50067.466 | E48: =+E46+E41 -> 0 | G48: =+G46+G41 -> 0 | I48: =+I46+I41 -> 0 | K48: =+K46+K41 -> 50067.466 | M48: =+M46+M41 -> 72930
...

Sheet Additional notes (3)
C1: ='R&P Accounts'!B1 -> Ferryhill Railway Heritage Trust | M1: ='R&P Accounts'!L2 -> S
A3: Additional analysis (3)
A5: 6 Breakdown of restricted funds
C6: Restore Historic Office Building & Water Tower | E6: Jon & Barclay Locomotive | G6: Restricted fund 3 - enter name of fund below | I6: Restricted fund 4 - enter name of fund below
K7: Total restricted funds | M7: Total restricted funds last period
A8: Receipts
A9: Donations | K9: =SUM(C9:I9) -> 0
A10: Legacies | K10: =SUM(C10:I10) -> 0
A11: Grants | C11: ='Additional notes (1) '!E27 -> 0 | K11: =SUM(C11:I11) -> 0 | M11: ='Additional notes (1) '!M27 -> 168167
A12: Receipts from fundraising activities | K12: =SUM(C12:I12) -> 0
A13: Gross trading receipts | K13: =SUM(C13:I13) -> 0
A14: Income from investments other than land and buildings | K14: =SUM(C14:I14) -> 0
A15: Rents from land & buildings | K15: =SUM(C15:I15) -> 0
A16: Gross receipts from other charitable activities | E16: ='[2]Year End'!$B$65 -> 641.47 | K16: =SUM(C16:I16) -> 641.47 | M16: 3680
A17: Sub total | C17: =SUM(C9:C16) -> 0 | E17: =SUM(E9:E16) -> 641.47 | G17: =SUM(G9:G16) -> 0 | I17: =SUM(I9:I16) -> 0 | K17: =SUM(K9:K16) -> 641.47 | M17: =SUM(M9:M16) -> 171847
A19: Receipts from asset & investment sales
A20: Proceeds from sale of fixed assets | K20: =SUM(C20:I20) -> 0
A21: Proceeds from sale of investments | K21: =SUM(C21:I21) -> 0
A22: Sub total | C22: =SUM(C20:C21) -> 0 | E22: =SUM(E20:E21) -> 0 | G22: =SUM(G20:G21) -> 0 | I22: =SUM(I20:I21) -> 0 | K22: =SUM(K20:K21) -> 0 | M22: =SUM(M20:M21) -> 0
A24: Total receipts | C24: =C17+C22 -> 0 | E24: =E17+E22 -> 641.47 | G24: =G17+G22 -> 0 | I24: =I17+I22 -> 0 | K24: =K17+K22 -> 641.47 | M24: =M17+M22 -> 171847
A27: Payments
A28: Expenses for fundraising activities | K28: =SUM(C28:I28) -> 0
A29: Gross trading payments | K29: =SUM(C29:I29) -> 0
A30: Investment management costs | K30: =SUM(C30:I30) -> 0
A31: Payments relating directly to charitable activities | E31: =-'[2]Year End'!$B$64 -> 363.6 | K31: =SUM(C31:I31) -> 363.6 | M31: 270167
A32: Grants and donations | K32: =SUM(C32:I32) -> 0
A33: Governance costs: | K33: =SUM(C33:I33) -> 0
A34: Audit / independent examination | K34: =SUM(C34:I34) -> 0
A35: Preparation of annual accounts | K35: =SUM(C35:I35) -> 0
A36: Legal costs | K36: =SUM(C36:I36) -> 0
A37: Other | K37: =SUM(C37:I37) -> 0
K38: =SUM(C38:I38) -> 0
A39: Sub total | C39: =SUM(C28:C38) -> 0 | E39: =SUM(E28:E38) -> 363.6 | G39: =SUM(G28:G38) -> 0 | I39: =SUM(I28:I38) -> 0 | K39: =SUM(K28:K38) -> 363.6 | M39: =SUM(M28:M38) -> 270167
A41: Payments relating to asset and investment movements
A42: Purchases of fixed assets | K42: =SUM(C42:I42) -> 0
A43: Purchase of investments | K43: =SUM(C43:I43) -> 0
A44: Sub total | C44: =C42+C43 -> 0 | E44: =E42+E43 -> 0 | G44: =G42+G43 -> 0 | I44: =I42+I43 -> 0 | K44: =K42+K43 -> 0 | M44: =M42+M43 -> 0
K45: =IF(K44='R&P Accounts'!D48,0,"cross ref error") -> 0
A46: Total payments | C46: =+C44+C39 -> 0 | E46: =+E44+E39 -> 363.6 | G46: =+G44+G39 -> 0 | I46: =+I44+I39 -> 0 | K46: =+K44+K39 -> 363.6 | M46: =+M44+M39 -> 270167
A48: Net receipts / (payments) | C48: =+C24-C46 -> 0 | E48: =+E24-E46 -> 277.87 | G48: =+G24-G46 -> 0 | I48: =+I24-I46 -> 0 | K48: =+K24-K46 -> 277.87 | M48: =+M24-M46 -> -98320
...
