Workbook

Sheet Front Page
A1: The Church of Scotland
A2: KILBIRNIE NEW PARISH CHURCH
A4: RECEIPTS AND PAYMENTS ACCOUNTS
A5: Year ended 31st December 2025
A6: Congregation No: 070439
A7: Charity No: SC 013750

Sheet Ref & Admin
A1: Reference and Administrative Information
A2: Charity Name: | B2: Kilbirnie New Parish Church
A3: Charity Registration Number: | B3: SC013750
A4: Congregation Reference No: | B4: 070439
A5: Contact Address: | B5: Mrs Margaret Murphy
B6: Viewforth
B7: 21 Stoneyholm Road
B8: Kilbirnie
B9: KA257DT
G46: page 1.
A47: Trustees
A48: Rev Fiona Ross BD.Dip.Min
A49: Elspeth Golder
A50: Sheena Hatcliffe
A51: Elizabeth Johnstone
A52: Elizabeth Law
A53: Helen Law
A54: Nancy Martin
A55: Margaret Murphy
A56: Margaret Peacock
A57: Margaret Ross
A58: Carol Wilson
... A61: Aileen Chesney
A62: Sandra Marshall | B62: resigned 04/06/2025
A63: Elizabeth Graham
A64: Julie Rose
A65: Jim Whiteford | B65: resigned 04/06/2025
A66: William Duffield
A67: David Fulton
A68: Martin Graham
A69: Donald Hatcliffe
A70: John King
A71: Hugh Law
A72: Andrew Peacock
A73: John Taylor
A74: Alex Rose
A75: Christine Johnstone
A76: Ewan Findlay
A77: Archie Currie
... A83: Famie Curr
...

Sheet Trustees' Annual Report
A1: Trustees’ Annual Report
A2: Year ended 31 December 2025
A3: Structure, Governance and Management
A4: Governing Document
A5: The Church is administered in accordance with the terms of the Deed of Constitution or Deed of Constitution (Unitary Form).
A6: Recruitment and Appointment of Trustees
A7: Members of the Kirk Session and the Congregational Board are the charity trustees. The Kirk Session members are the elders of the church and are chosen from those members of the church who are considered to have the appropriate gifts and skills. The minister, who is a member of the Kirk Session, is elected by the congregation and inducted by Presbytery. The Congregational Board is appointed from within the congregation and members of the congregation are invited to nominate individuals who are believed to have the skills and commitment to contribute to the management affairs of the Church, to become members of the Board. Board Members are then appointed at the Stated Annual Meeting and serve for a period of three years after which they must seek re-election at the next Stated Annual Meeting.
A8: Organisational Structure
A9: The Congregational Board is chaired by the minister and meets eight times in a year. Certain responsibilities are delegated to the Finance Committee and the Property Committee as appropriate. The Kirk Session which meets eight times a year is responsible for spiritual affairs within the church.
A10: Objectives and Activities
A11: The Church of Scotland is Trinitarian in doctrine, Reformed in tradition and Presbyterian in polity. It exists to glorify God and to work for the advancement of Christ’s Kingdom throughout the world. As a national Church, it acknowledges a distinctive call and duty to bring the ordinances of religion to the people in every parish of Scotland through a territorial ministry. It co-operates with other Churches in various ecumenical bodies in Scotland and beyond.
A12: Worship is held at 11:00 am every Sunday, also at Easter and Christmas. A Service of Remembrance is held at 10:45am to enable us to observe the 2 minute silence at 11:00 am. Thereafter the local Churches gather at the local Cenotaph for community remembrance. Rainbows and Brownies meet weekly during school term. Our Choir leads worship on a Sunday with various concerts/events during the year. We also have a quarterly Newsletter, Flower Committee, Ladies Fellowship and a Fundraising Committee.
I14: page.4
A15: Trustees’ Annual Report (cont)
A16: Year ended 31 December 2025
A17: Achievements and Performance
A18: We support a local charity with donations at our Christmas Eve Service. This year the Donation was given to Kilbirnie & Glengarnock Age Concern. During the year we also supported The Ayrshire Hospice and Leprosy Mission, and we held a successful fundraising event donating the proceeds to Breast Cancer Now. The local Orange Lodge and Line Dancing Group currently rent the Church/Hall on a regular basis providing a regular income. Various Fundraising events take place involving the community e.g. Coffee morning, Bingo Night.
A19: Financial Review
A20: Our main source of Income is our weekly/monthly offerings. As we are a newly united church we are at present promoting the use of monthly standing orders. This is an ongoing activity. We are currently reviewing Gift Aid as well. The purpose of the Special Appeal Fund is to Finance future repair and expenditure of the Church Roof and Windows.
A21: Reserves Policy
A22: It is the Trustees’ policy to hold reserves of approximately six months expenditure including designated funds. At the year end the Church held unrestricted cash funds of £14,293 of which £178 had been designated for fabric fund and £657 for Benevolent Fund, which is to be used at the ministers discretion. The remaining balance of £13,458 represents about two months expenditure.
A23: The Church also held £78,189 of restricted funds which have been provided for the purpose of financing future repair and expenditure of the Church Roof and Windows.
I30: page. 5
A31: Trustees’ Annual Report (cont)
A32: Year ended 31 December 2025
A33: Statement of Trustees' Responsibilities
A34: The members of the Kirk Session / Congregational Board must prepare financial statements which give sufficient detail to enable an appreciation of the transactions of the Church during the financial year. The members of the Kirk Session / Congregational Board are responsible for keeping proper accounting records which, on request, must reflect the financial position of the Church at that time. This must be done to ensure that the financial statements comply with the Charities and Trustee Investment (Scotland) Act 2005, the Charities Accounts (Scotland) Regulations 2006 and the Regulations Anent Congregational Finance approved by the General Assembly of the Church of Scotland in 2007. They are also responsible for safeguarding the assets of the Church and must take reasonable steps for the prevention and/or detection of fraud and other irregularities.
A35: Approved by the Trustees and signed on their behalf,
A36: C Johnstone
A37: Session Clerk | C37: Christine Johnstone
A38: Date …04th March 2026………………………..
I56: page. 6

Sheet Independent Examiner 
A2: Independent Examiner's Report to the Trustees of Kilbirnie New Parish Church
A4: I report on the accounts of the charity for the year ended 31 December 2025 which are set out on pages 8 to 14.
A5: Respective responsibilities of trustees and examiner
A7: The charity's trustees are responsible for the preparation of the accounts in accordance with the terms of the Charities and Trustee Investment (Scotland) Act 2005 and the Charities Accounts (Scotland) Regulations 2006. The charity trustees consider that the audit requirement of Regulation 10(1) (d) of the Accounts Regulations does not apply. It is my responsibility to examine the accounts as required under section 44(1) (c) of the Act and to state whether particular matters have come to my attention.
A8: Basis of independent examiner’s statement
A10: An examination is carried out in accordance with Regulation 11 of the Charities Accounts (Scotland) Regulations 2006. An examination includes a review of the accounting records kept by the charity and a comparison of the accounts presented with those records. It also includes consideration of any unusual items or disclosures in the accounts, and seeks explanations from the trustees concerning any such matters. The procedures undertaken do not provide all the evidence that would be required in an audit, and consequently I do not express an audit opinion on the view given by the accounts.
A11: Independent examiner’s statement
A13: In the course of my examination, no matter has come to my attention
C14: which gives me reasonable cause to believe that in any material respect the requirements:
B15:  | C15: to keep accounting records in accordance with Section 44 (1)(a) of the 2005 Act and Regulation 4 of the 2006 Accounts Regulations, and
B16:  | C16: to prepare accounts which accord with the accounting records and comply with Regulation 9 of the 2006 Accounts Regulations have been met.
A19: Signed: | D19: Ian Ferguson
A23: Ian Ferguson
A25: 61 Aitken Drive
A26: Beith
A27: KA15 2ER
A29: Date: | D29: 5th March 2026
K30: page.7

Sheet Receipts & Payments Acc
A1: KILBIRNIE NEW PARISH CHURCH
A2: Receipts and Payments Account
A3: Year ended 31 December 2025
E4: General | G4: Benevolent | I4: Special Appeal
E5: Fund | G5: Fund | I5: Fund | K5: Fabric Fund
E6: Unrestricted | G6: Unrestricted | I6: Restricted | K6: Unrestricted | M6: Total | O6: Total
E7: 2025 | G7: 2025 | I7: 2025 | K7: 2025 | M7: 2025 | O7: 2024
A8: Receipts | C8: Note | E8: £ | G8: £ | I8: £ | K8: £ | M8: £ | O8: £
B9: Donations | C9: 3 | E9: =+'Notes to Accounts'!E64+'Notes to Accounts'!E65+'Notes to Accounts'!E67+'Notes to Accounts'!E68 -> 40619 | G9: =+'Notes to Accounts'!G64+'Notes to Accounts'!G65+'Notes to Accounts'!G67+'Notes to Accounts'!G68 -> 118 | I9: =+'Notes to Accounts'!I64+'Notes to Accounts'!I65+'Notes to Accounts'!I67+'Notes to Accounts'!I68 -> 2594 | K9: =+'Notes to Accounts'!K64+'Notes to Accounts'!K65+'Notes to Accounts'!K67+'Notes to Accounts'!K68 -> 0 | M9: =SUM(E9:K9) -> 43331 | O9: =45605+3497 -> 49102
B10: Legacies | E10: =+'Notes to Accounts'!E69 -> 1700 | M10: =SUM(E10:K10) -> 1700 | O10: 0
B11: Tax Recovered | E11: =+'Notes to Accounts'!E66 -> 9935 | M11: =SUM(E11:K11) -> 9935 | O11: 6041
E12: =SUM(E9:E11) -> 52254 | G12: =SUM(G9:G11) -> 118 | I12: =SUM(I9:I11) -> 2594 | K12: =SUM(K9:K11) -> 0 | M12: =SUM(M9:M11) -> 54966 | O12: =SUM(O9:O11) -> 55143
B13: Activities for Generating Funds | C13: 4 | E13: =+'Notes to Accounts'!E84 -> 9147 | G13: =+'Notes to Accounts'!G84 -> 0 | I13: =+'Notes to Accounts'!I84 -> 0 | K13: =+'Notes to Accounts'!K84 -> 0 | M13: =SUM(E13:K13) -> 9147 | O13: 6626
B14: Other Receipts | C14: 5 | E14: =+'Notes to Accounts'!E91 -> 3991 | G14: =+'Notes to Accounts'!G91 -> 0 | I14: =+'Notes to Accounts'!I91 -> 0 | K14: =+'Notes to Accounts'!K91 -> 0 | M14: =SUM(E14:K14) -> 3991 | O14: =14277-9000-3497 -> 1780
B15: Rental of premises | E15: 1048 | M15: =SUM(E15:K15) -> 1048 | O15: 561
B16: Bank & Deposit interest | E16: 322 | I16: 858 | M16: =SUM(E16:K16) -> 1180 | O16: 1727
B17: Receipts from General Trustees | M17: =SUM(E17:K17) -> 0 | O17: 9844
B18: Transfer of Union Balance | M18: =SUM(E18:K18) -> 0 | O18: 17217
A20: Total Receipts | E20: =SUM(E12:E19) -> 66762 | G20: =SUM(G12:G19) -> 118 | I20: =SUM(I12:I19) -> 3452 | K20: =SUM(K12:K19) -> 0 | M20: =SUM(M12:M19) -> 70332 | O20: =SUM(O12:O19) -> 92898
A22: Payments
B23: Costs of generating funds | C23: 6 | E23: =+'Notes to Accounts'!E143 -> 92244 | M23: =SUM(E23:K23) -> 92244 | O23: 94401
B24: Fabric Repairs | K24: =+'Notes to Accounts'!K129 -> 2927 | M24: =SUM(E24:K24) -> 2927 | O24: 7753
B25: Benevolence payments | G25: =+'Notes to Accounts'!G139 -> 220 | M25: =SUM(E25:K25) -> 220 | O25: 49
B26: Governance costs | E26: =+'Notes to Accounts'!E146 -> 100 | M26: =SUM(E26:K26) -> 100 | O26: 100
A28: Total Payments | E28: =SUM(E23:E27) -> 92344 | G28: =SUM(G23:G27) -> 220 | I28: =SUM(I23:I27) -> 0 | K28: =SUM(K23:K27) -> 2927 | M28: =SUM(M23:M27) -> 95491 | O28: =SUM(O23:O27) -> 102303
A30: Excess of Receipts over Payments for the year before transfers | E30: =+E20-E28 -> -25582 | G30: =+G20-G28 -> -102 | I30: =+I20-I28 -> 3452 | K30: =+K20-K28 -> -2927 | M30: =+M20-M28 -> -25159 | O30: =+O20-O28 -> -9405
B32: Transfers | E32: =-2100+326 -> -1774 | K32: =2100-326 -> 1774 | M32: =SUM(E32:K32) -> 0 | O32: 0
A34: Excess of Receipts over Payments | E34: =SUM(E30:E33) -> -27356 | G34: =SUM(G30:G33) -> -102 | I34: =SUM(I30:I33) -> 3452 | K34: =SUM(K30:K33) -> -1153 | M34: =SUM(M30:M33) -> -25159 | O34: =SUM(O30:O33) -> -9405
A35: for the year
O52: page. 8

Sheet Statement of Balances
A1: KILBIRNIE NEW PARISH CHURCH
A2: Statement of Balances
A3: At 31 December 2025
E4: Unrestricted | G4: Unrestricted | I4: Restricted | K4: Unrestricted
E5: General Fund | G5: Benevolent | I5: Special | K5: Fabric
G6: Fund | I6: Appeal Fund | K6: Fund | M6: Total | O6: Total
E7: 2025 | G7: 2025 | I7: 2025 | K7: 2025 | M7: 2025 | O7: 2024
E8: £ | G8: £ | I8: £ | K8: £ | M8: £ | O8: £
A9: Bank & Deposit Balances
A11: Bank & deposit balances | E11: 40814 | G11: 759 | I11: 74737 | K11: 1331 | M11: =SUM(E11:K11) -> 117641 | O11: 127046
A12: brought forward
A13: Movement in year:
A14: Excess of Receipts over Payments for the year | E14: =+'Receipts & Payments Acc'!E30 -> -25582 | G14: =+'Receipts & Payments Acc'!G30 -> -102 | I14: =+'Receipts & Payments Acc'!I30 -> 3452 | K14: =+'Receipts & Payments Acc'!K30 -> -2927 | M14: =SUM(E14:K14) -> -25159 | O14: =+'Receipts & Payments Acc'!O34 -> -9405
B16: Transfer of funds | E16: =+'Receipts & Payments Acc'!E32 -> -1774 | G16: =+'Receipts & Payments Acc'!G32 -> 0 | I16: =+'Receipts & Payments Acc'!I32 -> 0 | K16: =+'Receipts & Payments Acc'!K32 -> 1774 | M16: =SUM(E16:K16) -> 0 | O16: 0
A18: Bank & deposit balances | E18: =SUM(E11:E17) -> 13458 | G18: =SUM(G11:G17) -> 657 | I18: =SUM(I11:I17) -> 78189 | K18: =SUM(K11:K17) -> 178 | M18: =SUM(M11:M17) -> 92482 | O18: =SUM(O11:O17) -> 117641
A19: carried forward
A21: The accounts were approved by the Kirk Session and Financial Board on 4th March 2026
A22: For and on behalf of the Kirk Session and Financial Board
A23: __________________________________________________ Session Clerk | B23: Christine Johnstone Session Clerk
A24: __________________________________________________ Treasurer | B24: Margaret Murphy Irene McFarlane Treasurers
O43: page.9

Sheet Notes to Accounts
A1: KILBIRNIE NEW PARISH CHURCH
A2: Year ended 31 December 2025
A3: Notes to the Accounts
A6: 1. | B6: Trustee Remuneration and Related Party Transactions
C8: During the year two Trustees received the sum of £4,697 in total:
C9: Allan Richardson £2,297
C10: Archie Currie £2,400 pulpit supply and funerals
A13: 2. | B13: Movements in Funds
G14: At 1 Jan
G15: 2025 | I15: Receipts | K15: Payments | M15: Transfers | O15: 2025
G16: £ | I16: £ | K16: £ | M16: £ | O16: £
B17: Unrestricted funds
B18: General Fund | G18: =+'Statement of Balances'!E11 -> 40814 | I18: =+'Receipts & Payments Acc'!E20 -> 66762 | K18: =-E148 -> -92344 | M18: =+'Receipts & Payments Acc'!E32 -> -1774 | O18: =SUM(G18:M18) -> 13458
B19: Designated Fabric Fund | G19: =+'Statement of Balances'!K11 -> 1331 | I19: =+'Receipts & Payments Acc'!K20 -> 0 | K19: =-K148 -> -2927 | M19: =+'Receipts & Payments Acc'!K32 -> 1774 | O19: =SUM(G19:M19) -> 178
B20: Benevolent Fund | G20: =+'Statement of Balances'!G11 -> 759 | I20: =+'Receipts & Payments Acc'!G20 -> 118 | K20: =-G148 -> -220 | O20: =SUM(G20:M20) -> 657
G21: =SUM(G18:G20) -> 42904 | I21: =SUM(I18:I20) -> 66880 | K21: =SUM(K18:K20) -> -95491 | M21: =SUM(M18:M20) -> 0 | O21: =SUM(O18:O20) -> 14293
B22: Restricted funds
B23: Special Appeal Fund | G23: =+'Statement of Balances'!I11 -> 74737 | I23: =+'Receipts & Payments Acc'!I20 -> 3452 | K23: =-I148 -> 0 | M23: 0 | O23: =SUM(G23:M23) -> 78189
B25: Total funds | G25: =SUM(G21:G24) -> 117641 | I25: =SUM(I21:I24) -> 70332 | K25: =SUM(K21:K24) -> -95491 | M25: =SUM(M21:M24) -> 0 | O25: =SUM(O21:O24) -> 92482
B27: Purposes of Designated Funds
B28: Fabric Fund: The Trustees have set aside funds for the maintenance of the Church property
B29: Benevolent Fund : To be used at the discretion of the Minister
B31: Purposes of Restricted Funds
B32: Special Appeal Fund: To Finance future repair and expenditure of the Church Roof and Windows
O52: page.10
A53: KILBIRNIE NEW PARISH CHURCH
A54: Year ended 31 December 2025
A55: Notes to the Accounts
E58: Unrestricted | G58: Unrestricted | I58: Restricted | K58: Unrestricted | M58: Current | O58: Last
E59: General | G59: Benevolent | I59: Special | K59: Fabric | M59: Period | O59: Period
E60: Fund | G60: Fund | I60: Appeal Fund | K60: Fund | M60: Total | O60: Total
E61: 2025 | G61: 2025 | I61: 2025 | K61: 2025 | M61: 2025 | O61: 2024
E62: £ | G62: £ | I62: £ | K62: £ | M62: £ | O62: £
A63: 3. | B63: Analysis of Donations
C64: S/O Non Gift Aid | E64: 4195 | I64: 914 | M64: =SUM(E64:L64) -> 5109 | O64: 8085
C65: S/O Gift Aid | E65: 24099 | I65: 1680 | M65: =SUM(E65:L65) -> 25779 | O65: 24284
C66: Tax Recovered | E66: 9935 | M66: =SUM(E66:L66) -> 9935 | O66: 6041
C67: Donations | E67: 3506 | G67: 118 | M67: =SUM(E67:L67) -> 3624 | O67: 5402
C68: Open Plate | E68: 8819 | M68: =SUM(E68:L68) -> 8819 | O68: 11331
C69: Legacy | E69: =1000+700 -> 1700 | M69: =SUM(E69:L69) -> 1700 | O69: 0
...

Sheet Appendix
A1: KILBIRNIE NEW PARISH CHURCH
A2: Year ended 31 December 2025
A4: APPENDIX
A5: FUNDS HELD ON BEHALF OF THE CONGREGATION
A6: BY THE CHURCH OF SCOTLAND GENERAL TRUSTEES
C7: 2025 | E7: 2024
C8: £ | E8: £
A9: INVESTMENT ACCOUNT
B11: Credit Balance held at 31 December 2025 | C11: 3620 | E11: 3466
B12: Credit Balance held at 31 December 2025 | C12: 40742 | E12: 39009
B13: Total | C13: =+C12+C11 -> 44362 | E13: =+E12+E11 -> 42475
A15: CONSOLIDATED FABRIC FUND
B17: REVENUE ACCOUNT
B19: Credit Balance held at 31 December 2025 | C19: 3985 | E19: 428
B21: TEMPORARY ACCOUNT
B23: Credit/Debit Balance held at 31 December 2025 | C23: 198975 | E23: -615
E44: page. 14
