Workbook

Sheet Notes
B2: Crossford Community Hall
B3: 1st Arpril 2025 to 31st March 2026
B5: Notes
B6: Income & Expenditure runs for 13 months (OSCR says 30/04/25 year end but bank analysis was only until 31st March | H6: Need to establish the time period covered but assumed 1/4/25 to 31/3/26 - DONE
B8: Original income & expenses Excel sheet missing transactions or had incorrect values
B10: Original income & expenses balances not matching closing bank statements
B14: Actions
B16: Created a Reconciliation tab (Bank Rec)
B17: Re-input every bank transaction fro the year
B18: Created a pivot table from every bank transaction
B19: Created and input a corrected Income & Expenditure table
B20: Reconciled every month (bank statement to I&E tab)
B22: Reconciled every transaction to the Bank Rec

Sheet Bank Rec
B2: Crossford Community Hall
B3: 1st April 2025 to 31st March 2026
B5: Bank Reconciliation
F6: £ | G6: £
B8: HSBC Bank Account | D8: Opening balance | E8: 45748 | G8: 4355.84
B9: Account No: 32250764
D10: Income | F10: ='Bank Download - CoPilot'!E205 -> 11229.25
D12: Expenditure | F12: =-'Bank Download - CoPilot'!D205 -> -10605.25
D14: Movement | F14: =SUM(F10:F12) -> 624
D16: Closing balance | E16: 46142 | G16: ='Bank Download - CoPilot'!F198 -> 4979.84
F17: check | G17: =G8+F10+F12-G16 -> 0
D19: Note: 13 month period as PY bank was to 31st March 2025

Sheet I&E Summary
B2: Income from Activities
B4: Hall lets | D4: =SUM('Income & Expenditure 25-26'!Q2:Q25) -> 7526.25
B5: SLC Grants | D5: ='Income & Expenditure 25-26'!Q26 -> 2298
B6: Donations | D6: ='Income & Expenditure 25-26'!Q27 -> 1405
D7: =SUM(D4:D6) -> 11229.25
B9: Expenses
B11: Cleaning | D11: ='Income & Expenditure 25-26'!Q29+'Income & Expenditure 25-26'!Q35+'Income & Expenditure 25-26'!Q37 -> -1262.54
B12: Insurance | D12: ='Income & Expenditure 25-26'!Q31+'Income & Expenditure 25-26'!Q41 -> -1011.1
B13: Heat & Light | D13: ='Income & Expenditure 25-26'!Q32+'Income & Expenditure 25-26'!Q40 -> -5612.23
B14: Water Rates | D14: ='Income & Expenditure 25-26'!Q34 -> -1169.02
B15: Repairs & Maint | D15: ='Income & Expenditure 25-26'!Q39+'Income & Expenditure 25-26'!Q42 -> -525
B16: Waste | D16: ='Income & Expenditure 25-26'!Q33 -> -574.36
B17: Admin Costs | D17: ='Income & Expenditure 25-26'!Q30+'Income & Expenditure 25-26'!Q36+'Income & Expenditure 25-26'!Q38 -> -451
D18: =SUM(D11:D17) -> -10605.25
D20: =D7+D18 -> 624

Sheet Income & Expenditure 25-26
C1: 45717 | D1: 45748 | E1: 45778 | F1: 45809 | G1: 45839 | H1: 45870 | I1: 45901 | J1: 45931 | K1: 45962 | L1: 45992 | M1: 46023 | N1: 46054 | O1: 46082 | P1: 46113 | Q1: Total
B2: Soccer Evolve | E2: 135 | H2: 330 | J2: 45 | L2: 75 | Q2: =SUM(D2:P2) -> 585
B3: KB Yoga | D3: 75 | F3: 75 | I3: 105 | J3: 60 | K3: 60 | L3: =15+30 -> 45 | N3: 60 | O3: 60 | P3: ='Bank Download - CoPilot'!E194 -> 60 | Q3: =SUM(D3:P3) -> 600
B4: Play Group | C4: 255.6 | D4: 213 | E4: 127.8 | F4: 276.9 | G4: 127.8 | I4: 170.4 | J4: 191.7 | K4: 170.4 | L4: 234.3 | M4: 170.4 | N4: 255.6 | O4: 213 | P4: ='Bank Download - CoPilot'!E188 -> 230.75 | Q4: =SUM(D4:P4) -> 2382.05
B5: KG Martial Arts | D5: 40 | F5: =80+40 -> 120 | G5: 30 | H5: 40 | I5: 40 | J5: 40 | K5: 40 | L5: 30 | M5: 30 | N5: 40 | O5: 50 | P5: ='Bank Download - CoPilot'!E187 -> 30 | Q5: =SUM(D5:P5) -> 530
B6: COG | C6: 21.3 | D6: 21.3 | E6: 21.3 | F6: 30 | G6: 30 | J6: 30 | K6: 30 | L6: 30 | M6: 30 | O6: 30 | P6: ='Bank Download - CoPilot'!E189 -> 30 | Q6: =SUM(D6:P6) -> 282.6
B7: Viva | C7: 49.7 | D7: 49.7 | E7: 106.5 | F7: 49.7 | G7: 49.7 | H7: 24.85 | I7: 49.7 | J7: 49.7 | K7: 74.55 | L7: 49.7 | M7: 85.2 | N7: 49.7 | O7: 49.7 | P7: ='Bank Download - CoPilot'!E190+'Bank Download - CoPilot'!E191 -> 81.65 | Q7: =SUM(D7:P7) -> 770.35
B8: Young Farmers | C8: 150 | D8: 50 | E8: 20 | K8: 160 | L8: 80 | N8: 90 | O8: 120 | P8: ='Bank Download - CoPilot'!E192 -> 30 | Q8: =SUM(D8:P8) -> 550
B9: VR | H9: 20 | Q9: =SUM(D9:P9) -> 20
B10: Crossford Church | C10: 85.2 | D10: 106.5 | E10: 92.3 | F10: 85.2 | Q10: =SUM(D10:P10) -> 284
B11: S Boag - Church Group | C11: 56.8 | D11: 56.8 | E11: 56.8 | F11: 71 | Q11: =SUM(D11:P11) -> 184.6
B12: PF - Clyde Valley Filling Station | C12: 21.3 | E12: 21.3 | F12: 35.5 | G12: 24.85 | I12: 70 | K12: 73.5 | L12: 35.5 | N12: 35.5 | O12: 71 | P12: ='Bank Download - CoPilot'!E195 -> 35.5 | Q12: =SUM(D12:P12) -> 402.65
B13: Pony Club | L13: 30 | N13: 30 | Q13: =SUM(D13:P13) -> 60
B14: PS | D14: 10 | Q14: =SUM(D14:P14) -> 10
B15: TL | D15: 10 | Q15: =SUM(D15:P15) -> 10
B16: UYM | E16: 60 | G16: 45 | H16: 60 | I16: 60 | J16: 45 | Q16: =SUM(D16:P16) -> 270
B17: KH | D17: 10 | Q17: =SUM(D17:P17) -> 10
B18: Tillie Totts | C18: 46.2 | Q18: =SUM(D18:P18) -> 0
B19: AM | C19: 28.4 | Q19: =SUM(D19:P19) -> 0
B20: GS | E20: 10 | Q20: =SUM(D20:P20) -> 10
B21: JG | F21: 10 | Q21: =SUM(D21:P21) -> 10
B22: ED | L22: 60 | Q22: =SUM(D22:P22) -> 60
B23: DG - Dancing | G23: 120 | I23: 90 | J23: 60 | Q23: =SUM(D23:P23) -> 270
B24: Party | C24: 125 | H24: 150 | M24: 75 | Q24: =SUM(D24:P24) -> 225
B25: SLC Grant for Bouncy Castle | C25: 1400 | Q25: =SUM(D25:P25) -> 0
B26: SLC Funding Grant | N26: 2298 | Q26: =SUM(D26:P26) -> 2298
B27: Donations | N27: 1405 | Q27: =SUM(D27:P27) -> 1405
B28: SLC Trading Bouncy Castle | C28: -1400 | Q28: =SUM(D28:P28) -> 0
B29: Colbrook Cleaning Equip | C29: -224.21 | I29: -70.77 | J29: -34.79 | K29: -52.3 | M29: -37.73 | Q29: =SUM(D29:P29) -> -195.59
B30: Bank Charges | F30: -5 | G30: -5 | H30: -5 | Q30: =SUM(D30:P30) -> -15
B31: SLC Insurnace Buiildings | C31: -528.47 | O31: -556.3 | Q31: =SUM(D31:P31) -> -556.3
B32: Certas Oil Heating | D32: -779.31 | I32: -1230.31 | K32: -979.65 | N32: -1039.5 | Q32: =SUM(D32:P32) -> -4028.77
B33: Biffa Waste Services | E33: -74.15 | F33: -48.96 | G33: -39.17 | H33: -39.17 | I33: -48.96 | J33: -39.17 | K33: -39.17 | L33: -48.96 | M33: -46.27 | N33: -46.27 | O33: -57.84 | P33: =-'Bank Download - CoPilot'!D196 -> -46.27 | Q33: =SUM(D33:P33) -> -574.36
B34: Scottish Water | D34: -45.66 | E34: -221.82 | H34: -267.95 | K34: -267.95 | N34: -365.64 | Q34: =SUM(D34:P34) -> -1169.02
B35: Cleaning - MJ | C35: -105 | D35: -60 | E35: -60 | F35: =-30-40 -> -70 | G35: -100 | H35: -30 | I35: -60 | J35: -60 | K35: -90 | L35: -30 | M35: -60 | N35: -120 | O35: -150 | P35: =-('Bank Download - CoPilot'!D193+'Bank Download - CoPilot'!D197+'Bank Download - CoPilot'!D198) -> -90 | Q35: =SUM(D35:P35) -> -980
B36: Booking sysytem | H36: -36 | M36: -12 | Q36: =SUM(D36:P36) -> -48
B37: Colbrook Supplies | F37: -86.95 | Q37: =SUM(D37:P37) -> -86.95
B38: Go Cardless | N38: -388 | Q38: =SUM(D38:P38) -> -388
B39: JM - Repairs | J39: -60 | K39: -15 | L39: -150 | O39: -250 | Q39: =SUM(D39:P39) -> -475
B40: EDF Energy | K40: =-1383.7-199.76 -> -1583.46 | Q40: =SUM(D40:P40) -> -1583.46
...

Sheet Bank Download - CoPilot
A1: Date | B1: Type | C1: Details | D1: Paid_out | E1: Paid_in | F1: Balance | G1: CHECK
A2: 45747 | C2: OPENING BAL | F2: 4355.84
A3: 45748 | B3: CR | C3: K Boag INV-1004 | E3: 75 | F3: 4430.84 | G3: =F2+E3-D3-F3 -> 0
A4: 45752 | B4: CR | C4: Crossford Playgrou INV 1005 MAR LETS | E4: 213 | F4: 4643.84 | G4: =F3+E4-D4-F4 -> 0
A5: 45754 | B5: CR | C5: Gough Kirsty / K GOUGH | E5: 40 | F5: 4683.84 | G5: =F4+E5-D5-F5 -> 0
A6: 45755 | B6: CR | C6: COG (CHRISTIAN OU) / COG | E6: 21.3 | F6: 4705.14 | G6: =F5+E6-D6-F6 -> 0
A7: 45758 | B7: CR | C7: VIVA VIVA MAR INV1007 | E7: 24.85 | F7: 4729.99 | G7: =F6+E7-D7-F7 -> 0
A8: 45760 | B8: BP | C8: Mandy Johnstone / Crossford 0804 | D8: 30 | F8: 4699.99 | G8: =F7+E8-D8-F8 -> 0
A9: 45761 | B9: CR | C9: YOUNG JW / CARLUKE YF march | E9: 50 | F9: 4749.99 | G9: =F8+E9-D9-F9 -> 0
A10: 45762 | B10: DD | C10: SCOTTISH WATER BUS / FIRST PAYMENT | D10: 45.66 | G10: =F9+E10-D10-F10 -> 4704.33
A11: 45762 | B11: CR | C11: VIVA / VIVA MAR INV1008 | E11: 24.85 | F11: 4729.18 | G11: =F10+E11-D11-F11 -> -4704.33
A12: 45763 | B12: CR | C12: Crossford & Kirkfi / INV 15 FEB LETS | E12: 106.5 | G12: =F11+E12-D12-F12 -> 4835.68
A13: 45763 | B13: CR | C13: KEITH HAIG / Sandy Boag | E13: 56.8 | F13: 4892.48 | G13: =F12+E13-D13-F13 -> -4835.68
A14: 45763 | B14: CR | C14: Stewart Peter / INV-1010 | E14: 10 | F14: 4902.48 | G14: =F13+E14-D14-F14 -> 0
A15: 45769 | B15: CR | C15: T Lennox / TLEN INV 1012 | E15: 10 | F15: 4912.48 | G15: =F14+E15-D15-F15 -> 0
A16: 45769 | B16: CR | C16: KEITH HAIG / INV 1011 | E16: 10 | F16: 4922.48 | G16: =F15+E16-D16-F16 -> 0
A17: 45775 | B17: BP | C17: Mandy Johnstone / Crossford 2203 | D17: 30 | G17: =F16+E17-D17-F17 -> 4892.48
A18: 45775 | B18: BP | C18: Certas / 0003025 | D18: 779.31 | F18: 4113.17 | G18: =F17+E18-D18-F18 -> -4892.48
A19: 45779 | B19: CR | C19: SOCCER EVOLVE ACAD APRIL HALL LET | E19: 135 | F19: 4248.17 | G19: =F18+E19-D19-F19 -> 0
A20: 45782 | B20: CR | C20: P Forrest / PETER FORREST | E20: 21.3 | F20: 4269.47 | G20: =F19+E20-D20-F20 -> 0
A21: 45783 | B21: CR | C21: COG (CHRISTIAN OU) / COG | E21: 21.3 | G21: =F20+E21-D21-F21 -> 4290.77
A22: 45783 | B22: CR | C22: YOUNG JW / CARLUKE YF April | E22: 20 | G22: =F21+E22-D22-F22 -> 20
A23: 45783 | B23: CR | C23: Crossford Playgrou / INV 1017 MAR LETS | E23: 127.8 | F23: 4438.57 | G23: =F22+E23-D23-F23 -> -4310.77
A24: 45784 | B24: CR | C24: UnLeish Your Mind INV-1014 | E24: 60 | G24: =F23+E24-D24-F24 -> 4498.57
A25: 45784 | B25: CR | C25: VIVA / VIVA APR INV1015 | E25: 106.5 | F25: 4605.07 | G25: =F24+E25-D25-F25 -> -4498.57
A26: 45790 | B26: BP | C26: Mandy Johnstone / Crossford 1103 | D26: 30 | F26: 4575.07 | G26: =F25+E26-D26-F26 -> 0
A27: 45791 | B27: BP | C27: SIMPSON G / simpson | E27: 10 | F27: 4585.07 | G27: =F26+E27-D27-F27 -> 0
A28: 45802 | B28: CR | C28: KEITH HAIG / 16 April | E28: 56.8 | F28: 4641.87 | G28: =F27+E28-D28-F28 -> 0
A29: 45803 | B29: CR | C29: Crossford & Kirkfi / INV 16Apr Lets | E29: 92.3 | F29: 4734.17 | G29: =F28+E29-D29-F29 -> 0
A30: 45804 | B30: DD | C30: BIFFA WASTE SERVIC / FIRST PAYMENT | D30: 74.15 | G30: =F29+E30-D30-F30 -> 4660.02
A31: 45804 | B31: DD | C31: SCOTTISH WATER BUS | D31: 221.82 | G31: =F30+E31-D31-F31 -> -221.82
A32: 45804 | B32: BP | C32: Mandy Johnstone / Crossford 2005 | D32: 30 | F32: 4408.2 | G32: =F31+E32-D32-F32 -> -4438.2
A33: 45809 | B33: CR | C33: Kirsty Gough / K GOUGH | E33: 40 | F33: 4448.2 | G33: =F32+E33-D33-F33 -> 0
A34: 45813 | B34: CR | C34: P Forrest / PETER FORREST | E34: 35.5 | F34: 4483.7 | G34: =F33+E34-D34-F34 -> 0
A35: 45814 | B35: CR | C35: VIVA / VIVA MAY INV1022 | E35: 49.7 | G35: =F34+E35-D35-F35 -> 4533.4
A36: 45814 | B36: CR | C36: Crossford Playgrou / Hall Inv 1025 May | E36: 276.9 | G36: =F35+E36-D36-F36 -> 276.9
A37: 45814 | B37: CR | C37: COG (CHRISTIAN OU) / COG | E37: 30 | F37: 4840.3 | G37: =F36+E37-D37-F37 -> -4810.3
A38: 45815 | B38: CR | C38: J Gibson / Inv 1024 | E38: 10 | F38: 4850.3 | G38: =F37+E38-D38-F38 -> 0
A39: 45818 | B39: CR | C39: Kirsty Gough / K GOUGH | E39: 80 | F39: 4930.3 | G39: =F38+E39-D39-F39 -> 0
A40: 45819 | B40: BP | C40: Mandy Johnstone / Crossford 1103 | D40: 40 | G40: =F39+E40-D40-F40 -> 4890.3
...

Sheet pivot
A1: Row Labels | B1: Sum of Paid_out | C1: Sum of Paid_in
A2: 2025
A3: Mar
A4: Apr | B4: 884.97 | C4: 642.3
A5: May | B5: 355.97 | C5: 651
A6: Jun | B6: 210.91 | C6: 753.3
A7: Jul | B7: 144.17 | C7: 427.35
A8: Aug | B8: 378.12 | C8: 624.85
A9: Sep | B9: 1410.04 | C9: 585.1
A10: Oct | B10: 193.96 | C10: 521.4
A11: Nov | B11: 3027.53 | C11: 608.45
A12: Dec | B12: 228.96 | C12: 669.5
A13: 2026
A14: Jan | B14: 660.8 | C14: 390.6
A15: Feb | B15: 1959.41 | C15: 4263.8
A16: Mar | B16: 1014.14 | C16: 593.7
A17: Apr | B17: 136.27 | C17: 497.9
A18: Grand Total | B18: 10605.25 | C18: 11229.25

Sheet original - incorrect
C1: March | D1: April | E1: May | F1: June | G1: July | H1: August | I1: September | J1: October | K1: November | L1: December | M1: January | N1: Febuary | O1: March
B2: Soccer Evolve | E2: 135 | H2: 330 | J2: 45 | L2: 75
B3: KB Yoga | D3: 75 | I3: 105 | J3: 60 | K3: 60 | L3: 15 | N3: 60 | O3: 60
B4: Play Group | C4: 255.6 | D4: 213 | E4: 127.8 | F4: 276.9 | G4: 127.8 | I4: 170.4 | J4: 191.7 | K4: 170.4 | L4: 234.3 | M4: 170.4 | N4: 255.6 | O4: 213
B5: KG Martial Arts | D5: 40 | F5: 40 | G5: 30 | H5: 40 | I5: 40 | J5: 40 | K5: 40 | L5: 30 | M5: 30 | N5: 40 | O5: 50
B6: COG | C6: 21.3 | D6: 21.3 | E6: 21.3 | F6: 30 | G6: 30 | J6: 30 | K6: 30 | L6: 30 | M6: 30 | O6: 30
B7: Viva | C7: 49.7 | D7: 24.85 | E7: 106.5 | F7: 49.7 | G7: 49.7 | H7: 24.85 | I7: 49.7 | J7: 49.7 | K7: 74.55 | L7: 49.7 | M7: 85 | N7: 49.7 | O7: 49.7
B8: Young Farmers | C8: 150 | D8: 50 | E8: 20 | K8: 160 | L8: 80 | N8: 90 | O8: 120
B9: VR | H9: 20
B10: Crossford Church | C10: 85.2 | D10: 106.5 | E10: 92.3
B11: S Boag - Church Group | C11: 56.8 | D11: 56.8 | E11: 56.8
B12: PF - Clyde Valley Filling Station | C12: 21.3 | E12: 21.3 | F12: 35.5 | G12: 24.85 | I12: 70 | K12: 73 | L12: 35.5 | N12: 35.5 | O12: 71
B13: Pony Club | L13: 30 | N13: 30
B14: PS | D14: 10
B15: TL | D15: 10
B16: UYM | E16: 60 | G16: 45 | H16: 60 | I16: 60 | J16: 45
B17: KH | D17: 10
B18: Tillie Totts | C18: 46.2
B19: AM | C19: 28.4
B20: GS | E20: 10
B21: JG | F21: 10
B22: ED | L22: 60
B23: DG - Dancing | G23: 120 | I23: 90 | J23: 60
B24: Party | C24: 125 | H24: 150 | M24: 75
B25: SLC Trading Bouncy Castle | C25: -1400
B26: SLC Grant for Bouncy Castle | C26: 1400
B27: Colbrook Cleaning Equip | C27: -224.21 | I27: -70.77 | J27: -34.79 | K27: -52.3 | M27: -37.73
B28: Bank Charges | G28: -5 | H28: -5
B29: SLC Insurnace Buiildings | C29: -528.47 | O29: -556.3
B30: Certas Oil Heating | E30: -779.31 | I30: -1230.31 | K30: -979.65 | N30: -1039.5
B31: Biffa Waste Services | E31: -74.15 | G31: -39.17 | H31: -39.17 | J31: -39.17 | K31: -39.17 | L31: -48.96 | M31: -46.27 | N31: -46.29 | O31: -57.84
B32: Scottish Water | D32: -45.66 | E32: -221.82 | H32: -267.95 | K32: -267.95 | N32: -365.64
B33: Cleaning | C33: -105 | D33: -60 | E33: -60 | G33: -100 | H33: -30 | I33: -60 | J33: -60 | K33: -90 | L33: -30 | M33: -60 | N33: -120 | O33: -150
B34: Booking sysytem | H34: -36 | M34: -12
B35: JM - Repairs | J35: -60 | K35: -15 | L35: -150 | O35: -250
B36: EDF Energy | K36: -1583.46
B37: PI Insurance | M37: -454.8
B38: PAT Testing | M38: -50
B39: SLC Funding Grant | N39: 2298
B40: Donations | N40: 1405
...
