Workbook

Sheet R&P Accounts
B2: JUSTNESS | L2: SC048484
B3: Receipts and payments accounts
B4: For the period from | D4: Period start date | G4: to | H4: Period end date
A8: Section A Statement of receipts and payments
B9: Unrestricted funds | D9: Restricted funds | F9: Expendable endowment funds | H9: Permanent endowment funds | J9: Total funds current period | L9: Total funds last period
B10: to nearest £ | D10: to nearest £ | F10: to nearest £ | H10: to nearest £ | J10: to nearest £ | L10: to nearest £
A11: A1 Receipts
A12: Donation | B12: 4100 | D12: 20900 | J12: =H12+D12+B12+F12 -> 25000 | L12: 24200
A13: Legacies | J13: =H13+D13+B13+F13 -> 0
A14: Grants | J14: =H14+D14+B14+F14 -> 0
A15: Receipts from fundraising activities | J15: =H15+D15+B15+F15 -> 0
A16: Gross trading receipts | J16: =H16+D16+B16+F16 -> 0
A17: Income from investments other than land and buildings | J17: =H17+D17+B17+F17 -> 0
A18: Rents from land & buildings | J18: =H18+D18+B18+F18 -> 0
A19: Gross receipts from other charitable activities | J19: =H19+D19+B19+F19 -> 0
J20: =H20+D20+B20+F20 -> 0
A21: A1 Sub total | B21: =SUM(B12:B20) -> 4100 | D21: =SUM(D12:D20) -> 20900 | F21: =SUM(F12:F20) -> 0 | H21: =SUM(H12:H20) -> 0 | J21: =H21+D21+B21+F21 -> 25000 | L21: =SUM(L12:L20) -> 24200
J22: =IF(B21+D21+F21+H21-J21=0," ","error")
A23: A2 Receipts from asset & investment sales
A24: Proceeds from sale of fixed assets | J24: =H24+D24+B24+F24 -> 0
A25: Proceeds from sale of investments | J25: =H25+D25+B25+F25 -> 0
A26: A2 Sub total | B26: =SUM(B24:B25) -> 0 | D26: =SUM(D24:D25) -> 0 | F26: =SUM(F24:F25) -> 0 | H26: =SUM(H24:H25) -> 0 | J26: =SUM(J24:J25) -> 0 | L26: =SUM(L24:L25) -> 0
J27: =IF(B26+D26+F26+H26-J26=0," ","error")
A28: Total receipts | B28: =B26+B21 -> 4100 | D28: =D26+D21 -> 20900 | F28: =F26+F21 -> 0 | H28: =H26+H21 -> 0 | J28: =J26+J21 -> 25000 | L28: =L26+L21 -> 24200
J29: =IF(B28+D28+H28-J28=0," ","error")
A30: A3 Payments
A31: Expenses for fundraising activities | J31: =H31+D31+B31+F31 -> 0
A32: Gross trading payments | J32: =H32+D32+B32+F32 -> 0
A33: Investment management costs | J33: =H33+D33+B33+F33 -> 0
A34: Payments relating directly to charitabe activities | B34: 3900 | D34: 22100 | J34: =H34+D34+B34+F34 -> 26000 | L34: 25500
A35: Grants and donations | J35: =H35+D35+B35+F35 -> 0
A36: Governance costs: | J36: =H36+D36+B36+F36 -> 0
A37: Audit / independent examination | B37: 100 | J37: =H37+D37+B37+F37 -> 100 | L37: 100
A38: Preparation of annual accounts | J38: =H38+D38+B38+F38 -> 0
A39: Legal costs | J39: =H39+D39+B39+F39 -> 0
A40: Other | J40: =H40+D40+B40+F40 -> 0
J41: =H41+D41+B41+F41 -> 0
A42: A3 Sub total | B42: =SUM(B31:B41) -> 4000 | D42: =SUM(D31:D41) -> 22100 | F42: =SUM(F31:F41) -> 0 | H42: =SUM(H31:H41) -> 0 | J42: =SUM(J31:J41) -> 26100 | L42: =SUM(L31:L41) -> 25600
J43: =IF(B42+D42+F42+H42-J42=0," ","error")
A44: A4 Payments relating to asset and investment movements
...

Sheet Statement of balances
B1: ='R&P Accounts'!B2 -> JUSTNESS | N1: ='R&P Accounts'!L2 -> SC048484
A2: Section B Statement of balances
A3: Categories | B3: Details | F3: Unrestricted funds | H3: Restricted funds | J3: Expendable endowment funds | L3: Permanent endowment funds | N3: Total current period | P3: Total last period
F4: to nearest £ | H4: to nearest £ | J4: to nearest £ | L4: to nearest £ | N4: to nearest £ | P4: to nearest £
A5: B1 Cash funds | B5: Cash and bank balances at start of year | F5: 500 | H5: 7500 | N5: =F5+H5+J5+L5 -> 8000 | P5: 8900
B6: Surplus / (deficit) shown on receipts and payments account | F6: 100 | H6: -1200 | N6: =F6+H6+J6+L6 -> -1100 | P6: -900
N7: =F7+H7+J7+L7 -> 0
N8: =F8+H8+J8+L8 -> 0
B9: Cash and bank balances at end of year | F9: =SUM(F5:F8) -> 600 | H9: =SUM(H5:H8) -> 6300 | J9: =SUM(J5:J8) -> 0 | L9: =SUM(L5:L8) -> 0 | N9: =F9+H9+J9+L9 -> 6900 | P9: =SUM(P5:P8) -> 8000
B10: (Agree balances with receipts and payments account(s)) | F10: =F6-'R&P Accounts'!B55 -> 0 | H10: =H6-'R&P Accounts'!D55 -> 0 | J10: =J6-'R&P Accounts'!F55 -> 0 | L10: =L6-'R&P Accounts'!H55 -> 0 | N10: =N6-'R&P Accounts'!J55 -> 0 | P10: =P6-'R&P Accounts'!L55 -> 500
B12: Details | J12: Fund to which asset belongs | N12: Market valuation | P12: Last year
N13: to nearest £ | P13: to nearest £
A14: B2 Investments
L19: Total | N19: =SUM(N14:N18) -> 0 | P19: =SUM(P14:P18) -> 0
B21: Details | H21: Fund to which asset belongs | L21: Cost (if available) | N21: Current value (if available) | P21: Last year
L22: to nearest £ | N22: to nearest £ | P22: to nearest £
A23: B3 Other assets
J32: Total | L32: =SUM(L23:L31) -> 0 | N32: =SUM(N23:N31) -> 0 | P32: =SUM(P23:P31) -> 0
B34: Details | J34: Fund to which liability relates | N34: Amount due | P34: Last year
N35: to nearest £ | P35: to nearest £
A36: B4 Liabilities
L41: Total | N41: =SUM(N36:N40) -> 0 | P41: =SUM(P36:P40) -> 0
B43: Details | J43: Fund to which liability relates | N43: Amount due (estimate) | P43: Last year
N44: to nearest £ | P44: to nearest £
A45: B5 Contingent liabilities
L48: Total | N48: =SUM(N45:N47) -> 0 | P48: =SUM(P45:P47) -> 0
A51: Signed by one or two trustees on behalf of all the trustees | B51: Signature | H51: Print Name | P51: Date of approval
H52: Iftekhar Mahbub | P52: 11.06.2026
