Workbook

Sheet Accounts
E1: Scottish Charity Number SC014527
B11: East Kilbride United Reformed Church
B13: Trustees' Annual Report and Accounts
B15: For the year ended 31 December 2025
A24: East Kilbride United Reformed Church (formerly Righead United Reformed Church) - Trustees Report
A25: Scottish Charity Number SC014527
A27: Trustees
B29: Sandra Wood | F29: Secretary
B30: June Jannaway | F30: Elder
B31: Babs Paterson | F31: Elder
B32: Edith Rae | F32: Elder
B33: David Coulter | F33: Elder
B34: Yvonne Coulter | F34: Elder
B35: Catherine Crosbie | F35: Elder
A37: Recruitment and appointment of trustees
A38: The trustees are the elders and office bearers within the church's members and are reappointed at our annual general meeting.
A40: Governing document
A41: East Kilbride United Reformed Church is a charitable unincorporated association and the purposes and administration arrangements are set out in our constitution.
A43: Charitable purposes
A44: The church's aim as recorded in our constitution is to uphold and further those who profess their faith, and to give of their ability and time to promote the continuance of public worship in the church.
A46: Activities and achievements
A48: The beginning of 2025 saw the start of our second year in the newly refurbished building. We had alerted Synod of our precarious financial position and were granted a year's excemption from paying Ministry and Mission contributions. This also reflected the fact that we were in vacancy and actively seeking a new minister.
A49: The numbers attending remained fairly stable and a number of members still made good use of the Taxi Firm account, with the option to make a contribution towards this, through the offering plate.
A50: We realised that we would have to increase our income by encouraging more organisations and groups to let our hall. A simple banner at the front of the building brought enquiries from several and varied groups and most have now taken up permanent hall let contracts. This has significantly increased our reliable income. This drive for new hall users will continue as we still have some availability.
A51: The most significant event within the year was the formation of a Joint Pastorate with Rutherglen United Reformed Church. Both churrches, while working together in some ways, will remain independent charities. The ministerial vacancy has been filled and the Joint Pastorate now has a full time Pastorate Minister and a 50% Community Minister. East Kilbride United Reformed Church has agreed to pay 25% of Ministerial expenses for both ministers as this represents the proprtionate size of both churches within the Joint Pastorate.
A52: Financially, the church finished the year with a surplus of £20,895.
... A72: East Kilbride United Reformed Church
A73: =A25 -> Scottish Charity Number SC014527
A75: Receipts and Payments Account for the Year Ended 31st December 2025
F77: Year to | H77: Year to
F78: 45992 | H78: 45627
D79: Unrestricted | E79: Restricted
D80: funds | E80: funds
A83: Receipts
A84: Weekly offering | D84: 17745 | F84: 17745 | H84: 16036
A85: Donations | D85: 9449 | F85: 9449 | H85: 4866
A86: Hall letting | D86: 11060 | F86: 11060 | H86: 6031
A87: Fundraising activities | D87: 316 | F87: 316 | H87: 688
A88: Other income (inc non cash adjustment) | D88: 2964 | F88: 2964 | H88: 3421
A90: Total receipts | D90: =SUM(D84:D89) -> 41534 | E90: =SUM(E84:E89) -> 0 | F90: =SUM(F84:F89) -> 41534 | H90: =SUM(H84:H89) -> 31042
...

Sheet TB
A1: Righead United Reformed Church
A2: Trial Balance
A3: 31st December 2022
D5: Opening balance | G5: Transactions | J5: Journal | M5: Income & expenditure | P5: Balance sheet
B7: Bank account | D7: 38457.52 | G7: 32175.84 | H7: 45994.56 | P7: =D7-E7+G7-H7+J7-K7 -> 24638.8
B9: General fund | E9: =7426.71+30448.81 -> 37875.52 | Q9: =E9 -> 37875.52
B10: Third parties | E10: 582 | Q10: =E10 -> 582
B12: Creditors
B14: Weekly offering | H14: =11260+2449+2327.1 -> 16036.1 | N14: =H14+K14-J14 -> 16036.1
B16: Legacies | N16: =H16+K16-J16 -> 0
B18: Donations | H18: =382.48+4483.73 -> 4866.21 | N18: =H18+K18-J18-G18 -> 4866.21
B20: Hall lets | H20: =950+1784.28+810+600+972+240+675 -> 6031.28 | N20: =H20+K20-J20 -> 6031.28
B22: Fundraising | H22: 687.51 | N22: =H22+K22-J22 -> 687.51
B24: Other income | H24: =896.8+663.3+960+2034.64 -> 4554.74 | J24: 1133.75 | N24: =H24+K24-J24 -> 3420.99
B26: Ministry | G26: 21366.63 | M26: =G26+J26-K26 -> 21366.63
B28: Minister's expenses | M28: =G28+J28-K28 -> 0
B30: Synod expenses | M30: =G30+J30-K30 -> 0
B32: Organist | G32: 1700.04 | M32: =G32+J32-K32 -> 1700.04
B34: Pulpit supply | G34: 810 | M34: =G34+J34-K34 -> 810
B36: Cleaning | G36: =296.8+3400.8 -> 3697.6 | M36: =G36+J36-K36 -> 3697.6
B38: Utilities | G38: =3386.66+3399.63 -> 6786.29 | K38: 1133.75 | M38: =G38+J38-K38 -> 5652.54
B40: Isurance | G40: 2767.23 | M40: =G40+J40-K40 -> 2767.23
B42: Repairs | G42: 679.35 | M42: =G42+J42-K42 -> 679.35
B44: Sundries | G44: =37.38+1396.6+1546.9+400.8+4805.74 -> 8187.42 | M44: =G44+J44-K44 -> 8187.42
D51: =SUM(D7:D50) -> 38457.52 | E51: =SUM(E7:E50) -> 38457.52 | G51: =SUM(G7:G50) -> 78170.4 | H51: =SUM(H7:H50) -> 78170.4 | J51: =SUM(J7:J50) -> 1133.75 | K51: =SUM(K7:K50) -> 1133.75 | M51: =SUM(M7:M50) -> 44860.81 | N51: =SUM(N7:N50) -> 31042.09 | P51: =SUM(P7:P50) -> 24638.8 | Q51: =SUM(Q7:Q50) -> 38457.52
E53: =D51-E51 -> 0 | G53: =G51-H51 -> 0 | M53: =N51-M51 -> -13818.72 | Q53: =P51-Q51 -> -13818.72
Q55: =Q53-M53 -> 0

Sheet Income
A1: East Kilbride United Reformed Church Income 2024
B3: January | C3: February | D3: March | E3: April | F3: May | G3: June | H3: July | I3: August | J3: Sept. | K3: Oct. | L3: Nov. | M3: Dec. | N3: July | O3: August | P3: September | Q3: October | R3: November | S3: July | T3: August | U3: Sept | V3: Oct | W3: Nov | X3: Dec | Y3: total
A4: standing orders | B4: =January!G15 -> 925 | C4: =February!G12 -> 785 | D4: =March!G18 -> 755 | E4: =April!G18 -> 875 | F4: =May!G18 -> 795 | G4: =June!G18 -> 805 | S4: =July!G18 -> 1015 | T4: =August!G18 -> 985 | U4: =September!G18 -> 1035 | V4: =October!G18 -> 1085 | W4: =November!G18 -> 1030 | X4: =December!G18 -> 1170 | Y4: =SUM(B4:X4) -> 11260
A5: freewill | B5: =January!E15 -> 256 | C5: =February!E12 -> 355 | D5: =March!E18 -> 140 | E5: =April!E18 -> 331 | F5: =May!E18 -> 245 | G5: =June!E18 -> 201 | S5: =July!E18 -> 240 | T5: =August!E18 -> 135 | U5: =September!E18 -> 65 | V5: =October!E18 -> 175 | W5: =November!E18 -> 110 | X5: =December!E18 -> 196 | Y5: =SUM(B5:X5) -> 2449
A6: plate | B6: =January!F15 -> 262.1 | C6: =February!F12 -> 247 | D6: =March!F18 -> 35 | E6: =April!F18 -> 400 | F6: =May!F18 -> 200 | G6: =June!F18 -> 193 | S6: =July!F18 -> 205 | T6: =August!F18 -> 130 | U6: =September!F18 -> 150 | V6: =October!F18 -> 165 | W6: =November!F18 -> 140 | X6: =December!F18 -> 200 | Y6: =SUM(B6:X6) -> 2327.1
A7: tearoom | B7: =January!H15 -> 83.1 | C7: =February!H12 -> 78.7 | D7: =March!H18 -> 13.7 | E7: =April!H18 -> 111 | F7: =May!H18 -> 56.3 | G7: =June!H18 -> 65.4 | S7: =July!H18 -> 130.3 | T7: =August!H18 -> 38 | U7: =September!H18 -> 42 | V7: =October!H18 -> 64 | W7: =November!H18 -> 85.4 | X7: =December!H18 -> 128.9 | Y7: =SUM(B7:X7) -> 896.8
A8: Coffee and Chat | B8: =January!I15 -> 49.3 | C8: =February!I12 -> 89.1 | D8: =March!I18 -> 0 | E8: =April!I18 -> 123.6 | F8: =May!I18 -> 57.9 | G8: =June!I18 -> 44 | S8: =July!I18 -> 58.9 | T8: =August!I18 -> 0 | U8: =September!I18 -> 0 | V8: =October!I18 -> 70.8 | W8: =November!I18 -> 64.6 | X8: =December!I18 -> 105.1 | Y8: =SUM(B8:X8) -> 663.3
A10: =January!J1 -> Taxi Fund | B10: =January!J15 -> 50 | C10: =February!J12 -> 30 | D10: =March!J18 -> 50 | E10: =April!J18 -> 176 | F10: =May!J18 -> 60 | G10: =June!J18 -> 65 | S10: =July!J18 -> 184 | T10: =August!J18 -> 45 | U10: =September!J18 -> 60 | V10: =October!J18 -> 60 | W10: =November!J18 -> 30 | X10: =December!J18 -> 150 | Y10: =SUM(B10:X10) -> 960
A11: donations | B11: =January!K15 -> 0 | C11: =February!K12 -> 0 | D11: =March!K18 -> 0 | E11: =April!K18 -> 130 | F11: =May!K18 -> 67.3 | G11: =June!K18 -> 0 | S11: =July!K18 -> 11 | T11: =August!K18 -> 27.18 | U11: =September!K18 -> 17 | V11: =October!K18 -> 30 | W11: =November!K18 -> 100 | X11: =December!K18 -> 0 | Y11: =SUM(B11:X11) -> 382.48
A12: gift aid donations | B12: =January!L15 -> 0 | C12: =February!L12 -> 0 | D12: =March!L18 -> 0 | E12: =April!L18 -> 0 | F12: =May!L18 -> 0 | G12: =June!L18 -> 0 | S12: =July!L18 -> 0 | T12: =August!L18 -> 4483.73 | U12: =September!L18 -> 0 | V12: =October!L18 -> 0 | W12: =November!L18 -> 0 | X12: =December!L18 -> 0 | Y12: =SUM(B12:X12) -> 4483.73
A14: Malayalam Church | B14: =January!M15 -> 0 | C14: =February!M12 -> 75 | D14: =March!M18 -> 0 | E14: =April!M18 -> 150 | F14: =May!M18 -> 75 | G14: =June!M18 -> 0 | S14: =July!M18 -> 150 | T14: =August!M18 -> 75 | U14: =September!M18 -> 75 | V14: =October!M18 -> 100 | W14: =November!M18 -> 150 | X14: =December!M18 -> 100 | Y14: =SUM(B14:X14) -> 950
A15: AA groups | B15: =SUM(January!N15:P15) -> 300 | C15: =SUM(February!N12:P12) -> 75 | D15: =SUM(March!N18:P18) -> 0 | E15: =SUM(April!N18:P18) -> 260 | F15: =SUM(May!N18:P18) -> 118.18 | G15: =SUM(June!N18:P18) -> 75 | S15: =SUM(July!N18:P18) -> 181.1 | T15: =SUM(August!N18:P18) -> 75 | U15: =SUM(September!N18:P18) -> 270 | V15: =SUM(October!N18:P18) -> 135 | W15: =SUM(November!N18:P18) -> 135 | X15: =SUM(December!N18:P18) -> 160 | Y15: =SUM(B15:X15) -> 1784.28
A16: Tai Chi | B16: =January!Q15 -> 72 | C16: =February!Q12 -> 72 | D16: =March!Q18 -> 72 | E16: =April!Q18 -> 54 | F16: =May!Q18 -> 72 | G16: =June!Q18 -> 0 | S16: =July!Q18 -> 144 | T16: =August!Q18 -> 72 | U16: =September!Q18 -> 72 | V16: =October!Q18 -> 54 | W16: =November!Q18 -> 72 | X16: =December!Q18 -> 54 | Y16: =SUM(B16:X16) -> 810
A17: 6th EK Scout group | B17: =January!R15 -> 0 | C17: =February!R12 -> 0 | D17: =March!R18 -> 0 | E17: =April!R18 -> 0 | F17: =May!R18 -> 0 | G17: =June!R18 -> 0 | S17: =July!R18 -> 0 | T17: =August!R18 -> 0 | U17: =September!R18 -> 0 | V17: =October!R18 -> 0 | W17: =November!R18 -> 600 | X17: =December!R18 -> 0 | Y17: =SUM(B17:X17) -> 600
A18: Lesley Dutch | B18: =January!S15 -> 0 | C18: =February!S12 -> 162 | D18: =March!S18 -> 0 | E18: =April!S18 -> 432 | F18: =May!S18 -> 162 | G18: =June!S18 -> 216 | S18: =July!S18 -> 0 | T18: =August!S18 -> 0 | U18: =September!S18 -> 0 | V18: =October!S18 -> 0 | W18: =November!S18 -> 0 | X18: =December!S18 -> 0 | Y18: =SUM(B18:X18) -> 972
A19: Sewing Group | B19: =January!T15 -> 0 | C19: =February!T12 -> 0 | D19: =March!T18 -> 0 | E19: =April!T18 -> 0 | F19: =May!T18 -> 0 | G19: =June!T18 -> 0 | S19: =July!T18 -> 0 | T19: =August!T18 -> 120 | U19: =September!T18 -> 120 | V19: =October!T18 -> 0 | W19: =November!T18 -> 0 | X19: =December!T18 -> 0 | Y19: =SUM(B19:X19) -> 240
A20: EK SNP | B20: =January!U15 -> 225 | C20: =February!U12 -> 0 | D20: =March!U18 -> 0 | E20: =April!U18 -> 270 | F20: =May!U18 -> 0 | G20: =June!U18 -> 0 | S20: =July!U18 -> 0 | T20: =August!U18 -> 45 | U20: =September!U18 -> 45 | V20: =October!U18 -> 45 | W20: =November!U18 -> 0 | X20: =December!U18 -> 45 | Y20: =SUM(B20:X20) -> 675
A22: fundraising | B22: =January!V15 -> 0 | C22: =February!V12 -> 50.7 | D22: =March!V18 -> 0 | E22: =April!V18 -> 0 | F22: =May!V18 -> 0 | G22: =June!V18 -> 0 | S22: =July!V18 -> 0 | T22: =August!V18 -> 0 | U22: =September!V18 -> 0 | V22: =October!V18 -> 0 | W22: =November!V18 -> 106.81 | X22: =December!V18 -> 530 | Y22: =SUM(B22:X22) -> 687.51
A24: Synod contribution | B24: =January!W15 -> 0 | C24: =February!W12 -> 0 | D24: =March!W18 -> 0 | E24: =April!W18 -> 0 | F24: =May!W18 -> 0 | G24: =June!W18 -> 0 | S24: =July!W18 -> 0 | T24: =August!W18 -> 0 | U24: =September!W18 -> 0 | V24: =October!W18 -> 0 | W24: =November!W18 -> 0 | X24: =December!W18 -> 0 | Y24: =SUM(B24:X24) -> 0
A25: appeals | B25: =January!X15 -> 0 | C25: =February!X12 -> 0 | D25: =March!X18 -> 0 | E25: =April!X18 -> 0 | F25: =May!X18 -> 0 | G25: =June!X18 -> 0 | S25: =July!X18 -> 0 | T25: =August!X18 -> 0 | U25: =September!X18 -> 0 | V25: =October!X18 -> 0 | W25: =November!X18 -> 0 | X25: =December!X18 -> 0 | Y25: =SUM(B25:X25) -> 0
A26: other | B26: =January!Y15 -> 219.78 | C26: =February!Y12 -> 0 | D26: =March!Y18 -> 0 | E26: =April!Y18 -> 0 | F26: =May!Y18 -> 1133.75 | G26: =June!Y18 -> 0 | S26: =July!Y18 -> 127.11 | T26: =August!Y18 -> 0 | U26: =September!Y18 -> 158 | V26: =October!Y18 -> 0 | W26: =November!Y18 -> 180 | X26: =December!Y18 -> 216 | Y26: =SUM(B26:X26) -> 2034.64
A28: total | B28: =SUM(B4:B26) -> 2442.28 | C28: =SUM(C4:C26) -> 2019.5 | D28: =SUM(D4:D26) -> 1065.7 | E28: =SUM(E4:E26) -> 3312.6 | F28: =SUM(F4:F26) -> 3042.43 | G28: =SUM(G4:G26) -> 1664.4 | H28: =SUM(H4:H26) -> 0 | I28: =SUM(I4:I26) -> 0 | ... X28: =SUM(X4:X26) -> 3055 | Y28: =SUM(B28:X28) -> 32175.84

Sheet Expenditure
A1: East Kilbride United Reformed Church Expenditure 2024
B3: January | C3: February | D3: March | E3: April | F3: May | G3: June | H3: July | I3: August | J3: Sept | K3: October | L3: Nov. | M3: Dec. | N3: July | O3: August | P3: Septmeber | Q3: October | R3: November | S3: July | T3: August | U3: September | V3: October | W3: November | X3: December | Y3: Total
A4: Mission & Ministry | B4: =January!F41 -> 1938.33 | C4: =February!F35 -> 1938.33 | D4: =March!F44 -> 1938.33 | E4: =April!F44 -> 1938.33 | F4: =May!F43 -> 1983.33 | G4: =June!F44 -> 1938.33 | S4: =July!F44 -> 1938.33 | T4: =August!F44 -> 1938.33 | U4: =September!F44 -> 1938.33 | V4: =October!F44 -> 1938.33 | W4: =November!F44 -> 1938.33 | X4: =December!F44 -> 0 | Y4: =SUM(B4:X4) -> 21366.63
A5: Minister's Allowances & Council Tax | B5: =January!G41 -> 0 | C5: =February!G35 -> 0 | D5: =March!G44 -> 0 | E5: =April!G44 -> 0 | F5: =May!G43 -> 0 | G5: =June!G44 -> 0 | S5: =July!G44 -> 0 | T5: =August!G44 -> 0 | U5: =September!G44 -> 0 | V5: =October!G44 -> 0 | W5: =November!G44 -> 0 | X5: =December!G44 -> 0 | Y5: =SUM(B5:X5) -> 0
A6: Minister's expenses | B6: =January!H41 -> 0 | C6: =February!H35 -> 0 | D6: =March!H44 -> 0 | E6: =April!H44 -> 0 | F6: =May!H43 -> 0 | G6: =June!H44 -> 0 | S6: =July!H44 -> 0 | T6: =August!H44 -> 0 | U6: =September!H44 -> 0 | V6: =October!H44 -> 0 | W6: =November!H44 -> 0 | X6: =December!H44 -> 0 | Y6: =SUM(B6:X6) -> 0
A8: Synod of Scotland | B8: =January!I41 -> 0 | C8: =February!I35 -> 0 | D8: =March!I44 -> 0 | E8: =April!I44 -> 0 | F8: =May!I43 -> 0 | G8: =June!I44 -> 0 | S8: =July!I44 -> 0 | T8: =August!I44 -> 0 | U8: =September!I44 -> 0 | V8: =October!I44 -> 0 | W8: =November!I44 -> 0 | X8: =December!I44 -> 0 | Y8: =SUM(B8:X8) -> 0
A10: Pulpit /Organ supply | B10: =January!K41 -> 45 | C10: =February!K35 -> 90 | D10: =March!K44 -> 135 | E10: =April!K44 -> 90 | F10: =May!K43 -> 90 | G10: =June!K44 -> 90 | S10: =July!K44 -> 45 | T10: =August!K44 -> 45 | U10: =September!K44 -> 90 | V10: =October!K44 -> 0 | W10: =November!K44 -> 45 | X10: =December!K44 -> 45 | Y10: =SUM(B10:X10) -> 810
A11: Organist | B11: =January!J41 -> 141.67 | C11: =February!J35 -> 141.67 | D11: =March!J44 -> 141.67 | E11: =April!J44 -> 141.67 | F11: =May!J43 -> 141.67 | G11: =June!J44 -> 141.67 | S11: =July!J44 -> 141.67 | T11: =August!J44 -> 141.67 | U11: =September!J44 -> 141.67 | V11: =October!J44 -> 141.67 | W11: =November!J44 -> 141.67 | X11: =December!J44 -> 141.67 | Y11: =SUM(B11:X11) -> 1700.04
A12: Cleaner | B12: =January!L41 -> 261.6 | C12: =February!L35 -> 261.6 | D12: =March!L44 -> 261.6 | E12: =April!L44 -> 261.6 | F12: =May!L43 -> 261.6 | G12: =June!L44 -> 261.6 | S12: =July!L44 -> 261.6 | T12: =August!L44 -> 261.6 | U12: =September!L44 -> 523.2 | V12: =October!L44 -> 261.6 | W12: =November!L44 -> 261.6 | X12: =December!L44 -> 261.6 | Y12: =SUM(B12:X12) -> 3400.8
A14: Gas | B14: =January!M41 -> 0 | C14: =February!M35 -> 616.63 | D14: =March!M44 -> 43.44 | E14: =April!M44 -> 0 | F14: =May!M43 -> 0 | G14: =June!M44 -> 0 | S14: =July!M44 -> 2056.38 | T14: =August!M44 -> 354.38 | U14: =September!M44 -> 0 | V14: =October!M44 -> 0 | W14: =November!M44 -> 315.83 | X14: =December!M44 -> 0 | Y14: =SUM(B14:X14) -> 3386.66
A15: Electricity | B15: =January!N41 -> 0 | C15: =February!N35 -> 451.29 | D15: =March!N44 -> 1459.36 | E15: =April!N44 -> 0 | F15: =May!N43 -> 0 | G15: =June!N44 -> 1089.43 | S15: =July!N44 -> 0 | T15: =August!N44 -> 186.4 | U15: =September!N44 -> 0 | V15: =October!N44 -> 0 | W15: =November!N44 -> 213.15 | X15: =December!N44 -> 0 | Y15: =SUM(B15:X15) -> 3399.63
A16: Insurance | B16: =January!O41 -> 0 | C16: =February!O35 -> 1225.71 | D16: =March!O44 -> 0 | E16: =April!O44 -> 0 | F16: =May!O43 -> 0 | G16: =June!O44 -> 0 | S16: =July!O44 -> 0 | T16: =August!O44 -> 0 | U16: =September!O44 -> 0 | V16: =October!O44 -> 1541.52 | W16: =November!O44 -> 0 | X16: =December!O44 -> 0 | Y16: =SUM(B16:X16) -> 2767.23
A18: Charitable Giving | B18: =January!P41 -> 498 | C18: =February!P35 -> 138.4 | D18: =March!P44 -> 0 | E18: =April!P44 -> 0 | F18: =May!P43 -> 70 | G18: =June!P44 -> 0 | S18: =July!P44 -> 0 | T18: =August!P44 -> 0 | U18: =September!P44 -> 0 | V18: =October!P44 -> 90 | W18: =November!P44 -> 355.2 | X18: =December!P44 -> 245 | Y18: =SUM(B18:X18) -> 1396.6
A20: Repairs & Maintenance | B20: =January!Q41 -> 145.2 | C20: =February!Q35 -> 27.75 | D20: =March!Q44 -> 0 | E20: =April!Q44 -> 0 | F20: =May!Q43 -> 0 | G20: =June!Q44 -> 0 | S20: =July!Q44 -> 316.4 | T20: =August!Q44 -> 0 | U20: =September!Q44 -> 0 | V20: =October!Q44 -> 100 | W20: =November!Q44 -> 90 | X20: =December!Q44 -> 0 | Y20: =SUM(B20:X20) -> 679.35
A21: Cleaning & Comsumables | B21: =January!R41 -> 178.93 | C21: =February!R35 -> 0 | D21: =March!R44 -> 32.78 | E21: =April!R44 -> 23 | F21: =May!R43 -> 16.49 | G21: =June!R44 -> 0 | S21: =July!R44 -> 0 | T21: =August!R44 -> 0 | U21: =September!R44 -> 0 | V21: =October!R44 -> 45.6 | W21: =November!R44 -> 0 | X21: =December!R44 -> 0 | Y21: =SUM(B21:X21) -> 296.8
A22: Health & Safety | B22: =January!S41 -> 0 | C22: =February!S35 -> 37.38 | D22: =March!S44 -> 0 | E22: =April!S44 -> 0 | F22: =May!S43 -> 0 | G22: =June!S44 -> 0 | S22: =July!S44 -> 0 | T22: =August!S44 -> 0 | U22: =September!S44 -> 0 | V22: =October!S44 -> 0 | W22: =November!S44 -> 0 | X22: =December!S44 -> 0 | Y22: =SUM(B22:X22) -> 37.38
A23: =December!T25 -> Taxi Payment | B23: =January!T41 -> 0 | C23: =February!T35 -> 65.2 | D23: =March!T44 -> 125 | E23: =April!T44 -> 163.6 | F23: =May!T44 -> 165.7 | G23: =June!T44 -> 134.6 | H23: =February!Y35 -> 0 | I23: =February!Z35 -> 0 | J23: =February!AA35 -> -4.8316906e-13 | K23: =February!AB35 -> 0 | L23: =February!AC35 -> 0 | M23: =February!AD35 -> 0 | N23: =February!AE35 -> 0 | O23: =February!AF35 -> 0 | ... R23: =February!AI35 -> 0 | S23: =July!T44 -> 191 | T23: =SUM(August!T44) -> 170 | U23: =September!T44 -> 123.5 | V23: =October!T44 -> 105.6 | W23: =November!T44 -> 122.5 | X23: =December!T44 -> 180.2 | Y23: =SUM(B23:X23) -> 1546.9
A24: =December!U25 -> Virgin Media | B24: =January!U41 -> 39.6 | C24: =February!U35 -> 24.6 | D24: =March!U44 -> 19.8 | E24: =April!U44 -> 19.8 | F24: =May!U44 -> 19.8 | G24: =June!U44 -> 39.6 | H24: =February!Z35 -> 0 | I24: =February!AA35 -> -4.8316906e-13 | J24: =February!AB35 -> 0 | K24: =February!AC35 -> 0 | L24: =February!AD35 -> 0 | M24: =February!AE35 -> 0 | N24: =February!AF35 -> 0 | O24: =February!AG35 -> 0 | ... R24: =February!AJ35 -> 0 | S24: =July!U44 -> 39.6 | T24: =SUM(August!U44) -> 39.6 | U24: =September!U44 -> 39.6 | V24: =October!U44 -> 39.6 | W24: =November!U44 -> 39.6 | X24: =December!U44 -> 39.6 | Y24: =SUM(B24:X24) -> 400.8
A25: Other | B25: =SUM(January!V41) -> 3880.69 | C25: =February!V35 -> 188 | D25: =March!V44 -> 88.8 | E25: =April!V44 -> 0 | F25: =May!V44 -> 462.75 | G25: =June!V44 -> 0 | S25: =July!V44 -> 135 | T25: =August!V44 -> 0 | U25: =September!V44 -> 0 | V25: =October!V44 -> 22.5 | W25: =November!V44 -> 28 | X25: =December!V44 -> 0 | Y25: =SUM(B25:X25) -> 4805.74
A27: Total | B27: =SUM(B4:B25) -> 7129.02 | C27: =SUM(C4:C25) -> 5206.56 | D27: =SUM(D4:D25) -> 4245.78 | E27: =SUM(E4:E25) -> 2638 | F27: =SUM(F4:F25) -> 3211.34 | G27: =SUM(G4:G25) -> 3695.23 | H27: =SUM(H4:H25) -> 0 | I27: =SUM(I4:I25) -> -4.8316906e-13 | ... X27: =SUM(X4:X25) -> 913.07 | Y27: =SUM(B27:X27) -> 45994.56

Sheet January
A1: Date | B1: Weekly total | C1: Cash paid out | D1: Weekly total as banked | E1: Freewill Offering Envelopes | F1: Plate | G1: Monthly Standing Orders | H1: Tea room | I1: Coffee and Chat | J1: Taxi Fund | K1: Donations | L1: Gift Aid Donations | M1: Malayalam Church | N1: Sunday Night AA Group | O1: Wed AA | P1: Friday AA | Q1: Tai Chi | R1: 6th EK Scout Group | S1: Lesley Dutch dancing | T1: Dog Training | U1: EK SNP | V1: fundraising | W1: Synod contribution | X1: Appeals | Y1: Other | AA1: CHECK
A2: January | B2: 925 | G2: 925 | AA2: =SUM(B2-E2-F2-G2-H2-I2-J2-K2-L2-M2-N2-O2-P2-Q2-R2-S2-T2-U2-V2-W2-X2-Y2) -> 0
A3: 45300 | B3: 225 | U3: 225 | AA3: =SUM(B3-E3-F3-G3-H3-I3-J3-K3-L3-M3-N3-O3-P3-Q3-R3-S3-T3-U3-V3-W3-X3-Y3) -> 0
A4: 45316 | B4: 219.78 | Y4: 219.78 | AA4: =SUM(B4-E4-F4-G4-H4-I4-J4-K4-L4-M4-N4-O4-P4-Q4-R4-S4-T4-U4-V4-W4-X4-Y4) -> 0
A5: 45322 | B5: 72 | Q5: 72 | AA5: =SUM(B5-E5-F5-G5-H5-I5-J5-K5-L5-M5-N5-O5-P5-Q5-R5-S5-T5-U5-V5-W5-X5-Y5) -> 0
A6: 45300 | B6: 316.3 | D6: 316.3 | E6: 146 | F6: 135 | H6: 30.3 | J6: 5 | AA6: =SUM(B6-E6-F6-G6-H6-I6-J6-K6-L6-M6-N6-O6-P6-Q6-R6-S6-T6-U6-V6-W6-X6-Y6) -> 1.0658141e-14
A7: 45320 | B7: 684.2 | D7: 684.2 | E7: 110 | F7: 127.1 | H7: 52.8 | I7: 49.3 | J7: 45 | P7: 300 | AA7: =SUM(B7-E7-F7-G7-H7-I7-J7-K7-L7-M7-N7-O7-P7-Q7-R7-S7-T7-U7-V7-W7-X7-Y7) -> 0
AA8: =SUM(B8-E8-F8-G8-H8-I8-J8-K8-L8-M8-N8-O8-P8-Q8-R8-S8-T8-U8-V8-W8-X8-Y8) -> 0
AA9: =SUM(B9-E9-F9-G9-H9-I9-J9-K9-L9-M9-N9-O9-P9-Q9-R9-S9-T9-U9-V9-W9-X9-Y9) -> 0
AA10: =SUM(B10-E10-F10-G10-H10-I10-J10-K10-L10-M10-N10-O10-P10-Q10-R10-S10-T10-U10-V10-W10-X10-Y10) -> 0
AA11: =SUM(B11-E11-F11-G11-H11-I11-J11-K11-L11-M11-N11-O11-P11-Q11-R11-S11-T11-U11-V11-W11-X11-Y11) -> 0
AA12: =SUM(B12-E12-F12-G12-H12-I12-J12-K12-L12-M12-N12-O12-P12-Q12-R12-S12-T12-U12-V12-W12-X12-Y12) -> 0
AA13: =SUM(B13-E13-F13-G13-H13-I13-J13-K13-L13-M13-N13-O13-P13-Q13-R13-S13-T13-U13-V13-W13-X13-Y13) -> 0
AA14: =SUM(B14-E14-F14-G14-H14-I14-J14-K14-L14-M14-N14-O14-P14-Q14-R14-S14-T14-U14-V14-W14-X14-Y14) -> 0
B15: =SUM(B2:B13) -> 2442.28 | D15: =SUM(D2:D14) -> 1000.5 | E15: =SUM(E2:E14) -> 256 | F15: =SUM(F2:F14) -> 262.1 | G15: =SUM(G2:G14) -> 925 | H15: =SUM(H2:H14) -> 83.1 | I15: =SUM(I2:I14) -> 49.3 | J15: =SUM(J2:J14) -> 50 | K15: =SUM(K2:K14) -> 0 | ... Y15: =SUM(Y2:Y14) -> 219.78 | AA15: =SUM(B15-E15-F15-G15-H15-I15-J15-K15-L15-M15-N15-O15-P15-Q15-R15-S15-T15-U15-V15-W15-X15-Y15) -> -1.4210855e-13
A21: EXPENDITURE
A22: Date | B22: Form | C22: Paid to… | D22: Date Cashed | E22: Actual Spend | F22: Central fund M&M | G22: Minister's allowances & Council Tax | H22: minister's expenses | I22: Synod contribution | J22: Organist | K22: Pulpit/Organ supply | L22: Cleaner | M22: Gas | N22: Electricity | O22: Insurance | P22: Charitable giving | Q22: Repair & Maintence | R22: cleaning supplies & consumables | S22: health & safety | T22: Taxi Payment | U22: Virgin Media | V22: other | AA22: Check
A23: 45293 | B23: SO | C23: C Lipton | E23: 141.67 | J23: 141.67 | AA23: =SUM(E23-F23-G23-H23-I23-J23-K23-L23-M23-N23-O23-P23-Q23-R23-S23-T23-U23-V23) -> 0 | AB23: =SUM(E23-F23-G23-H23-I23-J23-K23-L23-M23-N23-O23-P23-Q23-R23-S23-V23) -> 0
A24: 45294 | B24: 3303 | C24: S Grennhall | D24: 45295 | E24: 300 | V24: 300 | AA24: =SUM(E24-F24-G24-H24-I24-J24-K24-L24-M24-N24-O24-P24-Q24-R24-S24-T24-U24-V24) -> 0 | AB24: =SUM(E24-F24-G24-H24-I24-J24-K24-L24-M24-N24-O24-P24-Q24-R24-S24-V24) -> 0
A25: 45294 | B25: 3305 | C25: David Coulter | D25: 45295 | E25: 58.66 | R25: 58.66 | AA25: =SUM(E25-F25-G25-H25-I25-J25-K25-L25-M25-N25-O25-P25-Q25-R25-S25-T25-U25-V25) -> 0 | AB25: =SUM(E25-F25-G25-H25-I25-J25-K25-L25-M25-N25-O25-P25-Q25-R25-S25-V25) -> 0
A26: 45296 | B26: 3306 | C26: June Jannaway | D26: 45299 | E26: 87.92 | V26: 87.92 | AA26: =SUM(E26-F26-G26-H26-I26-J26-K26-L26-M26-N26-O26-P26-Q26-R26-S26-T26-U26-V26) -> 0 | AB26: =SUM(E26-F26-G26-H26-I26-J26-K26-L26-M26-N26-O26-P26-Q26-R26-S26-V26) -> 0
A27: 45294 | B27: 3304 | C27: Turners Roller Doors | D27: 45300 | E27: 145.2 | Q27: 145.2 | AA27: =SUM(E27-F27-G27-H27-I27-J27-K27-L27-M27-N27-O27-P27-Q27-R27-S27-T27-U27-V27) -> 0 | AB27: =SUM(E27-F27-G27-H27-I27-J27-K27-L27-M27-N27-O27-P27-Q27-R27-S27-V27) -> 0
A28: 45298 | B28: 3307 | C28: David Coulter | D28: 45300 | E28: 120.27 | R28: 120.27 | AA28: =SUM(E28-F28-G28-H28-I28-J28-K28-L28-M28-N28-O28-P28-Q28-R28-S28-T28-U28-V28) -> 0 | AB28: =SUM(E28-F28-G28-H28-I28-J28-K28-L28-M28-N28-O28-P28-Q28-R28-S28-V28) -> 0
A29: 45298 | B29: 3309 | C29: john Bell | D29: 45344 | E29: 305.1 | V29: 305.1 | AA29: =SUM(E29-F29-G29-H29-I29-J29-K29-L29-M29-N29-O29-P29-Q29-R29-S29-T29-U29-V29) -> 0 | AB29: =SUM(E29-F29-G29-H29-I29-J29-K29-L29-M29-N29-O29-P29-Q29-R29-S29-V29) -> 0
A30: 45298 | B30: 3308 | C30: C Crosbie | D30: 45300 | E30: 282.3 | V30: 282.3 | AA30: =SUM(E30-F30-G30-H30-I30-J30-K30-L30-M30-N30-O30-P30-Q30-R30-S30-T30-U30-V30) -> 0 | AB30: =SUM(E30-F30-G30-H30-I30-J30-K30-L30-M30-N30-O30-P30-Q30-R30-S30-V30) -> 0
A31: 45299 | B31: 3310 | C31: Stuart Henderson | D31: 45301 | E31: 2826 | V31: 2826 | AA31: =SUM(E31-F31-G31-H31-I31-J31-K31-L31-M31-N31-O31-P31-Q31-R31-S31-T31-U31-V31) -> 0 | AB31: =SUM(E31-F31-G31-H31-I31-J31-K31-L31-M31-N31-O31-P31-Q31-R31-S31-V31) -> 0
A32: 45313 | B32: SO | C32: Fiona Morton | E32: 261.6 | L32: 261.6 | W32: 22 | AA32: =SUM(E32-F32-G32-H32-I32-J32-K32-L32-M32-N32-O32-P32-Q32-R32-S32-T32-U32-V32) -> 0 | AB32: =SUM(E32-F32-G32-H32-I32-J32-K32-L32-M32-N32-O32-P32-Q32-R32-S32-V32) -> 0
A33: 45313 | B33: DD | C33: URC trust | E33: 1938.33 | F33: 1938.33 | AA33: =SUM(E33-F33-G33-H33-I33-J33-K33-L33-M33-N33-O33-P33-Q33-R33-S33-T33-U33-V33) -> 0 | AB33: =SUM(E33-F33-G33-H33-I33-J33-K33-L33-M33-N33-O33-P33-Q33-R33-S33-V33) -> 0
A34: 45314 | B34: 3315 | C34: John Collings | D34: 45314 | E34: 45 | K34: 45 | AA34: =SUM(E34-F34-G34-H34-I34-J34-K34-L34-M34-N34-O34-P34-Q34-R34-S34-T34-U34-V34) -> 0 | AB34: =SUM(E34-F34-G34-H34-I34-J34-K34-L34-M34-N34-O34-P34-Q34-R34-S34-V34) -> 0
A35: 45317 | B35: 3311 | C35: C Crosbie | D35: 45317 | E35: 22.99 | V35: 22.99 | AA35: =SUM(E35-F35-G35-H35-I35-J35-K35-L35-M35-N35-O35-P35-Q35-R35-S35-T35-U35-V35) -> 0 | AB35: =SUM(E35-F35-G35-H35-I35-J35-K35-L35-M35-N35-O35-P35-Q35-R35-S35-V35) -> 0
A36: 45310 | B36: 3313 | C36: Erskine | D36: 45320 | E36: 171 | P36: 171 | AA36: =SUM(E36-F36-G36-H36-I36-J36-K36-L36-M36-N36-O36-P36-Q36-R36-S36-T36-U36-V36) -> 0 | AB36: =SUM(E36-F36-G36-H36-I36-J36-K36-L36-M36-N36-O36-P36-Q36-R36-S36-V36) -> 0
A37: 45320 | B37: DD | C37: Virgin Media | E37: 39.6 | U37: 39.6 | AA37: =SUM(E37-F37-G37-H37-I37-J37-K37-L37-M37-N37-O37-P37-Q37-R37-S37-T37-U37-V37) -> 0 | AB37: =SUM(E37-F37-G37-H37-I37-J37-K37-L37-M37-N37-O37-P37-Q37-R37-S37-V37) -> 39.6
A38: 45310 | B38: 3312 | C38: EK Dementia Group | D38: 45321 | E38: 171 | P38: 171 | AA38: =SUM(E38-F38-G38-H38-I38-J38-K38-L38-M38-N38-O38-P38-Q38-R38-S38-T38-U38-V38) -> 0 | AB38: =SUM(E38-F38-G38-H38-I38-J38-K38-L38-M38-N38-O38-P38-Q38-R38-S38-V38) -> 0
A39: 45319 | B39: 3316 | C39: Y Coulter | D39: 45321 | E39: 56.38 | V39: 56.38 | AA39: =SUM(E39-F39-G39-H39-I39-J39-K39-L39-M39-N39-O39-P39-Q39-R39-S39-T39-U39-V39) -> 0 | AB39: =SUM(E39-F39-G39-H39-I39-J39-K39-L39-M39-N39-O39-P39-Q39-R39-S39-V39) -> 0
A40: 45310 | B40: 3314 | C40: Christian Aid | D40: 45322 | E40: 156 | P40: 156 | AA40: =SUM(E40-F40-G40-H40-I40-J40-K40-L40-M40-N40-O40-P40-Q40-R40-S40-T40-U40-V40) -> 0 | AB40: =SUM(E40-F40-G40-H40-I40-J40-K40-L40-M40-N40-O40-P40-Q40-R40-S40-V40) -> 0
A41: JANUARY | B41: TOTAL | E41: =SUM(E23:E40) -> 7129.02 | F41: =SUM(F23:F40) -> 1938.33 | G41: =SUM(G23:G40) -> 0 | H41: =SUM(H23:H40) -> 0 | I41: =SUM(I23:I40) -> 0 | J41: =SUM(J23:J40) -> 141.67 | K41: =SUM(K23:K40) -> 45 | L41: =SUM(L23:L40) -> 261.6 | ... V41: =SUM(V23:V40) -> 3880.69 | AA41: =SUM(E41-F41-G41-H41-I41-J41-K41-L41-M41-N41-O41-P41-Q41-R41-S41-T41-U41-V41) -> 9.094947e-13
B46: Income | C46: Expenditure | D46: Balance | F46: BANK RECONCILIATION | L46: ANNUAL RECONCILIATION
A47: January | B47: =B15 -> 2442.28 | C47: =E41 -> 7129.02 | D47: =B47-C47 -> -4686.74
A48: February | D48: =B48-C48 -> 0 | F48: STATEMENT | H48: 34076.08 | L48: Opening Balance | N48: 38457.72
A49: March | D49: =B49-C49 -> 0 | F49: add credits missing | L49: Income for YTD | N49: =B60 -> 2442.28
...

Sheet February
A1: Date | B1: Weekly total | C1: Cash paid out | D1: Weekly total as banked | E1: Freewill Offering Envelopes | F1: Plate | G1: Monthly Standing Orders | H1: Tea room | I1: Coffee and Chat | J1: Taxi Fund | K1: Donations | L1: Gift Aid Donations | M1: Malayalam Church | N1: Sunday Night AA Group | O1: Wed AA | P1: Friday AA | Q1: Tai Chi | R1: 6th EK Scout Group | S1: Lesley Dutch dancing | T1: Dog Training | U1: EK SNP | V1: fundraising | W1: Synod contribution | X1: Appeals | Y1: Other | AA1: CHECK
A2: FEBRUARY | B2: 785 | G2: 785 | AA2: =SUM(B2-E2-F2-G2-H2-I2-J2-K2-L2-M2-N2-O2-P2-Q2-R2-S2-T2-U2-V2-W2-X2-Y2) -> 0
A3: 45335 | B3: 50.7 | D3: 50.7 | V3: 50.7 | AA3: =SUM(B3-E3-F3-G3-H3-I3-J3-K3-L3-M3-N3-O3-P3-Q3-R3-S3-T3-U3-V3-W3-X3-Y3) -> 0
A4: 45351 | B4: 72 | D4: 72 | Q4: 72 | AA4: =SUM(B4-E4-F4-G4-H4-I4-J4-K4-L4-M4-N4-O4-P4-Q4-R4-S4-T4-U4-V4-W4-X4-Y4) -> 0
A5: 45328 | B5: 629 | D5: 629 | E5: 275 | F5: 90 | H5: 17 | J5: 10 | M5: 75 | S5: 162 | AA5: =SUM(B5-E5-F5-G5-H5-I5-J5-K5-L5-M5-N5-O5-P5-Q5-R5-S5-T5-U5-V5-W5-X5-Y5) -> 0
A6: 45348 | B6: 482.8 | D6: 482.8 | E6: 80 | F6: 157 | H6: 61.7 | I6: 89.1 | J6: 20 | N6: 75 | AA6: =SUM(B6-E6-F6-G6-H6-I6-J6-K6-L6-M6-N6-O6-P6-Q6-R6-S6-T6-U6-V6-W6-X6-Y6) -> 2.8421709e-14
AA7: =SUM(B7-E7-F7-G7-H7-I7-J7-K7-L7-M7-N7-O7-P7-Q7-R7-S7-T7-U7-V7-W7-X7-Y7) -> 0
AA8: =SUM(B8-E8-F8-G8-H8-I8-J8-K8-L8-M8-N8-O8-P8-Q8-R8-S8-T8-U8-V8-W8-X8-Y8) -> 0
AA9: =SUM(B9-E9-F9-G9-H9-I9-J9-K9-L9-M9-N9-O9-P9-Q9-R9-S9-T9-U9-V9-W9-X9-Y9) -> 0
AA10: =SUM(B10-E10-F10-G10-H10-I10-J10-K10-L10-M10-N10-O10-P10-Q10-R10-S10-T10-U10-V10-W10-X10-Y10) -> 0
AA11: =SUM(B11-E11-F11-G11-H11-I11-J11-K11-L11-M11-N11-O11-P11-Q11-R11-S11-T11-U11-V11-W11-X11-Y11) -> 0
B12: =SUM(B2:B11) -> 2019.5 | D12: =SUM(D2:D11) -> 1234.5 | E12: =SUM(E2:E11) -> 355 | F12: =SUM(F2:F11) -> 247 | G12: =SUM(G2:G11) -> 785 | H12: =SUM(H2:H11) -> 78.7 | I12: =SUM(I2:I11) -> 89.1 | J12: =SUM(J2:J11) -> 30 | K12: =SUM(K2:K11) -> 0 | ... Y12: =SUM(Y2:Y11) -> 0 | AA12: =SUM(B12-E12-F12-G12-H12-I12-J12-K12-L12-M12-N12-O12-P12-Q12-R12-S12-T12-U12-V12-W12-X12-Y12) -> -7.1054274e-14
A18: EXPENDITURE
A19: Date | B19: Form | C19: Paid to… | D19: Date Cashed | E19: Actual Spend | F19: Central fund M&M | G19: Minister's allowances & Council Tax | H19: minister's expenses | I19: Synod contribution | J19: Organist | K19: Pulpit/Organ supply | L19: Cleaner | M19: Gas | N19: Electricity | O19: Insurance | P19: Charitable giving | Q19: Repair & Maintence | R19: cleaning supplies & consumables | S19: health & safety | T19: Taxi Payment | U19: Virgin Media | V19: other | AA19: Check
A20: 45323 | B20: SO | C20: C Lipton | E20: 141.67 | J20: 141.67 | AA20: =SUM(E20-F20-G20-H20-I20-J20-K20-L20-M20-N20-O20-P20-Q20-R20-S20-T20-U20-V20) -> 0
A21: 45341 | B21: SO | C21: F Morton | E21: 261.6 | L21: 261.6 | AA21: =SUM(E21-F21-G21-H21-I21-J21-K21-L21-M21-N21-O21-P21-Q21-R21-S21-T21-U21-V21) -> 0
A22: 45342 | B22: DD | C22: SSE | E22: 616.63 | M22: 616.63 | AA22: =SUM(E22-F22-G22-H22-I22-J22-K22-L22-M22-N22-O22-P22-Q22-R22-S22-T22-U22-V22) -> 0
A23: 45351 | B23: DD | C23: SSE | E23: 451.29 | N23: 451.29 | AA23: =SUM(E23-F23-G23-H23-I23-J23-K23-L23-M23-N23-O23-P23-Q23-R23-S23-T23-U23-V23) -> 0
A24: 45342 | B24: DD | C24: Urc Trust | E24: 1938.33 | F24: 1938.33 | AA24: =SUM(E24-F24-G24-H24-I24-J24-K24-L24-M24-N24-O24-P24-Q24-R24-S24-T24-U24-V24) -> 0
A25: 45350 | B25: DD | C25: Virgin Media | E25: 24.6 | U25: 24.6 | AA25: =SUM(E25-F25-G25-H25-I25-J25-K25-L25-M25-N25-O25-P25-Q25-R25-S25-T25-U25-V25) -> 0
A26: 45329 | B26: 3317 | C26: EK Toa | D26: 45378 | E26: 65.2 | T26: 65.2 | AA26: =SUM(E26-F26-G26-H26-I26-J26-K26-L26-M26-N26-O26-P26-Q26-R26-S26-T26-U26-V26) -> 0
A27: 45333 | B27: 3319 | C27: Y Hamilton | D27: 45335 | E27: 45 | K27: 45 | AA27: =SUM(E27-F27-G27-H27-I27-J27-K27-L27-M27-N27-O27-P27-Q27-R27-S27-T27-U27-V27) -> 0
A28: 45333 | B28: 3320 | C28: A Wood | D28: 45335 | E28: 188 | V28: 188 | AA28: =SUM(E28-F28-G28-H28-I28-J28-K28-L28-M28-N28-O28-P28-Q28-R28-S28-T28-U28-V28) -> 0
A29: 45333 | B29: 3321 | C29: URC Synod | D29: 45338 | E29: 1025.84 | O29: 1025.84 | AA29: =SUM(E29-F29-G29-H29-I29-J29-K29-L29-M29-N29-O29-P29-Q29-R29-S29-T29-U29-V29) -> 0
A30: 45340 | B30: 3322 | C30: J Collings | D30: 45342 | E30: 45 | K30: 45 | AA30: =SUM(E30-F30-G30-H30-I30-J30-K30-L30-M30-N30-O30-P30-Q30-R30-S30-T30-U30-V30) -> 0
A31: 45340 | B31: 3323 | C31: C Crosbie | D31: 45342 | E31: 37.38 | S31: 37.38 | AA31: =SUM(E31-F31-G31-H31-I31-J31-K31-L31-M31-N31-O31-P31-Q31-R31-S31-T31-U31-V31) -> 0
A32: 45337 | B32: 3324 | C32: Brooker Net' LTD | D32: 45345 | E32: 199.87 | O32: 199.87 | AA32: =SUM(E32-F32-G32-H32-I32-J32-K32-L32-M32-N32-O32-P32-Q32-R32-S32-T32-U32-V32) -> 0
A33: 45337 | B33: 3325 | C33: D Coulter | D33: 45338 | E33: 27.75 | Q33: 27.75 | AA33: =SUM(E33-F33-G33-H33-I33-J33-K33-L33-M33-N33-O33-P33-Q33-R33-S33-T33-U33-V33) -> 0
A34: 45347 | B34: 3326 | C34: Loaves Fishes | D34: 45352 | E34: 138.4 | P34: 138.4 | AA34: =SUM(E34-F34-G34-H34-I34-J34-K34-L34-M34-N34-O34-P34-Q34-R34-S34-T34-U34-V34) -> 0
A35: February | B35: TOTAL | E35: =SUM(E20:E34) -> 5206.56 | F35: =SUM(F20:F34) -> 1938.33 | G35: =SUM(G20:G34) -> 0 | H35: =SUM(H20:H34) -> 0 | I35: =SUM(I20:I34) -> 0 | J35: =SUM(J20:J34) -> 141.67 | K35: =SUM(K20:K34) -> 90 | L35: =SUM(L20:L34) -> 261.6 | ... V35: =SUM(V20:V34) -> 188 | AA35: =SUM(E35-F35-G35-H35-I35-J35-K35-L35-M35-N35-O35-P35-Q35-R35-S35-T35-U35-V35) -> -4.8316906e-13
B40: Income | C40: Expenditure | D40: Balance | F40: BANK RECONCILIATION | L40: ANNUAL RECONCILIATION
A41: January | B41: =January!B15 -> 2442.28 | C41: =January!E41 -> 7129.02 | D41: =B41-C41 -> -4686.74
A42: February | B42: =B12 -> 2019.5 | C42: =E35 -> 5206.56 | D42: =B42-C42 -> -3187.06 | F42: STATEMENT | H42: 30787.52 | L42: Opening Balance | N42: 38457.72
A43: March | D43: =B43-C43 -> 0 | F43: add credits missing | L43: Income for YTD | N43: =B54 -> 4461.78
A44: April | D44: =B44-C44 -> 0 | F44: less chqs not cash | H44: 203.6 | L44: Exp. for YTD | N44: =C54 -> 12335.58
A45: May | D45: =B45-C45 -> 0 | F45: BALANCE | H45: =H42+H43-H44 -> 30583.92
A46: June | D46: =B46-C46 -> 0 | L46: BALANCE | N46: =N42+N43-N44 -> 30583.92
A47: July | D47: =B47-C47 -> 0
A48: August | D48: =B48-C48 -> 0
A49: September | D49: =B49-C49 -> 0
...

Sheet March
A1: Date | B1: Weekly total | C1: Cash paid out | D1: Weekly total as banked | E1: Freewill Offering Envelopes | F1: Plate | G1: Monthly Standing Orders | H1: Tea room | I1: Coffee and Chat | J1: Taxi Fund | K1: Donations | L1: Gift Aid Donations | M1: Malayalam Church | N1: Sunday Night AA Group | O1: Wed AA | P1: Friday AA | Q1: Tai Chi | R1: 6th EK Scout Group | S1: Lesley Dutch dancing | T1: Dog Training | U1: EK SNP | V1: fundraising | W1: Synod contribution | X1: Appeals | Y1: Other | AA1: CHECK
A2: March | B2: 755 | G2: 755 | AA2: =SUM(B2-E2-F2-G2-H2-I2-J2-K2-L2-M2-N2-O2-P2-Q2-R2-S2-T2-U2-V2-W2-X2-Y2) -> 0
A3: 45378 | B3: 72 | Q3: 72 | AA3: =SUM(B3-E3-F3-G3-H3-I3-J3-K3-L3-M3-N3-O3-P3-Q3-R3-S3-T3-U3-V3-W3-X3-Y3) -> 0
A4: 45355 | B4: 238.7 | D4: 238.7 | E4: 140 | F4: 35 | H4: 13.7 | J4: 50 | AA4: =SUM(B4-E4-F4-G4-H4-I4-J4-K4-L4-M4-N4-O4-P4-Q4-R4-S4-T4-U4-V4-W4-X4-Y4) -> -1.4210855e-14
AA5: =SUM(B5-E5-F5-G5-H5-I5-J5-K5-L5-M5-N5-O5-P5-Q5-R5-S5-T5-U5-V5-W5-X5-Y5) -> 0
AA6: =SUM(B6-E6-F6-G6-H6-I6-J6-K6-L6-M6-N6-O6-P6-Q6-R6-S6-T6-U6-V6-W6-X6-Y6) -> 0
AA7: =SUM(B7-E7-F7-G7-H7-I7-J7-K7-L7-M7-N7-O7-P7-Q7-R7-S7-T7-U7-V7-W7-X7-Y7) -> 0
AA8: =SUM(B8-E8-F8-G8-H8-I8-J8-K8-L8-M8-N8-O8-P8-Q8-R8-S8-T8-U8-V8-W8-X8-Y8) -> 0
AA9: =SUM(B9-E9-F9-G9-H9-I9-J9-K9-L9-M9-N9-O9-P9-Q9-R9-S9-T9-U9-V9-W9-X9-Y9) -> 0
AA10: =SUM(B10-E10-F10-G10-H10-I10-J10-K10-L10-M10-N10-O10-P10-Q10-R10-S10-T10-U10-V10-W10-X10-Y10) -> 0
AA11: =SUM(B11-E11-F11-G11-H11-I11-J11-K11-L11-M11-N11-O11-P11-Q11-R11-S11-T11-U11-V11-W11-X11-Y11) -> 0
AA12: =SUM(B12-E12-F12-G12-H12-I12-J12-K12-L12-M12-N12-O12-P12-Q12-R12-S12-T12-U12-V12-W12-X12-Y12) -> 0
AA13: =SUM(B13-E13-F13-G13-H13-I13-J13-K13-L13-M13-N13-O13-P13-Q13-R13-S13-T13-U13-V13-W13-X13-Y13) -> 0
AA14: =SUM(B14-E14-F14-G14-H14-I14-J14-K14-L14-M14-N14-O14-P14-Q14-R14-S14-T14-U14-V14-W14-X14-Y14) -> 0
AA15: =SUM(B15-E15-F15-G15-H15-I15-J15-K15-L15-M15-N15-O15-P15-Q15-R15-S15-T15-U15-V15-W15-X15-Y15) -> 0
AA16: =SUM(B16-E16-F16-G16-H16-I16-J16-K16-L16-M16-N16-O16-P16-Q16-R16-S16-T16-U16-V16-W16-X16-Y16) -> 0
AA17: =SUM(B17-E17-F17-G17-H17-I17-J17-K17-L17-M17-N17-O17-P17-Q17-R17-S17-T17-U17-V17-W17-X17-Y17) -> 0
B18: =SUM(B2:B16) -> 1065.7 | D18: =SUM(D2:D17) -> 238.7 | E18: =SUM(E2:E17) -> 140 | F18: =SUM(F2:F17) -> 35 | G18: =SUM(G2:G17) -> 755 | H18: =SUM(H2:H17) -> 13.7 | I18: =SUM(I2:I17) -> 0 | J18: =SUM(J2:J17) -> 50 | K18: =SUM(K2:K17) -> 0 | ... Y18: =SUM(Y2:Y17) -> 0 | AA18: =SUM(B18-E18-F18-G18-H18-I18-J18-K18-L18-M18-N18-O18-P18-Q18-R18-S18-T18-U18-V18-W18-X18-Y18) -> 4.2632564e-14
A24: EXPENDITURE
A25: Date | B25: Form | C25: Paid to… | D25: Date Cashed | E25: Actual Spend | F25: Central fund M&M | G25: Minister's allowances & Council Tax | H25: minister's expenses | I25: Synod contribution | J25: Organist | K25: Pulpit/Organ supply | L25: Cleaner | M25: Gas | N25: Electricity | O25: Insurance | P25: Charitable giving | Q25: Repair & Maintence | R25: cleaning supplies & consumables | S25: health & safety | T25: Taxi Payment | U25: Virgin Media | V25: other | AA25: Check
A26: 45352 | B26: SO | C26: C Lipton | E26: 141.67 | J26: 141.67 | AA26: =SUM(E26-F26-G26-H26-I26-J26-K26-L26-M26-N26-O26-P26-Q26-R26-S26-T26-U26-V26) -> 0
A27: 45355 | B27: DD | C27: SSE | E27: 1005.56 | N27: 1005.56 | AA27: =SUM(E27-F27-G27-H27-I27-J27-K27-L27-M27-N27-O27-P27-Q27-R27-S27-T27-U27-V27) -> 0
A28: 45355 | B28: DD | C28: SSE | E28: 390.78 | N28: 390.78 | AA28: =SUM(E28-F28-G28-H28-I28-J28-K28-L28-M28-N28-O28-P28-Q28-R28-S28-T28-U28-V28) -> 0
A29: 45369 | B29: SO | C29: F Morton | E29: 261.6 | L29: 261.6 | AA29: =SUM(E29-F29-G29-H29-I29-J29-K29-L29-M29-N29-O29-P29-Q29-R29-S29-T29-U29-V29) -> 0
A30: 45371 | B30: DD | C30: URC Trust | E30: 1938.33 | F30: 1938.33 | AA30: =SUM(E30-F30-G30-H30-I30-J30-K30-L30-M30-N30-O30-P30-Q30-R30-S30-T30-U30-V30) -> 0
A31: 45379 | B31: DD | C31: Virgin Media | E31: 19.8 | U31: 19.8 | AA31: =SUM(E31-F31-G31-H31-I31-J31-K31-L31-M31-N31-O31-P31-Q31-R31-S31-T31-U31-V31) -> 0
A32: 45357 | B32: 3327 | C32: URC Synod | D32: 45379 | E32: 63.02 | N32: 63.02 | AA32: =SUM(E32-F32-G32-H32-I32-J32-K32-L32-M32-N32-O32-P32-Q32-R32-S32-T32-U32-V32) -> 0
A33: 45357 | B33: 3328 | C33: TOA Taxis | D33: 45378 | E33: 125 | T33: 125 | AA33: =SUM(E33-F33-G33-H33-I33-J33-K33-L33-M33-N33-O33-P33-Q33-R33-S33-T33-U33-V33) -> 0
A34: 45361 | B34: 3329 | C34: M Topple | D34: 45363 | E34: 45 | K34: 45 | AA34: =SUM(E34-F34-G34-H34-I34-J34-K34-L34-M34-N34-O34-P34-Q34-R34-S34-T34-U34-V34) -> 0
A35: 45361 | B35: 3330 | C35: C Crosbie | D35: 45363 | E35: 32.78 | R35: 32.78 | AA35: =SUM(E35-F35-G35-H35-I35-J35-K35-L35-M35-N35-O35-P35-Q35-R35-S35-T35-U35-V35) -> 0
A36: 45361 | B36: 3331 | C36: John Bell LSK | D36: 45405 | E36: 88.8 | V36: 88.8 | AA36: =SUM(E36-F36-G36-H36-I36-J36-K36-L36-M36-N36-O36-P36-Q36-R36-S36-T36-U36-V36) -> 0
A37: 45375 | B37: 3333 | C37: John Collings | D37: 45377 | E37: 45 | K37: 45 | AA37: =SUM(E37-F37-G37-H37-I37-J37-K37-L37-M37-N37-O37-P37-Q37-R37-S37-T37-U37-V37) -> 0
A38: 45378 | B38: 3334 | C38: SSE | D38: 45386 | E38: 43.44 | M38: 43.44 | AA38: =SUM(E38-F38-G38-H38-I38-J38-K38-L38-M38-N38-O38-P38-Q38-R38-S38-T38-U38-V38) -> 0
A39: 45378 | B39: 3335 | C39: John Young | D39: 45385 | E39: 45 | K39: 45 | AA39: =SUM(E39-F39-G39-H39-I39-J39-K39-L39-M39-N39-O39-P39-Q39-R39-S39-T39-U39-V39) -> 0
AA40: =SUM(E40-F40-G40-H40-I40-J40-K40-L40-M40-N40-O40-P40-Q40-R40-S40-T40-U40-V40) -> 0
AA41: =SUM(E41-F41-G41-H41-I41-J41-K41-L41-M41-N41-O41-P41-Q41-R41-S41-T41-U41-V41) -> 0
AA42: =SUM(E42-F42-G42-H42-I42-J42-K42-L42-M42-N42-O42-P42-Q42-R42-S42-T42-U42-V42) -> 0
AA43: =SUM(E43-F43-G43-H43-I43-J43-K43-L43-M43-N43-O43-P43-Q43-R43-S43-T43-U43-V43) -> 0
A44: March | B44: TOTAL | E44: =SUM(E26:E43) -> 4245.78 | F44: =SUM(F26:F43) -> 1938.33 | G44: =SUM(G26:G43) -> 0 | H44: =SUM(H26:H43) -> 0 | I44: =SUM(I26:I43) -> 0 | J44: =SUM(J26:J43) -> 141.67 | K44: =SUM(K26:K43) -> 135 | L44: =SUM(L26:L43) -> 261.6 | ... V44: =SUM(V26:V43) -> 88.8 | AA44: =SUM(E44-F44-G44-H44-I44-J44-K44-L44-M44-N44-O44-P44-Q44-R44-S44-T44-U44-V44) -> -1.1368684e-13
B49: Income | C49: Expenditure | D49: Balance | F49: BANK RECONCILIATION | L49: ANNUAL RECONCILIATION
...

Sheet April
A1: Date | B1: Weekly total | C1: Cash paid out | D1: Weekly total as banked | E1: Freewill Offering Envelopes | F1: Plate | G1: Monthly Standing Orders | H1: Tea room | I1: Coffee and Chat | J1: Taxi Fund | K1: Donations | L1: Gift Aid Donations | M1: Malayalam Church | N1: Sunday Night AA Group | O1: Wed AA | P1: Friday AA | Q1: Tai Chi | R1: 6th EK Scout Group | S1: Lesley Dutch dancing | T1: Dog Training | U1: EK SNP | V1: fundraising | W1: Synod contribution | X1: Appeals | Y1: Other | AA1: CHECK
A2: April | B2: 875 | G2: 875 | AA2: =SUM(B2-E2-F2-G2-H2-I2-J2-K2-L2-M2-N2-O2-P2-Q2-R2-S2-T2-U2-V2-W2-X2-Y2) -> 0
A3: 45390 | B3: 270 | U3: 270 | AA3: =SUM(B3-E3-F3-G3-H3-I3-J3-K3-L3-M3-N3-O3-P3-Q3-R3-S3-T3-U3-V3-W3-X3-Y3) -> 0
A4: 45412 | B4: 54 | Q4: 54 | AA4: =SUM(B4-E4-F4-G4-H4-I4-J4-K4-L4-M4-N4-O4-P4-Q4-R4-S4-T4-U4-V4-W4-X4-Y4) -> 0
A5: 45406 | B5: 50 | K5: 50 | AA5: =SUM(B5-E5-F5-G5-H5-I5-J5-K5-L5-M5-N5-O5-P5-Q5-R5-S5-T5-U5-V5-W5-X5-Y5) -> 0
A6: 45384 | B6: 1339.6 | D6: 1339.6 | E6: 190 | F6: 250 | H6: 59 | I6: 95.6 | J6: 53 | K6: 80 | M6: 75 | P6: 105 | S6: 432 | AA6: =SUM(B6-E6-F6-G6-H6-I6-J6-K6-L6-M6-N6-O6-P6-Q6-R6-S6-T6-U6-V6-W6-X6-Y6) -> -1.1368684e-13
A7: 45390 | B7: 355 | D7: 355 | E7: 105 | F7: 75 | J7: 20 | M7: 75 | O7: 80 | AA7: =SUM(B7-E7-F7-G7-H7-I7-J7-K7-L7-M7-N7-O7-P7-Q7-R7-S7-T7-U7-V7-W7-X7-Y7) -> 0
A8: 45404 | B8: 369 | D8: 369 | E8: 36 | F8: 75 | H8: 52 | I8: 28 | J8: 103 | N8: 75 | AA8: =SUM(B8-E8-F8-G8-H8-I8-J8-K8-L8-M8-N8-O8-P8-Q8-R8-S8-T8-U8-V8-W8-X8-Y8) -> 0
AA9: =SUM(B9-E9-F9-G9-H9-I9-J9-K9-L9-M9-N9-O9-P9-Q9-R9-S9-T9-U9-V9-W9-X9-Y9) -> 0
AA10: =SUM(B10-E10-F10-G10-H10-I10-J10-K10-L10-M10-N10-O10-P10-Q10-R10-S10-T10-U10-V10-W10-X10-Y10) -> 0
AA11: =SUM(B11-E11-F11-G11-H11-I11-J11-K11-L11-M11-N11-O11-P11-Q11-R11-S11-T11-U11-V11-W11-X11-Y11) -> 0
AA12: =SUM(B12-E12-F12-G12-H12-I12-J12-K12-L12-M12-N12-O12-P12-Q12-R12-S12-T12-U12-V12-W12-X12-Y12) -> 0
AA13: =SUM(B13-E13-F13-G13-H13-I13-J13-K13-L13-M13-N13-O13-P13-Q13-R13-S13-T13-U13-V13-W13-X13-Y13) -> 0
AA14: =SUM(B14-E14-F14-G14-H14-I14-J14-K14-L14-M14-N14-O14-P14-Q14-R14-S14-T14-U14-V14-W14-X14-Y14) -> 0
AA15: =SUM(B15-E15-F15-G15-H15-I15-J15-K15-L15-M15-N15-O15-P15-Q15-R15-S15-T15-U15-V15-W15-X15-Y15) -> 0
AA16: =SUM(B16-E16-F16-G16-H16-I16-J16-K16-L16-M16-N16-O16-P16-Q16-R16-S16-T16-U16-V16-W16-X16-Y16) -> 0
AA17: =SUM(B17-E17-F17-G17-H17-I17-J17-K17-L17-M17-N17-O17-P17-Q17-R17-S17-T17-U17-V17-W17-X17-Y17) -> 0
B18: =SUM(B2:B16) -> 3312.6 | D18: =SUM(D2:D17) -> 2063.6 | E18: =SUM(E2:E17) -> 331 | F18: =SUM(F2:F17) -> 400 | G18: =SUM(G2:G17) -> 875 | H18: =SUM(H2:H17) -> 111 | I18: =SUM(I2:I17) -> 123.6 | J18: =SUM(J2:J17) -> 176 | K18: =SUM(K2:K17) -> 130 | ... Y18: =SUM(Y2:Y17) -> 0 | AA18: =SUM(B18-E18-F18-G18-H18-I18-J18-K18-L18-M18-N18-O18-P18-Q18-R18-S18-T18-U18-V18-W18-X18-Y18) -> 0
A24: EXPENDITURE
A25: Date | B25: Form | C25: Paid to… | D25: Date Cashed | E25: Actual Spend | F25: Central fund M&M | G25: Minister's allowances & Council Tax | H25: minister's expenses | I25: Synod contribution | J25: Organist | K25: Pulpit/Organ supply | L25: Cleaner | M25: Gas | N25: Electricity | O25: Insurance | P25: Charitable giving | Q25: Repair & Maintence | R25: cleaning supplies & consumables | S25: health & safety | T25: Taxi Payment | U25: Virgin Media | V25: other | AA25: Check
A26: 45384 | B26: SO | C26: C.Lipton | E26: 141.67 | J26: 141.67 | AA26: =SUM(E26-F26-G26-H26-I26-J26-K26-L26-M26-N26-O26-P26-Q26-R26-S26-T26-U26-V26) -> 0
A27: 45397 | B27: SO | C27: F. Morton | E27: 261.6 | L27: 261.6 | AA27: =SUM(B27-E27-F27-G27-H27-I27-J27-K27-L27-M27-N27-O27-P27-Q27-R27-S27-T27-U27-V27-W27-X27-Y27) -> #VALUE!
A28: 45404 | B28: DD | C28: URC Trust | E28: 1938.33 | F28: 1938.33 | AA28: =SUM(B28-E28-F28-G28-H28-I28-J28-K28-L28-M28-N28-O28-P28-Q28-R28-S28-T28-U28-V28-W28-X28-Y28) -> #VALUE!
A29: 45411 | B29: DD | C29: Virgin Media | E29: 19.8 | U29: 19.8 | AA29: =SUM(B29-E29-F29-G29-H29-I29-J29-K29-L29-M29-N29-O29-P29-Q29-R29-S29-T29-U29-V29-W29-X29-Y29) -> #VALUE!
A30: 45389 | B30: 3336 | C30: TOA Taxis | D30: 45456 | E30: 163.3 | T30: 163.6 | AA30: =SUM(B30-E30-F30-G30-H30-I30-J30-K30-L30-M30-N30-O30-P30-Q30-R30-S30-T30-U30-V30-W30-X30-Y30) -> 3009.1
A31: 45403 | B31: 3338 | C31: Michael Topple | D31: 45426 | E31: 45 | K31: 45 | AA31: =SUM(B31-E31-F31-G31-H31-I31-J31-K31-L31-M31-N31-O31-P31-Q31-R31-S31-T31-U31-V31-W31-X31-Y31) -> 3248
A32: 45403 | B32: 3339 | C32: John Collings | D32: 45405 | E32: 45 | K32: 45 | AA32: =SUM(B32-E32-F32-G32-H32-I32-J32-K32-L32-M32-N32-O32-P32-Q32-R32-S32-T32-U32-V32-W32-X32-Y32) -> 3249
A33: 45403 | B33: 3340 | C33: David Coulter | D33: 45405 | E33: 23 | R33: 23 | AA33: =SUM(B33-E33-F33-G33-H33-I33-J33-K33-L33-M33-N33-O33-P33-Q33-R33-S33-T33-U33-V33-W33-X33-Y33) -> 3294
AA34: =SUM(E34-F34-G34-H34-I34-J34-K34-L34-M34-N34-O34-P34-Q34-R34-S34-T34-U34-V34) -> 0
AA35: =SUM(E35-F35-G35-H35-I35-J35-K35-L35-M35-N35-O35-P35-Q35-R35-S35-T35-U35-V35) -> 0
AA36: =SUM(E36-F36-G36-H36-I36-J36-K36-L36-M36-N36-O36-P36-Q36-R36-S36-T36-U36-V36) -> 0
AA37: =SUM(E37-F37-G37-H37-I37-J37-K37-L37-M37-N37-O37-P37-Q37-R37-S37-T37-U37-V37) -> 0
AA40: =SUM(E40-F40-G40-H40-I40-J40-K40-L40-M40-N40-O40-P40-Q40-R40-S40-T40-U40-V40) -> 0
AA41: =SUM(E41-F41-G41-H41-I41-J41-K41-L41-M41-N41-O41-P41-Q41-R41-S41-T41-U41-V41) -> 0
AA42: =SUM(E42-F42-G42-H42-I42-J42-K42-L42-M42-N42-O42-P42-Q42-R42-S42-T42-U42-V42) -> 0
AA43: =SUM(E43-F43-G43-H43-I43-J43-K43-L43-M43-N43-O43-P43-Q43-R43-S43-T43-U43-V43) -> 0
A44: April | B44: TOTAL | E44: =SUM(E26:E43) -> 2637.7 | F44: =SUM(F26:F43) -> 1938.33 | G44: =SUM(G26:G43) -> 0 | H44: =SUM(H26:H43) -> 0 | I44: =SUM(I26:I43) -> 0 | J44: =SUM(J26:J43) -> 141.67 | K44: =SUM(K26:K43) -> 90 | L44: =SUM(L26:L43) -> 261.6 | ... V44: =SUM(V26:V43) -> 0 | AA44: =SUM(E44-F44-G44-H44-I44-J44-K44-L44-M44-N44-O44-P44-Q44-R44-S44-T44-U44-V44) -> -0.3
B49: Income | C49: Expenditure | D49: Balance | F49: BANK RECONCILIATION | L49: ANNUAL RECONCILIATION
A50: January | B50: =January!B15 -> 2442.28 | C50: =January!E41 -> 7129.02 | D50: =B50-C50 -> -4686.74
A51: February | B51: =February!B12 -> 2019.5 | C51: =February!E35 -> 5206.56 | D51: =B51-C51 -> -3187.06 | F51: STATEMENT | H51: 28287.04 | L51: Opening Balance | N51: 38457.72
...

Sheet May
A1: Date | B1: Weekly total | C1: Cash paid out | D1: Weekly total as banked | E1: Freewill Offering Envelopes | F1: Plate | G1: Monthly Standing Orders | H1: Tea room | I1: Coffee and Chat | J1: Taxi Fund | K1: Donations | L1: Gift Aid Donations | M1: Malayalam Church | N1: Sunday Night AA Group | O1: Wed AA | P1: Friday AA | Q1: Tai Chi | R1: 6th EK Scout Group | T1: Dog Training | U1: EK SNP | V1: fundraising | W1: Synod contribution | X1: Appeals | Y1: Other | AA1: CHECK
A2: MAY | B2: 795 | G2: 795 | AA2: =SUM(B2-E2-F2-G2-H2-I2-J2-K2-L2-M2-N2-O2-P2-Q2-R2-S2-T2-U2-V2-W2-X2-Y2) -> 0
A3: 45436 | B3: 791.52 | Y3: 791.52 | AA3: =SUM(B3-E3-F3-G3-H3-I3-J3-K3-L3-M3-N3-O3-P3-Q3-R3-S3-T3-U3-V3-W3-X3-Y3) -> 0
A4: 45436 | B4: 342.23 | Y4: 342.23 | AA4: =SUM(B4-E4-F4-G4-H4-I4-J4-K4-L4-M4-N4-O4-P4-Q4-R4-S4-T4-U4-V4-W4-X4-Y4) -> 0
A5: 45441 | B5: 72 | Q5: 72 | AA5: =SUM(B5-E5-F5-G5-H5-I5-J5-K5-L5-M5-N5-O5-P5-Q5-R5-S5-T5-U5-V5-W5-X5-Y5) -> 0
A6: 45419 | B6: 715.48 | D6: 715.48 | E6: 180 | F6: 95 | H6: 33.3 | I6: 22 | J6: 30 | M6: 75 | P6: 118.18 | S6: 162 | AA6: =SUM(B6-E6-F6-G6-H6-I6-J6-K6-L6-M6-N6-O6-P6-Q6-R6-S6-T6-U6-V6-W6-X6-Y6) -> 0
A7: 45433 | B7: 326.2 | D7: 326.2 | E7: 65 | F7: 105 | H7: 23 | I7: 35.9 | J7: 30 | K7: 67.3 | AA7: =SUM(B7-E7-F7-G7-H7-I7-J7-K7-L7-M7-N7-O7-P7-Q7-R7-S7-T7-U7-V7-W7-X7-Y7) -> -1.4210855e-14
AA8: =SUM(B8-E8-F8-G8-H8-I8-J8-K8-L8-M8-N8-O8-P8-Q8-R8-S8-T8-U8-V8-W8-X8-Y8) -> 0
AA9: =SUM(B9-E9-F9-G9-H9-I9-J9-K9-L9-M9-N9-O9-P9-Q9-R9-S9-T9-U9-V9-W9-X9-Y9) -> 0
AA10: =SUM(B10-E10-F10-G10-H10-I10-J10-K10-L10-M10-N10-O10-P10-Q10-R10-S10-T10-U10-V10-W10-X10-Y10) -> 0
AA11: =SUM(B11-E11-F11-G11-H11-I11-J11-K11-L11-M11-N11-O11-P11-Q11-R11-S11-T11-U11-V11-W11-X11-Y11) -> 0
AA12: =SUM(B12-E12-F12-G12-H12-I12-J12-K12-L12-M12-N12-O12-P12-Q12-R12-S12-T12-U12-V12-W12-X12-Y12) -> 0
AA13: =SUM(B13-E13-F13-G13-H13-I13-J13-K13-L13-M13-N13-O13-P13-Q13-R13-S13-T13-U13-V13-W13-X13-Y13) -> 0
AA14: =SUM(B14-E14-F14-G14-H14-I14-J14-K14-L14-M14-N14-O14-P14-Q14-R14-S14-T14-U14-V14-W14-X14-Y14) -> 0
AA15: =SUM(B15-E15-F15-G15-H15-I15-J15-K15-L15-M15-N15-O15-P15-Q15-R15-S15-T15-U15-V15-W15-X15-Y15) -> 0
AA16: =SUM(B16-E16-F16-G16-H16-I16-J16-K16-L16-M16-N16-O16-P16-Q16-R16-S16-T16-U16-V16-W16-X16-Y16) -> 0
AA17: =SUM(B17-E17-F17-G17-H17-I17-J17-K17-L17-M17-N17-O17-P17-Q17-R17-S17-T17-U17-V17-W17-X17-Y17) -> 0
B18: =SUM(B2:B16) -> 3042.43 | D18: =SUM(D2:D17) -> 1041.68 | E18: =SUM(E2:E17) -> 245 | F18: =SUM(F2:F17) -> 200 | G18: =SUM(G2:G17) -> 795 | H18: =SUM(H2:H17) -> 56.3 | I18: =SUM(I2:I17) -> 57.9 | J18: =SUM(J2:J17) -> 60 | K18: =SUM(K2:K17) -> 67.3 | ... Y18: =SUM(Y2:Y17) -> 1133.75 | AA18: =SUM(B18-E18-F18-G18-H18-I18-J18-K18-L18-M18-N18-O18-P18-Q18-R18-S18-T18-U18-V18-W18-X18-Y18) -> -2.2737368e-13
A24: EXPENDITURE
A25: Date | B25: Form | C25: Paid to… | D25: Date Cashed | E25: Actual Spend | F25: Central fund M&M | G25: Minister's allowances & Council Tax | H25: minister's expenses | I25: Synod contribution | J25: Organist | K25: Pulpit/Organ supply | L25: Cleaner | M25: Gas | N25: Electricity | O25: Insurance | P25: Charitable giving | Q25: Repair & Maintence | R25: cleaning supplies & consumables | S25: health & safety | T25: Taxi Payment | U25: Virgin Media | V25: other | AA25: Check
A26: 45413 | B26: S/O | C26: C Lipton | E26: 141.67 | J26: 141.67 | AA26: =SUM(E26-F26-G26-H26-I26-J26-K26-L26-M26-N26-O26-P26-Q26-R26-S26-T26-U26-V26) -> 0
A27: 45425 | B27: S/O | C27: F Morton | E27: 261.6 | L27: 261.6 | AA27: =SUM(E27-F27-G27-H27-I27-J27-K27-L27-M27-N27-O27-P27-Q27-R27-S27-T27-U27-V27) -> 0
A28: 45432 | B28: D/D | C28: URC Trust | E28: 1938.33 | F28: 1983.33
A29: 45440 | B29: D/D | C29: Virgin | E29: 19.8 | U29: 19.8 | AA29: =SUM(E29-F29-G29-H29-I29-J29-K29-L29-M29-N29-O29-P29-Q29-R29-S29-T29-U29-V29) -> 0
A30: 45417 | B30: 3341 | C30: D Coulter | D30: 07/0524 | E30: 16.49 | R30: 16.49 | AA30: =SUM(E30-F30-G30-H30-I30-J30-K30-L30-M30-N30-O30-P30-Q30-R30-S30-T30-U30-V30) -> 0
A31: 45420 | B31: 3342 | C31: EK TOA Taxi | D31: 45456 | E31: 165.7 | T31: 165.7 | AA31: =SUM(E31-F31-G31-H31-I31-J31-K31-L31-M31-N31-O31-P31-Q31-R31-S31-T31-U31-V31) -> 0
A32: 45420 | B32: 3343 | C32: Verastar Ltd | D32: 45428 | E32: 172.75 | V32: 172.75 | AA32: =SUM(E32-F32-G32-H32-I32-J32-K32-L32-M32-N32-O32-P32-Q32-R32-S32-T32-U32-V32) -> 0
A33: 45424 | B33: 3344 | C33: Y Hamilton | D33: 45426 | E33: 45 | K33: 45 | AA33: =SUM(E33-F33-G33-H33-I33-J33-K33-L33-M33-N33-O33-P33-Q33-R33-S33-T33-U33-V33) -> 0
A34: 45427 | B34: 3345 | C34: URC Church | D34: 45433 | E34: 290 | V34: 290 | AA34: =SUM(E27-F27-G27-H27-I27-J27-K27-L27-M27-N27-O27-P27-Q27-R27-S27-T27-U27-V27) -> 0
A35: 45431 | B35: 3346 | C35: J Collings | D35: 45433 | E35: 45 | K35: 45 | AA35: =SUM(E35-F35-G35-H35-I35-J35-K35-L35-M35-N35-O35-P35-Q35-R35-S35-T35-U35-V35) -> 0
A36: 45431 | B36: 3347 | C36: Christian Aid | D36: 45464 | E36: 70 | P36: 70 | AA36: =SUM(E36-F36-G36-H36-I36-J36-K36-L36-M36-N36-O36-P36-Q36-R36-S36-T36-U36-V36) -> 0
AA37: =SUM(E37-F37-G37-H37-I37-J37-K37-L37-M37-N37-O37-P37-Q37-R37-S37-T37-U37-V37) -> 0
AA38: =SUM(E38-F38-G38-H38-I38-J38-K38-L38-M38-N38-O38-P38-Q38-R38-S38-T38-U38-V38) -> 0
AA39: =SUM(E39-F39-G39-H39-I39-J39-K39-L39-M39-N39-O39-P39-Q39-R39-S39-T39-U39-V39) -> 0
AA40: =SUM(#REF!-#REF!-#REF!-#REF!-#REF!-#REF!-#REF!-#REF!-#REF!-#REF!-#REF!-#REF!-#REF!-#REF!-#REF!-T40-U40-V40) -> #REF!
AA41: =SUM(E40-F40-G40-H40-I40-J40-K40-L40-M40-N40-O40-P40-Q40-R40-S40-T41-U41-V41) -> 0
AA42: =SUM(E41-F41-G41-H41-I41-J41-K41-L41-M41-N41-O41-P41-Q41-R41-S41-T42-U42-V42) -> 0
A43: May | B43: TOTAL | E43: =SUM(E26:E42) -> 3166.34 | F43: =SUM(F26:F42) -> 1983.33 | G43: =SUM(G26:G42) -> 0 | H43: =SUM(H26:H42) -> 0 | I43: =SUM(I26:I42) -> 0 | J43: =SUM(J26:J42) -> 141.67 | K43: =SUM(K26:K42) -> 90 | L43: =SUM(L26:L42) -> 261.6 | ... S43: =SUM(S26:S42) -> 0 | AA43: =SUM(E42-F42-G42-H42-I42-J42-K42-L42-M42-N42-O42-P42-Q42-R42-S42-T43-U43-V43) -> 0
T44: =SUM(T26:T43) -> 165.7 | U44: =SUM(U26:U43) -> 19.8 | V44: =SUM(V26:V43) -> 462.75
B49: Income | C49: Expenditure | D49: Balance | F49: BANK RECONCILIATION | L49: ANNUAL RECONCILIATION
...

Sheet June
A1: Date | B1: Weekly total | C1: Cash paid out | D1: Weekly total as banked | E1: Freewill Offering Envelopes | F1: Plate | G1: Monthly Standing Orders | H1: Tea room | I1: Coffee and Chat | J1: Taxi Fund | K1: Donations | L1: Gift Aid Donations | M1: Malayalam Church | N1: Sunday Night AA Group | O1: Wed AA | P1: Friday AA | Q1: Tai Chi | R1: 6th EK Scout Group | S1: Lesley Dutch dancing | T1: Dog Training | U1: EK SNP | V1: fundraising | W1: Synod contribution | X1: Appeals | Y1: Other | AA1: CHECK
A2: JUNE | B2: 805 | G2: 805 | AA2: =SUM(B2-E2-F2-G2-H2-I2-J2-K2-L2-M2-N2-O2-P2-Q2-R2-S2-T2-U2-V2-W2-X2-Y2) -> 0
A3: 45453 | B3: 859.4 | D3: 859.4 | E3: 201 | F3: 193 | H3: 65.4 | I3: 44 | J3: 65 | N3: 75 | S3: 216 | AA3: =SUM(B3-E3-F3-G3-H3-I3-J3-K3-L3-M3-N3-O3-P3-Q3-R3-S3-T3-U3-V3-W3-X3-Y3) -> 0
AA4: =SUM(B4-E4-F4-G4-H4-I4-J4-K4-L4-M4-N4-O4-P4-Q4-R4-S4-T4-U4-V4-W4-X4-Y4) -> 0
AA5: =SUM(B5-E5-F5-G5-H5-I5-J5-K5-L5-M5-N5-O5-P5-Q5-R5-S5-T5-U5-V5-W5-X5-Y5) -> 0
AA6: =SUM(B6-E6-F6-G6-H6-I6-J6-K6-L6-M6-N6-O6-P6-Q6-R6-S6-T6-U6-V6-W6-X6-Y6) -> 0
AA7: =SUM(B7-E7-F7-G7-H7-I7-J7-K7-L7-M7-N7-O7-P7-Q7-R7-S7-T7-U7-V7-W7-X7-Y7) -> 0
AA8: =SUM(B8-E8-F8-G8-H8-I8-J8-K8-L8-M8-N8-O8-P8-Q8-R8-S8-T8-U8-V8-W8-X8-Y8) -> 0
AA9: =SUM(B9-E9-F9-G9-H9-I9-J9-K9-L9-M9-N9-O9-P9-Q9-R9-S9-T9-U9-V9-W9-X9-Y9) -> 0
AA10: =SUM(B10-E10-F10-G10-H10-I10-J10-K10-L10-M10-N10-O10-P10-Q10-R10-S10-T10-U10-V10-W10-X10-Y10) -> 0
AA11: =SUM(B11-E11-F11-G11-H11-I11-J11-K11-L11-M11-N11-O11-P11-Q11-R11-S11-T11-U11-V11-W11-X11-Y11) -> 0
AA12: =SUM(B12-E12-F12-G12-H12-I12-J12-K12-L12-M12-N12-O12-P12-Q12-R12-S12-T12-U12-V12-W12-X12-Y12) -> 0
AA13: =SUM(B13-E13-F13-G13-H13-I13-J13-K13-L13-M13-N13-O13-P13-Q13-R13-S13-T13-U13-V13-W13-X13-Y13) -> 0
AA14: =SUM(B14-E14-F14-G14-H14-I14-J14-K14-L14-M14-N14-O14-P14-Q14-R14-S14-T14-U14-V14-W14-X14-Y14) -> 0
AA15: =SUM(B15-E15-F15-G15-H15-I15-J15-K15-L15-M15-N15-O15-P15-Q15-R15-S15-T15-U15-V15-W15-X15-Y15) -> 0
... AA17: =SUM(B17-E17-F17-G17-H17-I17-J17-K17-L17-M17-N17-O17-P17-Q17-R17-S17-T17-U17-V17-W17-X17-Y17) -> 0
B18: =SUM(B2:B16) -> 1664.4 | D18: =SUM(D2:D17) -> 859.4 | E18: =SUM(E2:E17) -> 201 | F18: =SUM(F2:F17) -> 193 | G18: =SUM(G2:G17) -> 805 | H18: =SUM(H2:H17) -> 65.4 | I18: =SUM(I2:I17) -> 44 | J18: =SUM(J2:J17) -> 65 | K18: =SUM(K2:K17) -> 0 | ... Y18: =SUM(Y2:Y17) -> 0 | AA18: =SUM(B18-E18-F18-G18-H18-I18-J18-K18-L18-M18-N18-O18-P18-Q18-R18-S18-T18-U18-V18-W18-X18-Y18) -> 1.1368684e-13
A24: EXPENDITURE
A25: Date | B25: Form | C25: Paid to… | D25: Date Cashed | E25: Actual Spend | F25: Central fund M&M | G25: Minister's allowances & Council Tax | H25: minister's expenses | I25: Synod contribution | J25: Organist | K25: Pulpit/Organ supply | L25: Cleaner | M25: Gas | N25: Electricity | O25: Insurance | P25: Charitable giving | Q25: Repair & Maintence | R25: cleaning supplies & consumables | S25: health & safety | T25: Taxi Payment | U25: Virgin Media | V25: other | AA25: Check
A26: 45446 | B26: S/0 | C26: C Lipton | E26: 141.67 | J26: 141.67 | AA26: =SUM(E26-F26-G26-H26-I26-J26-K26-L26-M26-N26-O26-P26-Q26-R26-S26-T26-U26-V26) -> 0
A27: 45453 | B27: S/O | C27: F Morton | E27: 261.6 | L27: 261.6 | AA27: =SUM(E27-F27-G27-H27-I27-J27-K27-L27-M27-N27-O27-P27-Q27-R27-S27-T27-U27-V27) -> 0
A28: 45463 | B28: D/D | C28: URC Trust | E28: 1938.33 | F28: 1938.33 | AA28: =SUM(E28-F28-G28-H28-I28-J28-K28-L28-M28-N28-O28-P28-Q28-R28-S28-T28-U28-V28) -> 0
A29: 45471 | B29: D/D | C29: Virgin Media | E29: 39.6 | U29: 39.6 | AA29: =SUM(E29-F29-G29-H29-I29-J29-K29-L29-M29-N29-O29-P29-Q29-R29-S29-T29-U29-V29) -> 0
A30: 45445 | B30: 3348 | C30: SSE | D30: 45453 | E30: 1089.43 | N30: 1089.43 | AA30: =SUM(E30-F30-G30-H30-I30-J30-K30-L30-M30-N30-O30-P30-Q30-R30-S30-T30-U30-V30) -> 0
A31: 45452 | B31: 3349 | C31: Y Hamilton | D31: 45454 | E31: 45 | K31: 45 | AA31: =SUM(E31-F31-G31-H31-I31-J31-K31-L31-M31-N31-O31-P31-Q31-R31-S31-T31-U31-V31) -> 0
A32: 45455 | B32: 3350 | C32: EK TOA | D32: 45525 | E32: 134.6 | T32: 134.6 | AA32: =SUM(E32-F32-G32-H32-I32-J32-K32-L32-M32-N32-O32-P32-Q32-R32-S32-T32-U32-V32) -> 0
A33: 45466 | B33: 3351 | C33: J Collings | D33: 45468 | E33: 45 | K33: 45 | AA33: =SUM(E33-F33-G33-H33-I33-J33-K33-L33-M33-N33-O33-P33-Q33-R33-S33-T33-U33-V33) -> 0
AA34: =SUM(E34-F34-G34-H34-I34-J34-K34-L34-M34-N34-O34-P34-Q34-R34-S34-T34-U34-V34) -> 0
AA35: =SUM(E35-F35-G35-H35-I35-J35-K35-L35-M35-N35-O35-P35-Q35-R35-S35-T35-U35-V35) -> 0
AA36: =SUM(E36-F36-G36-H36-I36-J36-K36-L36-M36-N36-O36-P36-Q36-R36-S36-T36-U36-V36) -> 0
AA37: =SUM(E37-F37-G37-H37-I37-J37-K37-L37-M37-N37-O37-P37-Q37-R37-S37-T37-U37-V37) -> 0
AA38: =SUM(E38-F38-G38-H38-I38-J38-K38-L38-M38-N38-O38-P38-Q38-R38-S38-T38-U38-V38) -> 0
AA39: =SUM(E39-F39-G39-H39-I39-J39-K39-L39-M39-N39-O39-P39-Q39-R39-S39-T39-U39-V39) -> 0
AA40: =SUM(E40-F40-G40-H40-I40-J40-K40-L40-M40-N40-O40-P40-Q40-R40-S40-T40-U40-V40) -> 0
AA41: =SUM(E41-F41-G41-H41-I41-J41-K41-L41-M41-N41-O41-P41-Q41-R41-S41-T41-U41-V41) -> 0
AA42: =SUM(E42-F42-G42-H42-I42-J42-K42-L42-M42-N42-O42-P42-Q42-R42-S42-T42-U42-V42) -> 0
AA43: =SUM(E43-F43-G43-H43-I43-J43-K43-L43-M43-N43-O43-P43-Q43-R43-S43-T43-U43-V43) -> 0
A44: June | B44: TOTAL | E44: =SUM(E26:E43) -> 3695.23 | F44: =SUM(F26:F43) -> 1938.33 | G44: =SUM(G26:G43) -> 0 | H44: =SUM(H26:H43) -> 0 | I44: =SUM(I26:I43) -> 0 | J44: =SUM(J26:J43) -> 141.67 | K44: =SUM(K26:K43) -> 90 | L44: =SUM(L26:L43) -> 261.6 | ... V44: =SUM(V26:V43) -> 0 | AA44: =SUM(E44-F44-G44-H44-I44-J44-K44-L44-M44-N44-O44-P44-Q44-R44-S44-T44-U44-V44) -> 4.9737992e-14
B49: Income | C49: Expenditure | D49: Balance | F49: BANK RECONCILIATION | L49: ANNUAL RECONCILIATION
A50: January | B50: =January!B15 -> 2442.28 | C50: =January!E41 -> 7129.02 | D50: =B50-C50 -> -4686.74
...

Sheet July
A1: Date | B1: Weekly total | C1: Cash paid out | D1: Weekly total as banked | E1: Freewill Offering Envelopes | F1: Plate | G1: Monthly Standing Orders | H1: Tea room | I1: Coffee and Chat | J1: Taxi Fund | K1: Donations | L1: Gift Aid Donations | M1: Malayalam Church | N1: Sunday Night AA Group | O1: Wed AA | P1: Friday AA | Q1: Tai Chi | R1: 6th EK Scout Group | S1: Lesley Dutch dancing | T1: Dog Training | U1: EK SNP | V1: fundraising | W1: Synod contribution | X1: Appeals | Y1: Other | AA1: CHECK
A2: 45474 | B2: 1015 | G2: 1015 | AA2: =SUM(B2-E2-F2-G2-H2-I2-J2-K2-L2-M2-N2-O2-P2-Q2-R2-S2-T2-U2-V2-W2-X2-Y2) -> 0
A3: 45474 | B3: 72 | Q3: 72 | AA3: =SUM(B3-E3-F3-G3-H3-I3-J3-K3-L3-M3-N3-O3-P3-Q3-R3-S3-T3-U3-V3-W3-X3-Y3) -> 0
A4: 45482 | B4: 40 | H4: 40 | AA4: =SUM(B4-E4-F4-G4-H4-I4-J4-K4-L4-M4-N4-O4-P4-Q4-R4-S4-T4-U4-V4-W4-X4-Y4) -> 0
