Workbook

Sheet To September 30 2025
A1: CRIEFF CONGREGATION OF JEHOVAH'S WITNESSES
A2: Charity in Scotland, SC006269, regulated by the Scottish Charity Regulator (OSCR)
A3: HMRC Tax Ref No CR42356
A4: STATEMENT OF FINANCIAL ACTIVITIES
A5: For the Period Ended September 30, 2025
G7: Unrestricted | J7: Total
G8: Funds | J8: Fund
G9: To 30-9-26 | J9: 2025
G10: £ | J10: £
A11: RECEIPTS
A12: Voluntary Sources
A13: Congregation Contribution | G13: =April!C4+May!C4+June!C4+July!C4+Aug!C4+Sept!C4 -> 4882.5 | J13: 8871.25
A14: Gift Aid Donation | G14: =April!C5 -> 50 | J14: 1100
A15: Small Cash Donation | G15: =April!C6+May!C6+July!C6+Sept!C6 -> 90 | J15: 697.26
G16: =SUM(G13:G15) -> 5022.5 | J16: =SUM(J13:J15) -> 10668.51
A18: Other Sources
A20: Tax Repayment – HMRC | G20: 0 | J20: 213
A21: Interest - HMRC | G21: 0 | J21: 3
J22: =SUM(J20:J21) -> 216
A24: TOTAL RECEIPTS | G24: =SUM(G16+G22) -> 5022.5 | J24: =J16+J20+J21+J22 -> 11100.51
A27: PAYMENTS
A28: Direct Charitable Expenditure
A29: Donation To Watch Tower/ IBSA | E29: (resolutions) | G29: =April!C12+May!C12+June!C12+July!C12+Aug!C12+Sept!C12 -> 2100 | J29: 8000
A30: Other Donations – Perth NM Cong. Gaelic Cart | G30: 0 | J30: 175
G31: =SUM(G29:G30) -> 2100 | J31: =SUM(J29:J30) -> 8175
A33: Other Expenditure
A34: Kingdom Hall Operation and Maintenance | G34: =April!C13+April!C14+April!C15+April!C17+May!C18+May!C13+May!C14+June!C13+June!C14+June!C16+June!C17+July!C18+July!C14+July!C15+Aug!C14+Aug!C15+Aug!C17+Sept!C13+Sept!C14+Sept!C15+Sept!C16 -> 1382.39 | J34: 3158
A35: CO Visit | G35: 0 | J35: 135
A36: Assembly/Convention Coaches | G36: =Aug!C18 -> 1560 | J36: 1320
A37: Recurring Minor Expenses (Visiting Speaker/printing etc) | G37: =April!C16+June!C15+Aug!C16+Sept!C17 -> 233.82 | J37: 103
A38: Miscellaneous | J38: 1053
G39: =SUM(G34:G38) -> 3176.21 | J39: =SUM(J34:J38) -> 5769
A41: TOTAL PAYMENTS | G41: =G31+G39 -> 5276.21 | J41: =J31+J39 -> 13944
A44: NET INCREASE/DECREASE IN FUNDS | G44: =G24-G41 -> -253.71 | J44: =J24-J41 -> -2843.49
A46: Movements In Funds
A48: Funds of the Charity at 31 March 25 | J48: 1473.91
A49: Net Movement during the year | G49: =G44 -> -253.71
A50: Funds of the Charity at 30 September 2025 | G50: =J48+G49 -> 1220.2
A55: CRIEFF CONGREGATION OF JEHOVAH'S WITNESSES
A56: Charity in Scotland, SC006269, regulated by the Scottish Charity Regulator (OSCR)
...

Sheet April
A1: Brought Forward | C1: 1907.54
A2: Receipts
A4: Congregation Contribution (electronic) | C4: 787.5
A5: Gift Aid Donation | C5: 50
A6: Small Cash Donation | C6: 70
A7: Other
A8: Total | C8: =SUM(C4:C7) -> 907.5
A11: Disbursements
A12: Worldwide Work (Resolution) | C12: 350
A13: BT | C13: 31.2
A14: SSE | C14: 86.73
A15: Corona | C15: 45.61
A16: Memorial Flowers | C16: 123.22
A17: Keys | C17: 66
A18: Table | C18: 14
A19: Total Congregation Expenditures | C19: =SUM(C12:C18) -> 716.76
A22: Deficit | C22: =C8-C19 -> 190.74
A24: Total Funds at End of Month | C24: =C1+C8-C19 -> 2098.28

Sheet May
A1: Brought Forward | C1: =April!C24 -> 2098.28
A2: Receipts
A4: Congregation Contribution (electronic) | C4: 815
A5: Gift Aid Donation
A6: Small Cash Donation | C6: 20
A7: Other
A8: Total | C8: =SUM(C4:C7) -> 835
A11: Disbursements
A12: Worldwide Work (Resolution) | C12: 350
A13: BT | C13: 31.2
A14: Crown | C14: 57.39
A15: Total Congregation Expenditures | C15: =SUM(C12:C14) -> 438.59
A18: Deficit | C18: =C8-C15 -> 396.41
A20: Total Funds at End of Month | C20: =C1+C8-C15 -> 2494.69

Sheet June
A1: Brought Forward | C1: =May!C20 -> 2494.69
A2: Receipts
A4: Congregation Contribution (electronic) | C4: 755
A5: Gift Aid Donation
A6: Small Cash Donation
A7: WWW
A8: Total | C8: =SUM(C4:C7) -> 755
A11: Disbursements
A12: Worldwide Work (Resolution) | C12: 350
A13: BT Group PLC | C13: 31.2
A14: Steven Alberts | C14: 105
A15: Bryan Wilkinson | C15: 57.4
A16: Corona Energy Reta | C16: 60.51
A17: Crown | C17: 71.72
A18: Corona Energy Reta | C18: 56.6
A19: Total Congregation Expenditures | C19: =SUM(C12:C18) -> 732.43
A21: Other Disbursements
A22: WWW
A23: Deficit | C23: =C8-C19 -> 22.57
A25: Total Funds at End of Month | C25: =C1+C8-C19-C22 -> 2517.26

Sheet July
A1: Brought Forward | C1: =June!C25 -> 2517.26
A2: Receipts
A4: Congregation Contribution (electronic) | C4: 695
A5: Gift Aid Donation
A6: Small Cash Donation
A7: WWW
A8: Total | C8: =SUM(C4:C7) -> 695
A11: Disbursements
A12: Worldwide Work (Resolution) | C12: 350
A14: BT Group PLC | C14: 31.2
A15: Corona Energy Reta | C15: 52.68
A16: Total Congregation Expenditures | C16: =SUM(C12:C15) -> 433.88
A18: Other Disbursements
A19: WWW
A20: Deficit | C20: =C8-C16 -> 261.12
A22: Total Funds at End of Month | C22: =C1+C8-C16-C19 -> 2778.38

Sheet Aug
A1: Brought Forward | C1: =July!C22 -> 2778.38
A2: Receipts
A4: Congregation Contribution (electronic) | C4: 990
A5: Gift Aid Donation
A6: Small Cash Donation
A7: WWW
A8: Total | C8: =SUM(C4:C7) -> 990
A11: Disbursements
A12: Worldwide Work (Resolution) | C12: 350
A14: BT Group PLC | C14: 31.2
A15: Crown | C15: 7.46
A16: Mr S Murray | C16: 20.4
A17: Corona Energy Reta | C17: 55.2
A18: Convention Coach - J Docherty | C18: 1560
A19: Total Congregation Expenditures | C19: =SUM(C12:C18) -> 2024.26
A21: Other Disbursements
A22: WWW
A23: Deficit | C23: =C8-C19 -> -1034.26
A25: Total Funds at End of Month | C25: =C1+C8-C19-C22 -> 1744.12

Sheet Sept
A1: Brought Forward | C1: =Aug!C25 -> 1744.12
A2: Receipts
A4: Congregation Contribution (electronic) | C4: 840
A5: Gift Aid Donation
A6: Small Cash Donation
A7: WWW
A8: Total | C8: =SUM(C4:C7) -> 840
A11: Disbursements
A12: Worldwide Work (Resolution) | C12: 350
A13: E Juriewicz | C13: 128
A14: BT Group PLC | C14: 31.2
A15: Crown | C15: 9.23
A16: Corona Energy Reta | C16: 53.25
A17: Bob Grove - Speaker | C17: 32.8
A19: Total Congregation Expenditures | C19: =SUM(C12:C17) -> 604.48
A21: Other Disbursements
A22: WWW
A23: Deficit | C23: =C8-C19 -> 235.52
A25: Total Funds at End of Month | C25: =C1+C8-C19-C22 -> 1979.64
