Workbook

Sheet RECONCILLIATION
A1: Friends of Ashton - Accounts for YE 31st AUGUST 2025
A4: Opening Balance as of 01 SEPT 2024 | B4: 73874.24
A5: Incoming Grants 24-25 | B5: ='GRANTS & OTHER INCOME'!C51 -> 123312.51 | F5: Signed by all Trustees as correct
A6: Expenditure 24-25 | B6: ='Yearly Overview'!D15 -> 97113.73 | G6: N.Lavery
A7: Closing Balance as of 31 AUG 2025 | B7: =SUM(B4+B5-B6) -> 100073.02 | G7: S.Kerr
G8: A.Ferrie
G9: L.McGill
G10: C.Sheridan
A11: Accounts prepared by: | B11: D.McMahon | G11: J.Fegan
A13: Date: | B13: 46197

Sheet GRANTS & OTHER INCOME
A1: Friends of Ashton | B1: Year summary of Grants and Other Income
A2: Year Ended 31st Aug 2025 | B2: Sept 2024 - Aug 2025
A3: Account Balance at beginning of year: | C3: 73874.24
A4: GRANTS
A5: Month Paid In | B5: Source of Funding | C5: Amount | D5: Monthly Incomes
A6: September 2024 | B6: Vegware Limited | C6: 50
B7: Donation | C7: 500
B8: Nadezda Foundation | C8: 1000
B9: Groundwork UK | C9: 500
B10: Grant | C10: 4000 | D10: =SUM(C6:C10) -> 6050
A11: October 2024 | B11: Vegware Limited | C11: 50
B12: Shepherd and Wedde | C12: 1400
B13: Grant | C13: 5000 | D13: =SUM(C11:C13) -> 6450
A14: November 2024 | B14: Vegware Limited | C14: 50
B15: WBG Services | C15: 1000
B16: Donation | C16: 750
B17: Nairn Family Trust | C17: 26000
B18: Hugh Stenhouse | C18: 1100
B19: Foundation Scotland | C19: 3038.51
B20: Radio Clyde Cash for Kids | C20: 2300
B21: RS MacDonald | C21: 3000 | D21: =SUM(C14:C21) -> 37238.51
A22: December 2024 | B22: Vegware Limited | C22: 50
B23: Grant Donation | C23: 25000
B24: The Green Hall Foundation | C24: 2000
B25: Grant | C25: 7000
B26: M V Millhouse Trust | C26: 1000
B27: Robina Goodlad Memorial | C27: 1750 | D27: =SUM(C22:C27) -> 36800
A28: January 2025 | B28: Vegware Limited | C28: 50
B29: Foundation Scotland | C29: 7600
B30: Greggs Foundation | C30: 1960
B31: VM Current | C31: 250 | D31: =SUM(C28:C31) -> 9860
A32: February 2025 | B32: Vegware Limited | C32: 50
B33: Turcan Connell | C33: 2000
B34: Foundation Scotland | C34: 3000
B35: The Trades House of Glasgow | C35: 2000 | D35: =SUM(C32:C35) -> 7050
A36: March 2025 | B36: Vegware Limited | C36: 50
B37: Glasgow City Council | C37: 4392
B38: Green Action Trust | C38: 5305 | D38: =SUM(C36:C38) -> 9747
A39: April 2025 | B39: Vegware Limited | C39: 50
B40: Henderson Loggie | C40: 3700
...

Sheet Yearly Overview
A1: Yearly Overview
B2: Starting Balance | C2: Paid in | D2: Paid Out | E2: Balance Remaining
A3: 45536 | B3: =RECONCILLIATION!B4 -> 73874.24 | C3: ='GRANTS & OTHER INCOME'!D10 -> 6050 | D3: ='SEPT 2024'!D13 -> 4720 | E3: =B3+C3-D3 -> 75204.24
A4: 45566 | B4: =E3 -> 75204.24 | C4: ='GRANTS & OTHER INCOME'!D13 -> 6450 | D4: ='OCT 2024'!D13 -> 3667.56 | E4: =SUM(E3+C4)-D4 -> 77986.68
A5: 45597 | B5: =E4 -> 77986.68 | C5: ='GRANTS & OTHER INCOME'!D21 -> 37238.51 | D5: ='NOV 2024'!D9 -> 4953.4 | E5: =SUM(E4+C5)-D5 -> 110271.79
A6: 45627 | B6: =E5 -> 110271.79 | C6: ='GRANTS & OTHER INCOME'!D27 -> 36800 | D6: ='DEC 2024'!D14 -> 14966.19 | E6: =SUM(E5+C6)-D6 -> 132105.6
A7: 45658 | B7: =E6 -> 132105.6 | C7: ='GRANTS & OTHER INCOME'!D31 -> 9860 | D7: ='JAN 2025'!D10 -> 9498.42 | E7: =SUM(E6+C7)-D7 -> 132467.18
A8: 45689 | B8: =E7 -> 132467.18 | C8: ='GRANTS & OTHER INCOME'!D35 -> 7050 | D8: ='FEB 2025'!D8 -> 6457.9 | E8: =SUM(E7+C8)-D8 -> 133059.28
A9: 45717 | B9: =E8 -> 133059.28 | C9: ='GRANTS & OTHER INCOME'!D38 -> 9747 | D9: ='MAR 2025'!D13 -> 18 | E9: =SUM(E8+C9)-D9 -> 142788.28
A10: 45748 | B10: =E9 -> 142788.28 | C10: ='GRANTS & OTHER INCOME'!D42 -> 6560 | D10: ='APR 2025'!D13 -> 3899.11 | E10: =SUM(E9+C10)-D10 -> 145449.17
A11: 45778 | B11: =E10 -> 145449.17 | C11: ='GRANTS & OTHER INCOME'!D44 -> 550 | D11: ='MAY 2025'!D13 -> 10980.43 | E11: =SUM(E10+C11)-D11 -> 135018.74
A12: 45809 | B12: =E11 -> 135018.74 | C12: ='GRANTS & OTHER INCOME'!D46 -> 300 | D12: ='JUN 2025'!D12 -> 27374.27 | E12: =SUM(E11+C12)-D12 -> 107944.47
A13: 45839 | B13: =E12 -> 107944.47 | C13: ='GRANTS & OTHER INCOME'!D47 -> 50 | D13: ='JUL 2025'!D12 -> 6199.44 | E13: =SUM(E12+C13)-D13 -> 101795.03
A14: 45870 | B14: =E13 -> 101795.03 | C14: ='GRANTS & OTHER INCOME'!D50 -> 2657 | D14: ='AUG 2025 '!D7 -> 4379.01 | E14: =SUM(E13+C14)-D14 -> 100073.02
C15: =SUM(C3:C14) -> 123312.51 | D15: =SUM(D3:D14) -> 97113.73

Sheet SEPT 2024
A1: 45536 | B1: Outgoings
A3: DATE | B3: DESCRIPTION | C3: CHEQUE NO. | D3: AMOUNT
A5: 45903 | B5: Consultancy Fees - | C5: 86 | D5: 3000
A6: 45920 | B6: Immersive Room Flooring | C6: 87 | D6: 1702
A7: 45925 | B7: Just Giving Subs | D7: 18
D13: =SUM(D5:D12) -> 4720

Sheet OCT 2024
A1: 45566
A3: DATE | B3: DESCRIPTION | C3: CHEQUE NO. | D3: AMOUNT
A5: 45938 | B5: Café Resources | C5: 91 | D5: 226.57
B6: Bike Maintenance / DIY | C6: 89 | D6: 66.65
A7: 45944 | B7: Consultancy | C7: 92 | D7: 2426
A8: 45945 | B8: Café on Tour | C8: 90 | D8: 904.26
A9: 45951 | B9: Garden/DIY Exps | C9: 88 | D9: 26.08
A10: 45955 | B10: Just Giving Subs | D10: 18
D13: =SUM(D5:D12) -> 3667.56

Sheet NOV 2024
A1: 45597
A3: DATE | B3: DESCRIPTION | C3: CHEQUE NO. | D3: AMOUNT
A4: 45621 | B4: Just Giving Subs | D4: 18
B5: Café | C5: 96 | D5: 435.4
A6: 45622 | B6: Consultancy Fees | C6: 93 | D6: 4500
D9: =SUM(D4:D8) -> 4953.4

Sheet DEC 2024
A1: 45627
A3: DATE | B3: DESCRIPTION | C3: CHEQUE NO. | D3: AMOUNT
A4: 45629 | B4: Bikes | C4: 94 | D4: 2568
B5: Gym | C5: 98 | D5: 11025.13
A6: 45639 | B6: Hi-Vis Vest | C6: 95 | D6: 99
B7: Christmas Event Equipment | C7: 99 | D7: 472.97
B8: Café | C8: 100 | D8: 133.09
A9: 45645 | B9: Café | C9: 102 | D9: 150
A10: 45646 | B10: Christmas Event | C10: 103 | D10: 500
A11: 45653 | B11: Justgiving Subs | D11: 18
D14: =SUM(D4:D13) -> 14966.19

Sheet JAN 2025
A1: 45658
A3: DATE | B3: DESCRIPTION | C3: CHEQUE NO. | D3: AMOUNT
A4: 45672 | B4: Froglife - Flowers & Seeds | C4: 101 | D4: 86.52
A5: 45684 | B5: JUST GIVING SUBS | D5: 18
B6: Consultancy Fees | C6: 105 | D6: 9000
A7: 45686 | B7: Froglife- Pond Consultacy | C7: 104 | D7: 393.9
D10: =SUM(D4:D9) -> 9498.42

Sheet FEB 2025
A1: 45689
A3: DATE | B3: DESCRIPTION | C3: CHEQUE NO. | D3: AMOUNT
A4: 45694 | B4: Asda Vouchers for Families | C4: 106 | D4: 3500
A5: 45713 | B5: Just Giving Subs | D5: 18
B6: Gym - Treadmill | C6: 107 | D6: 2939.9
D8: =SUM(D4:D7) -> 6457.9

Sheet MAR 2025
A1: 45717
A3: DATE | B3: DESCRIPTION | C3: CHEQUE NO. | D3: AMOUNT
A4: 45741 | B4: Just Giving Subs | D4: 18
D13: =SUM(D2:D12) -> 18

Sheet APR 2025
A1: 45748
A3: DATE | B3: DESCRIPTION | C3: CHEQUE NO. | D3: AMOUNT
A4: 45754 | B4: Garden (Willows) | C4: 109 | D4: 3229.15
A5: 45755 | B5: Resources (M.Cant) | C5: 108 | D5: 651.96
A6: 45772 | B6: Just Giving Subscription | D6: 18
D13: =SUM(D2:D12) -> 3899.11

Sheet MAY 2025
A1: 45778
A3: DATE | B3: DESCRIPTION | C3: CHEQUE NO. | D3: AMOUNT
A4: 45789 | B4: Garden Festival | C4: 112 | D4: 42.97
A5: 45791 | B5: Gym | C5: 110 | D5: 9511
A6: 45797 | B6: Garden (Various plants - Stewart Currie) | C6: 115 | D6: 162.89
B7: Garden Festival (Stewart Currie) | C7: 111 | D7: 17.17
A8: 45804 | B8: Just Giving Subscription | D8: 18
B9: Garden (Fyne Herbs - Audrey) | C9: 114 | D9: 43.2
A10: 45805 | B10: Garden (Commercial Karcher- Stuart Kerr) | C10: 113 | D10: 829.2
A11: 45806 | B11: Prom Costs (Christine McArdle) | C11: 116 | D11: 356
D13: =SUM(D2:D12) -> 10980.43

Sheet JUN 2025
A1: 45809
A3: DATE | B3: DESCRIPTION | C3: CHEQUE NO. | D3: AMOUNT
A4: 45810 | B4: GCC Minibus Payment | C4: 117 | D4: 25028.5
B5: Café & Gym Equipment | C5: 118 | D5: 1792.96
A6: 45822 | B6: Garden ( Stewart Currie- lawnmower etc) | C6: 119 | D6: 534.81
A7: 45833 | B7: Just Giving Subs | D7: 18
D12: =SUM(D2:D11) -> 27374.27

Sheet JUL 2025
A1: 45839
A3: DATE | B3: DESCRIPTION | C3: CHEQUE NO. | D3: AMOUNT
A4: 45839 | B4: Consultancy Fees | C4: 120 | D4: 6181.44
A5: 45863 | B5: Just Giving Subs | D5: 18
D12: =SUM(D2:D11) -> 6199.44

Sheet AUG 2025 
A1: 45870
A3: DATE | B3: DESCRIPTION | C3: CHEQUE NO. | D3: AMOUNT
A4: 45887 | B4: Gym Mural Deposit | C4: 121 | D4: 900
A5: 45888 | B5: Gym Mural Equipment | C5: 122 | D5: 3461.01
A6: 45895 | B6: Just Giving Subs | D6: 18
D7: =SUM(D2:D6) -> 4379.01
