Workbook

Sheet Comments
A1: Banchory-Ternan West Parish Church
A2: Accounts
A3: 46173
A6: Overall Funds
A7: Income is £5k above budget, giving and gift aid is £5k over budget, investment income is £2k above budget
A8: Expenditure is £3k over budget, salaries are £2k under budget, fabric is £3k over budget, heat and light is £2k over budget, Youth programme is £1k over budget
A9: Ordinary Income is £3k up from last year - this is giving and gift aid
A10: Expenditure is up £13k from last year, Giving 2Grow is up £2k, salaries £1k, fabric by £8k, heat and light by £1k, youth programme is down by £1k, music & IT by £4k
A11: We have c. £180k in our bank accounts
A13: Budgeted deficit for ordinary income and expenditure is £13k.
A14: Forecast deficit for ordinary income and expenditure is £13k.

Sheet Income - Overall
A1: Banchory-Ternan West Parish Church
A2: Income & Expenditure Statement | Y2: 5 | AB2: 5
A3: =Comments!A3 -> 46173 | AB3: Same
A4: OVERALL FUNDS: INCOME | AB4: Period
Q5: Gift Aid | R5: Wrong | S5: C Card | T5: Ministries | U5: ABA | V5: Church | Y5: YTD | AB5: 2025 | AD5: %
B6: Jan | C6: Feb | D6: Mar | E6: Apr | F6: May | G6: Jun | H6: Jul | I6: Aug | J6: Sep | K6: Oct | L6: Nov | M6: Dec | N6: Tot | O6: TB | P6: Variance | Q6: Transfer | R6: Year | S6: Transfer | T6: Council | U6: Funds | V6: Weekend | W6: Variance | Y6: Budget | Z6: Variance | AB6: Actual | AC6: Variance | AD6: Variance
A7: Incoming Resources from Generated Funds
A8: Voluntary Income
A9: Offerings
A10: Gift Aid Standing Orders | B10: ='Income - General'!C10+'Income - Fabric'!C10+'Income - FlowerFund'!C10+'Income - SSchoolFund'!C10+'Income - Guild'!C10+'Income - Organ'!C10+'Income - SfSFund'!C10+'Income - Benevolent'!C10+'Income - Friday'!C10 -> 5873 | C10: ='Income - General'!D10+'Income - Fabric'!D10+'Income - FlowerFund'!D10+'Income - SSchoolFund'!D10+'Income - Guild'!D10+'Income - Organ'!D10+'Income - SfSFund'!D10+'Income - Benevolent'!D10+'Income - Friday'!D10 -> 6113 | D10: ='Income - General'!E10+'Income - Fabric'!E10+'Income - FlowerFund'!E10+'Income - SSchoolFund'!E10+'Income - Guild'!E10+'Income - Organ'!E10+'Income - SfSFund'!E10+'Income - Benevolent'!E10+'Income - Friday'!E10 -> 6308 | E10: ='Income - General'!F10+'Income - Fabric'!F10+'Income - FlowerFund'!F10+'Income - SSchoolFund'!F10+'Income - Guild'!F10+'Income - Organ'!F10+'Income - SfSFund'!F10+'Income - Benevolent'!F10+'Income - Friday'!F10 -> 6178 | F10: ='Income - General'!G10+'Income - Fabric'!G10+'Income - FlowerFund'!G10+'Income - SSchoolFund'!G10+'Income - Guild'!G10+'Income - Organ'!G10+'Income - SfSFund'!G10+'Income - Benevolent'!G10+'Income - Friday'!G10 -> 7273.41 | G10: ='Income - General'!H10+'Income - Fabric'!H10+'Income - FlowerFund'!H10+'Income - SSchoolFund'!H10+'Income - Guild'!H10+'Income - Organ'!H10+'Income - SfSFund'!H10+'Income - Benevolent'!H10+'Income - Friday'!H10 -> 0 | H10: ='Income - General'!I10+'Income - Fabric'!I10+'Income - FlowerFund'!I10+'Income - SSchoolFund'!I10+'Income - Guild'!I10+'Income - Organ'!I10+'Income - SfSFund'!I10+'Income - Benevolent'!I10+'Income - Friday'!I10 -> 0 | I10: ='Income - General'!J10+'Income - Fabric'!J10+'Income - FlowerFund'!J10+'Income - SSchoolFund'!J10+'Income - Guild'!J10+'Income - Organ'!J10+'Income - SfSFund'!J10+'Income - Benevolent'!J10+'Income - Friday'!J10 -> 0 | ... M10: ='Income - General'!N10+'Income - Fabric'!N10+'Income - FlowerFund'!N10+'Income - SSchoolFund'!N10+'Income - Guild'!N10+'Income - Organ'!N10+'Income - SfSFund'!N10+'Income - Benevolent'!N10+'Income - Friday'!N10 -> 0 | N10: =SUM(B10:M10) -> 31745.41 | P10: =N10-O10 -> 31745.41 | W10: =SUM(P10:V10) -> 31745.41 | Y10: =SUMIF('Income - OverallBUD'!$C$4:$N$4,'Income - Overall'!$Y$2,'Income - OverallBUD'!$C10:$N10) -> 26000 | Z10: =N10-Y10 -> 5745.41 | AB10: =SUMIF('Income - OverallPY'!$B$4:$N$4,'Income - Overall'!$AB$2,'Income - OverallPY'!$B10:$M10) -> 31440.76 | AC10: =N10-AB10 -> 304.65 | AD10: =IF(ISERROR((N10/AB10)-1),"-",(N10/AB10)-1) -> 0.0096896513
A11: Non Gift Aid standing | B11: ='Income - General'!C11+'Income - Fabric'!C11+'Income - FlowerFund'!C11+'Income - SSchoolFund'!C11+'Income - Guild'!C11+'Income - Organ'!C11+'Income - SfSFund'!C11+'Income - Benevolent'!C11+'Income - Friday'!C11 -> 502 | C11: ='Income - General'!D11+'Income - Fabric'!D11+'Income - FlowerFund'!D11+'Income - SSchoolFund'!D11+'Income - Guild'!D11+'Income - Organ'!D11+'Income - SfSFund'!D11+'Income - Benevolent'!D11+'Income - Friday'!D11 -> 452 | D11: ='Income - General'!E11+'Income - Fabric'!E11+'Income - FlowerFund'!E11+'Income - SSchoolFund'!E11+'Income - Guild'!E11+'Income - Organ'!E11+'Income - SfSFund'!E11+'Income - Benevolent'!E11+'Income - Friday'!E11 -> 470 | E11: ='Income - General'!F11+'Income - Fabric'!F11+'Income - FlowerFund'!F11+'Income - SSchoolFund'!F11+'Income - Guild'!F11+'Income - Organ'!F11+'Income - SfSFund'!F11+'Income - Benevolent'!F11+'Income - Friday'!F11 -> 457 | F11: ='Income - General'!G11+'Income - Fabric'!G11+'Income - FlowerFund'!G11+'Income - SSchoolFund'!G11+'Income - Guild'!G11+'Income - Organ'!G11+'Income - SfSFund'!G11+'Income - Benevolent'!G11+'Income - Friday'!G11 -> 457 | G11: ='Income - General'!H11+'Income - Fabric'!H11+'Income - FlowerFund'!H11+'Income - SSchoolFund'!H11+'Income - Guild'!H11+'Income - Organ'!H11+'Income - SfSFund'!H11+'Income - Benevolent'!H11+'Income - Friday'!H11 -> 0 | H11: ='Income - General'!I11+'Income - Fabric'!I11+'Income - FlowerFund'!I11+'Income - SSchoolFund'!I11+'Income - Guild'!I11+'Income - Organ'!I11+'Income - SfSFund'!I11+'Income - Benevolent'!I11+'Income - Friday'!I11 -> 0 | I11: ='Income - General'!J11+'Income - Fabric'!J11+'Income - FlowerFund'!J11+'Income - SSchoolFund'!J11+'Income - Guild'!J11+'Income - Organ'!J11+'Income - SfSFund'!J11+'Income - Benevolent'!J11+'Income - Friday'!J11 -> 0 | ... M11: ='Income - General'!N11+'Income - Fabric'!N11+'Income - FlowerFund'!N11+'Income - SSchoolFund'!N11+'Income - Guild'!N11+'Income - Organ'!N11+'Income - SfSFund'!N11+'Income - Benevolent'!N11+'Income - Friday'!N11 -> 0 | N11: =SUM(B11:M11) -> 2338 | P11: =N11-O11 -> 2338 | W11: =SUM(P11:V11) -> 2338 | Y11: =SUMIF('Income - OverallBUD'!$C$4:$N$4,'Income - Overall'!$Y$2,'Income - OverallBUD'!$C11:$N11) -> 2750 | Z11: =N11-Y11 -> -412 | AB11: =SUMIF('Income - OverallPY'!$B$4:$N$4,'Income - Overall'!$AB$2,'Income - OverallPY'!$B11:$M11) -> 1910 | AC11: =N11-AB11 -> 428 | AD11: =IF(ISERROR((N11/AB11)-1),"-",(N11/AB11)-1) -> 0.22408377
A12: Gift Aid Declarations | B12: ='Income - General'!C12+'Income - Fabric'!C12+'Income - FlowerFund'!C12+'Income - SSchoolFund'!C12+'Income - Guild'!C12+'Income - Organ'!C12+'Income - SfSFund'!C12+'Income - Benevolent'!C12+'Income - Friday'!C12 -> 470.62 | C12: ='Income - General'!D12+'Income - Fabric'!D12+'Income - FlowerFund'!D12+'Income - SSchoolFund'!D12+'Income - Guild'!D12+'Income - Organ'!D12+'Income - SfSFund'!D11+'Income - Benevolent'!D12+'Income - Friday'!D12 -> 514.53 | D12: ='Income - General'!E12+'Income - Fabric'!E12+'Income - FlowerFund'!E12+'Income - SSchoolFund'!E12+'Income - Guild'!E12+'Income - Organ'!E12+'Income - SfSFund'!E11+'Income - Benevolent'!E12+'Income - Friday'!E12 -> 606.8 | E12: ='Income - General'!F12+'Income - Fabric'!F12+'Income - FlowerFund'!F12+'Income - SSchoolFund'!F12+'Income - Guild'!F12+'Income - Organ'!F12+'Income - SfSFund'!F11+'Income - Benevolent'!F12+'Income - Friday'!F12 -> 0 | F12: ='Income - General'!G12+'Income - Fabric'!G12+'Income - FlowerFund'!G12+'Income - SSchoolFund'!G12+'Income - Guild'!G12+'Income - Organ'!G12+'Income - SfSFund'!G11+'Income - Benevolent'!G12+'Income - Friday'!G12 -> 0 | G12: ='Income - General'!H12+'Income - Fabric'!H12+'Income - FlowerFund'!H12+'Income - SSchoolFund'!H12+'Income - Guild'!H12+'Income - Organ'!H12+'Income - SfSFund'!H11+'Income - Benevolent'!H12+'Income - Friday'!H12 -> 0 | H12: ='Income - General'!I12+'Income - Fabric'!I12+'Income - FlowerFund'!I12+'Income - SSchoolFund'!I12+'Income - Guild'!I12+'Income - Organ'!I12+'Income - SfSFund'!I11+'Income - Benevolent'!I12+'Income - Friday'!I12 -> 0 | I12: ='Income - General'!J12+'Income - Fabric'!J12+'Income - FlowerFund'!J12+'Income - SSchoolFund'!J12+'Income - Guild'!J12+'Income - Organ'!J12+'Income - SfSFund'!J11+'Income - Benevolent'!J12+'Income - Friday'!J12 -> 0 | J12: ='Income - General'!K12+'Income - Fabric'!K12+'Income - FlowerFund'!K12+'Income - SSchoolFund'!K12+'Income - Guild'!K12+'Income - Organ'!K12+'Income - SfSFund'!K11+'Income - Benevolent'!K12+'Income - Friday'!K12 -> 0 | ... M12: ='Income - General'!N12+'Income - Fabric'!N12+'Income - FlowerFund'!N12+'Income - SSchoolFund'!N12+'Income - Guild'!N12+'Income - Organ'!N12+'Income - SfSFund'!N11+'Income - Benevolent'!N12+'Income - Friday'!N12 -> 0 | N12: =SUM(B12:M12) -> 1591.95 | P12: =N12-O12 -> 1591.95 | W12: =SUM(P12:V12) -> 1591.95 | Y12: =SUMIF('Income - OverallBUD'!$C$4:$N$4,'Income - Overall'!$Y$2,'Income - OverallBUD'!$C12:$N12) -> 0 | Z12: =N12-Y12 -> 1591.95 | AB12: =SUMIF('Income - OverallPY'!$B$4:$N$4,'Income - Overall'!$AB$2,'Income - OverallPY'!$B12:$M12) -> 1570 | AC12: =N12-AB12 -> 21.95 | AD12: =IF(ISERROR((N12/AB12)-1),"-",(N12/AB12)-1) -> 0.013980892
A13: WFO Scheme | B13: ='Income - General'!C13+'Income - Fabric'!C13+'Income - FlowerFund'!C13+'Income - SSchoolFund'!C13+'Income - Guild'!C13+'Income - Organ'!C13+'Income - SfSFund'!C13+'Income - Benevolent'!C13+'Income - Friday'!C13 -> 0 | C13: ='Income - General'!D13+'Income - Fabric'!D13+'Income - FlowerFund'!D13+'Income - SSchoolFund'!D13+'Income - Guild'!D13+'Income - Organ'!D13+'Income - SfSFund'!D13+'Income - Benevolent'!D13+'Income - Friday'!D13 -> 0 | D13: ='Income - General'!E13+'Income - Fabric'!E13+'Income - FlowerFund'!E13+'Income - SSchoolFund'!E13+'Income - Guild'!E13+'Income - Organ'!E13+'Income - SfSFund'!E13+'Income - Benevolent'!E13+'Income - Friday'!E13 -> 0 | E13: ='Income - General'!F13+'Income - Fabric'!F13+'Income - FlowerFund'!F13+'Income - SSchoolFund'!F13+'Income - Guild'!F13+'Income - Organ'!F13+'Income - SfSFund'!F13+'Income - Benevolent'!F13+'Income - Friday'!F13 -> 0 | F13: ='Income - General'!G13+'Income - Fabric'!G13+'Income - FlowerFund'!G13+'Income - SSchoolFund'!G13+'Income - Guild'!G13+'Income - Organ'!G13+'Income - SfSFund'!G13+'Income - Benevolent'!G13+'Income - Friday'!G13 -> 0 | G13: ='Income - General'!H13+'Income - Fabric'!H13+'Income - FlowerFund'!H13+'Income - SSchoolFund'!H13+'Income - Guild'!H13+'Income - Organ'!H13+'Income - SfSFund'!H13+'Income - Benevolent'!H13+'Income - Friday'!H13 -> 0 | H13: ='Income - General'!I13+'Income - Fabric'!I13+'Income - FlowerFund'!I13+'Income - SSchoolFund'!I13+'Income - Guild'!I13+'Income - Organ'!I13+'Income - SfSFund'!I13+'Income - Benevolent'!I13+'Income - Friday'!I13 -> 0 | I13: ='Income - General'!J13+'Income - Fabric'!J13+'Income - FlowerFund'!J13+'Income - SSchoolFund'!J13+'Income - Guild'!J13+'Income - Organ'!J13+'Income - SfSFund'!J13+'Income - Benevolent'!J13+'Income - Friday'!J13 -> 0 | ... M13: ='Income - General'!N13+'Income - Fabric'!N13+'Income - FlowerFund'!N13+'Income - SSchoolFund'!N13+'Income - Guild'!N13+'Income - Organ'!N13+'Income - SfSFund'!N13+'Income - Benevolent'!N13+'Income - Friday'!N13 -> 0 | N13: =SUM(B13:M13) -> 0 | P13: =N13-O13 -> 0 | W13: =SUM(P13:V13) -> 0 | Y13: =SUMIF('Income - OverallBUD'!$C$4:$N$4,'Income - Overall'!$Y$2,'Income - OverallBUD'!$C13:$N13) -> 450 | Z13: =N13-Y13 -> -450 | AB13: =SUMIF('Income - OverallPY'!$B$4:$N$4,'Income - Overall'!$AB$2,'Income - OverallPY'!$B13:$M13) -> 1525 | AC13: =N13-AB13 -> -1525 | AD13: =IF(ISERROR((N13/AB13)-1),"-",(N13/AB13)-1) -> -1
A14: Open Plate | B14: ='Income - General'!C14+'Income - Fabric'!C14+'Income - FlowerFund'!C14+'Income - SSchoolFund'!C14+'Income - Guild'!C14+'Income - Organ'!C14+'Income - SfSFund'!C14+'Income - Benevolent'!C14+'Income - Friday'!C14 -> 469.66 | C14: ='Income - General'!D14+'Income - Fabric'!D14+'Income - FlowerFund'!D14+'Income - SSchoolFund'!D14+'Income - Guild'!D14+'Income - Organ'!D14+'Income - SfSFund'!D14+'Income - Benevolent'!D14+'Income - Friday'!D14 -> 597.41 | D14: ='Income - General'!E14+'Income - Fabric'!E14+'Income - FlowerFund'!E14+'Income - SSchoolFund'!E14+'Income - Guild'!E14+'Income - Organ'!E14+'Income - SfSFund'!E14+'Income - Benevolent'!E14+'Income - Friday'!E14 -> 300.5 | E14: ='Income - General'!F14+'Income - Fabric'!F14+'Income - FlowerFund'!F14+'Income - SSchoolFund'!F14+'Income - Guild'!F14+'Income - Organ'!F14+'Income - SfSFund'!F14+'Income - Benevolent'!F14+'Income - Friday'!F14 -> 579.59 | F14: ='Income - General'!G14+'Income - Fabric'!G14+'Income - FlowerFund'!G14+'Income - SSchoolFund'!G14+'Income - Guild'!G14+'Income - Organ'!G14+'Income - SfSFund'!G14+'Income - Benevolent'!G14+'Income - Friday'!G14 -> 494.4 | G14: ='Income - General'!H14+'Income - Fabric'!H14+'Income - FlowerFund'!H14+'Income - SSchoolFund'!H14+'Income - Guild'!H14+'Income - Organ'!H14+'Income - SfSFund'!H14+'Income - Benevolent'!H14+'Income - Friday'!H14 -> 0 | H14: ='Income - General'!I14+'Income - Fabric'!I14+'Income - FlowerFund'!I14+'Income - SSchoolFund'!I14+'Income - Guild'!I14+'Income - Organ'!I14+'Income - SfSFund'!I14+'Income - Benevolent'!I14+'Income - Friday'!I14 -> 0 | I14: ='Income - General'!J14+'Income - Fabric'!J14+'Income - FlowerFund'!J14+'Income - SSchoolFund'!J14+'Income - Guild'!J14+'Income - Organ'!J14+'Income - SfSFund'!J14+'Income - Benevolent'!J14+'Income - Friday'!J14 -> 0 | ... M14: ='Income - General'!N14+'Income - Fabric'!N14+'Income - FlowerFund'!N14+'Income - SSchoolFund'!N14+'Income - Guild'!N14+'Income - Organ'!N14+'Income - SfSFund'!N14+'Income - Benevolent'!N14+'Income - Friday'!N14 -> 0 | N14: =SUM(B14:M14) -> 2441.56 | P14: =N14-O14 -> 2441.56 | W14: =SUM(P14:V14) -> 2441.56 | Y14: =SUMIF('Income - OverallBUD'!$C$4:$N$4,'Income - Overall'!$Y$2,'Income - OverallBUD'!$C14:$N14) -> 2875 | Z14: =N14-Y14 -> -433.44 | AB14: =SUMIF('Income - OverallPY'!$B$4:$N$4,'Income - Overall'!$AB$2,'Income - OverallPY'!$B14:$M14) -> 2342.44 | AC14: =N14-AB14 -> 99.12 | AD14: =IF(ISERROR((N14/AB14)-1),"-",(N14/AB14)-1) -> 0.042314851
A15: Other Offerings | B15: ='Income - General'!C15+'Income - Fabric'!C15+'Income - FlowerFund'!C15+'Income - SSchoolFund'!C15+'Income - Guild'!C15+'Income - Organ'!C15+'Income - SfSFund'!C15+'Income - Benevolent'!C15+'Income - Friday'!C15 -> 0 | C15: ='Income - General'!D15+'Income - Fabric'!D15+'Income - FlowerFund'!D15+'Income - SSchoolFund'!D15+'Income - Guild'!D15+'Income - Organ'!D15+'Income - SfSFund'!D15+'Income - Benevolent'!D15+'Income - Friday'!D15 -> 0 | D15: ='Income - General'!E15+'Income - Fabric'!E15+'Income - FlowerFund'!E15+'Income - SSchoolFund'!E15+'Income - Guild'!E15+'Income - Organ'!E15+'Income - SfSFund'!E15+'Income - Benevolent'!E15+'Income - Friday'!E15 -> 0 | E15: ='Income - General'!F15+'Income - Fabric'!F15+'Income - FlowerFund'!F15+'Income - SSchoolFund'!F15+'Income - Guild'!F15+'Income - Organ'!F15+'Income - SfSFund'!F15+'Income - Benevolent'!F15+'Income - Friday'!F15 -> 118.73 | F15: ='Income - General'!G15+'Income - Fabric'!G15+'Income - FlowerFund'!G15+'Income - SSchoolFund'!G15+'Income - Guild'!G15+'Income - Organ'!G15+'Income - SfSFund'!G15+'Income - Benevolent'!G15+'Income - Friday'!G15 -> 3034.41 | G15: ='Income - General'!H15+'Income - Fabric'!H15+'Income - FlowerFund'!H15+'Income - SSchoolFund'!H15+'Income - Guild'!H15+'Income - Organ'!H15+'Income - SfSFund'!H15+'Income - Benevolent'!H15+'Income - Friday'!H15 -> 0 | H15: ='Income - General'!I15+'Income - Fabric'!I15+'Income - FlowerFund'!I15+'Income - SSchoolFund'!I15+'Income - Guild'!I15+'Income - Organ'!I15+'Income - SfSFund'!I15+'Income - Benevolent'!I15+'Income - Friday'!I15 -> 0 | I15: ='Income - General'!J15+'Income - Fabric'!J15+'Income - FlowerFund'!J15+'Income - SSchoolFund'!J15+'Income - Guild'!J15+'Income - Organ'!J15+'Income - SfSFund'!J15+'Income - Benevolent'!J15+'Income - Friday'!J15 -> 0 | ... M15: ='Income - General'!N15+'Income - Fabric'!N15+'Income - FlowerFund'!N15+'Income - SSchoolFund'!N15+'Income - Guild'!N15+'Income - Organ'!N15+'Income - SfSFund'!N15+'Income - Benevolent'!N15+'Income - Friday'!N15 -> 0 | N15: =SUM(B15:M15) -> 3153.14 | P15: =N15-O15 -> 3153.14 | W15: =SUM(P15:V15) -> 3153.14 | Y15: =SUMIF('Income - OverallBUD'!$C$4:$N$4,'Income - Overall'!$Y$2,'Income - OverallBUD'!$C15:$N15) -> 1750 | Z15: =N15-Y15 -> 1403.14 | AB15: =SUMIF('Income - OverallPY'!$B$4:$N$4,'Income - Overall'!$AB$2,'Income - OverallPY'!$B15:$M15) -> 3577.82 | AC15: =N15-AB15 -> -424.68 | AD15: =IF(ISERROR((N15/AB15)-1),"-",(N15/AB15)-1) -> -0.11869798
A16: Total Offerings | B16: =SUM(B10:B15) -> 7315.28 | C16: =SUM(C10:C15) -> 7676.94 | D16: =SUM(D10:D15) -> 7685.3 | E16: =SUM(E10:E15) -> 7333.32 | F16: =SUM(F10:F15) -> 11259.22 | G16: =SUM(G10:G15) -> 0 | H16: =SUM(H10:H15) -> 0 | I16: =SUM(I10:I15) -> 0 | ... W16: =SUM(W10:W15) -> 41270.06 | Y16: =SUM(Y10:Y15) -> 33825 | Z16: =SUM(Z10:Z15) -> 7445.06 | AB16: =SUM(AB10:AB15) -> 42366.02 | AC16: =SUM(AC10:AC15) -> -1095.96 | AD16: =IF(ISERROR((N16/AB16)-1),"-",(N16/AB16)-1) -> -0.025868845
A18: Offerings (Local Ministry)
A19: Gift Aid Standing Orders | B19: ='Income - General'!C19+'Income - Fabric'!C19+'Income - FlowerFund'!C19+'Income - SSchoolFund'!C19+'Income - Guild'!C19+'Income - Organ'!C19+'Income - SfSFund'!C19+'Income - Benevolent'!C19+'Income - Friday'!C19 -> 1918 | C19: ='Income - General'!D19+'Income - Fabric'!D19+'Income - FlowerFund'!D19+'Income - SSchoolFund'!D19+'Income - Guild'!D19+'Income - Organ'!D19+'Income - SfSFund'!D19+'Income - Benevolent'!D19+'Income - Friday'!D19 -> 2291.72 | D19: ='Income - General'!E19+'Income - Fabric'!E19+'Income - FlowerFund'!E19+'Income - SSchoolFund'!E19+'Income - Guild'!E19+'Income - Organ'!E19+'Income - SfSFund'!E19+'Income - Benevolent'!E19+'Income - Friday'!E19 -> 1628 | E19: ='Income - General'!F19+'Income - Fabric'!F19+'Income - FlowerFund'!F19+'Income - SSchoolFund'!F19+'Income - Guild'!F19+'Income - Organ'!F19+'Income - SfSFund'!F19+'Income - Benevolent'!F19+'Income - Friday'!F19 -> 2303 | F19: ='Income - General'!G19+'Income - Fabric'!G19+'Income - FlowerFund'!G19+'Income - SSchoolFund'!G19+'Income - Guild'!G19+'Income - Organ'!G19+'Income - SfSFund'!G19+'Income - Benevolent'!G19+'Income - Friday'!G19 -> 1283 | G19: ='Income - General'!H19+'Income - Fabric'!H19+'Income - FlowerFund'!H19+'Income - SSchoolFund'!H19+'Income - Guild'!H19+'Income - Organ'!H19+'Income - SfSFund'!H19+'Income - Benevolent'!H19+'Income - Friday'!H19 -> 0 | H19: ='Income - General'!I19+'Income - Fabric'!I19+'Income - FlowerFund'!I19+'Income - SSchoolFund'!I19+'Income - Guild'!I19+'Income - Organ'!I19+'Income - SfSFund'!I19+'Income - Benevolent'!I19+'Income - Friday'!I19 -> 0 | I19: ='Income - General'!J19+'Income - Fabric'!J19+'Income - FlowerFund'!J19+'Income - SSchoolFund'!J19+'Income - Guild'!J19+'Income - Organ'!J19+'Income - SfSFund'!J19+'Income - Benevolent'!J19+'Income - Friday'!J19 -> 0 | ... M19: ='Income - General'!N19+'Income - Fabric'!N19+'Income - FlowerFund'!N19+'Income - SSchoolFund'!N19+'Income - Guild'!N19+'Income - Organ'!N19+'Income - SfSFund'!N19+'Income - Benevolent'!N19+'Income - Friday'!N19 -> 0 | N19: =SUM(B19:M19) -> 9423.72 | P19: =N19-O19 -> 9423.72 | W19: =SUM(P19:V19) -> 9423.72 | Y19: =SUMIF('Income - OverallBUD'!$C$4:$N$4,'Income - Overall'!$Y$2,'Income - OverallBUD'!$C19:$N19) -> 15250 | Z19: =N19-Y19 -> -5826.28 | AB19: =SUMIF('Income - OverallPY'!$B$4:$N$4,'Income - Overall'!$AB$2,'Income - OverallPY'!$B19:$M19) -> 7515 | AC19: =N19-AB19 -> 1908.72 | AD19: =IF(ISERROR((N19/AB19)-1),"-",(N19/AB19)-1) -> 0.25398802
A20: Non Gift Aid standing | B20: ='Income - General'!C20+'Income - Fabric'!C20+'Income - FlowerFund'!C20+'Income - SSchoolFund'!C20+'Income - Guild'!C20+'Income - Organ'!C20+'Income - SfSFund'!C20+'Income - Benevolent'!C20+'Income - Friday'!C20 -> 530.31 | C20: ='Income - General'!D20+'Income - Fabric'!D20+'Income - FlowerFund'!D20+'Income - SSchoolFund'!D20+'Income - Guild'!D20+'Income - Organ'!D20+'Income - SfSFund'!D20+'Income - Benevolent'!D20+'Income - Friday'!D20 -> 224.31 | D20: ='Income - General'!E20+'Income - Fabric'!E20+'Income - FlowerFund'!E20+'Income - SSchoolFund'!E20+'Income - Guild'!E20+'Income - Organ'!E20+'Income - SfSFund'!E20+'Income - Benevolent'!E20+'Income - Friday'!E20 -> 924.31 | E20: ='Income - General'!F20+'Income - Fabric'!F20+'Income - FlowerFund'!F20+'Income - SSchoolFund'!F20+'Income - Guild'!F20+'Income - Organ'!F20+'Income - SfSFund'!F20+'Income - Benevolent'!F20+'Income - Friday'!F20 -> 524.31 | F20: ='Income - General'!G20+'Income - Fabric'!G20+'Income - FlowerFund'!G20+'Income - SSchoolFund'!G20+'Income - Guild'!G20+'Income - Organ'!G20+'Income - SfSFund'!G20+'Income - Benevolent'!G20+'Income - Friday'!G20 -> 566.5 | G20: ='Income - General'!H20+'Income - Fabric'!H20+'Income - FlowerFund'!H20+'Income - SSchoolFund'!H20+'Income - Guild'!H20+'Income - Organ'!H20+'Income - SfSFund'!H20+'Income - Benevolent'!H20+'Income - Friday'!H20 -> 0 | H20: ='Income - General'!I20+'Income - Fabric'!I20+'Income - FlowerFund'!I20+'Income - SSchoolFund'!I20+'Income - Guild'!I20+'Income - Organ'!I20+'Income - SfSFund'!I20+'Income - Benevolent'!I20+'Income - Friday'!I20 -> 0 | I20: ='Income - General'!J20+'Income - Fabric'!J20+'Income - FlowerFund'!J20+'Income - SSchoolFund'!J20+'Income - Guild'!J20+'Income - Organ'!J20+'Income - SfSFund'!J20+'Income - Benevolent'!J20+'Income - Friday'!J20 -> 0 | ... M20: ='Income - General'!N20+'Income - Fabric'!N20+'Income - FlowerFund'!N20+'Income - SSchoolFund'!N20+'Income - Guild'!N20+'Income - Organ'!N20+'Income - SfSFund'!N20+'Income - Benevolent'!N20+'Income - Friday'!N20 -> 0 | N20: =SUM(B20:M20) -> 2769.74 | P20: =N20-O20 -> 2769.74 | W20: =SUM(P20:V20) -> 2769.74 | Y20: =SUMIF('Income - OverallBUD'!$C$4:$N$4,'Income - Overall'!$Y$2,'Income - OverallBUD'!$C20:$N20) -> 2750 | Z20: =N20-Y20 -> 19.74 | AB20: =SUMIF('Income - OverallPY'!$B$4:$N$4,'Income - Overall'!$AB$2,'Income - OverallPY'!$B20:$M20) -> 2604.5 | AC20: =N20-AB20 -> 165.24 | AD20: =IF(ISERROR((N20/AB20)-1),"-",(N20/AB20)-1) -> 0.063444039
A21: Gift Aid Declarations | B21: ='Income - General'!C21+'Income - Fabric'!C21+'Income - FlowerFund'!C21+'Income - SSchoolFund'!C21+'Income - Guild'!C21+'Income - Organ'!C21+'Income - SfSFund'!C21+'Income - Benevolent'!C21+'Income - Friday'!C21 -> 0 | C21: ='Income - General'!D21+'Income - Fabric'!D21+'Income - FlowerFund'!D21+'Income - SSchoolFund'!D21+'Income - Guild'!D21+'Income - Organ'!D21+'Income - SfSFund'!D21+'Income - Benevolent'!D21+'Income - Friday'!D21 -> 0 | D21: ='Income - General'!E21+'Income - Fabric'!E21+'Income - FlowerFund'!E21+'Income - SSchoolFund'!E21+'Income - Guild'!E21+'Income - Organ'!E21+'Income - SfSFund'!E21+'Income - Benevolent'!E21+'Income - Friday'!E21 -> 0 | E21: ='Income - General'!F21+'Income - Fabric'!F21+'Income - FlowerFund'!F21+'Income - SSchoolFund'!F21+'Income - Guild'!F21+'Income - Organ'!F21+'Income - SfSFund'!F21+'Income - Benevolent'!F21+'Income - Friday'!F21 -> 0 | F21: ='Income - General'!G21+'Income - Fabric'!G21+'Income - FlowerFund'!G21+'Income - SSchoolFund'!G21+'Income - Guild'!G21+'Income - Organ'!G21+'Income - SfSFund'!G21+'Income - Benevolent'!G21+'Income - Friday'!G21 -> 0 | G21: ='Income - General'!H21+'Income - Fabric'!H21+'Income - FlowerFund'!H21+'Income - SSchoolFund'!H21+'Income - Guild'!H21+'Income - Organ'!H21+'Income - SfSFund'!H21+'Income - Benevolent'!H21+'Income - Friday'!H21 -> 0 | H21: ='Income - General'!I21+'Income - Fabric'!I21+'Income - FlowerFund'!I21+'Income - SSchoolFund'!I21+'Income - Guild'!I21+'Income - Organ'!I21+'Income - SfSFund'!I21+'Income - Benevolent'!I21+'Income - Friday'!I21 -> 0 | I21: ='Income - General'!J21+'Income - Fabric'!J21+'Income - FlowerFund'!J21+'Income - SSchoolFund'!J21+'Income - Guild'!J21+'Income - Organ'!J21+'Income - SfSFund'!J21+'Income - Benevolent'!J21+'Income - Friday'!J21 -> 0 | ... M21: ='Income - General'!N21+'Income - Fabric'!N21+'Income - FlowerFund'!N21+'Income - SSchoolFund'!N21+'Income - Guild'!N21+'Income - Organ'!N21+'Income - SfSFund'!N21+'Income - Benevolent'!N21+'Income - Friday'!N21 -> 0 | N21: =SUM(B21:M21) -> 0 | P21: =N21-O21 -> 0 | W21: =SUM(P21:V21) -> 0 | Y21: =SUMIF('Income - OverallBUD'!$C$4:$N$4,'Income - Overall'!$Y$2,'Income - OverallBUD'!$C21:$N21) -> 0 | Z21: =N21-Y21 -> 0 | AB21: =SUMIF('Income - OverallPY'!$B$4:$N$4,'Income - Overall'!$AB$2,'Income - OverallPY'!$B21:$M21) -> 1809.15 | AC21: =N21-AB21 -> -1809.15 | AD21: =IF(ISERROR((N21/AB21)-1),"-",(N21/AB21)-1) -> -1
A22: WFO Scheme | B22: ='Income - General'!C22+'Income - Fabric'!C22+'Income - FlowerFund'!C22+'Income - SSchoolFund'!C22+'Income - Guild'!C22+'Income - Organ'!C22+'Income - SfSFund'!C22+'Income - Benevolent'!C22+'Income - Friday'!C22 -> 0 | C22: ='Income - General'!D22+'Income - Fabric'!D22+'Income - FlowerFund'!D22+'Income - SSchoolFund'!D22+'Income - Guild'!D22+'Income - Organ'!D22+'Income - SfSFund'!D22+'Income - Benevolent'!D22+'Income - Friday'!D22 -> 0 | D22: ='Income - General'!E22+'Income - Fabric'!E22+'Income - FlowerFund'!E22+'Income - SSchoolFund'!E22+'Income - Guild'!E22+'Income - Organ'!E22+'Income - SfSFund'!E22+'Income - Benevolent'!E22+'Income - Friday'!E22 -> 0 | E22: ='Income - General'!F22+'Income - Fabric'!F22+'Income - FlowerFund'!F22+'Income - SSchoolFund'!F22+'Income - Guild'!F22+'Income - Organ'!F22+'Income - SfSFund'!F22+'Income - Benevolent'!F22+'Income - Friday'!F22 -> 0 | F22: ='Income - General'!G22+'Income - Fabric'!G22+'Income - FlowerFund'!G22+'Income - SSchoolFund'!G22+'Income - Guild'!G22+'Income - Organ'!G22+'Income - SfSFund'!G22+'Income - Benevolent'!G22+'Income - Friday'!G22 -> 0 | G22: ='Income - General'!H22+'Income - Fabric'!H22+'Income - FlowerFund'!H22+'Income - SSchoolFund'!H22+'Income - Guild'!H22+'Income - Organ'!H22+'Income - SfSFund'!H22+'Income - Benevolent'!H22+'Income - Friday'!H22 -> 0 | H22: ='Income - General'!I22+'Income - Fabric'!I22+'Income - FlowerFund'!I22+'Income - SSchoolFund'!I22+'Income - Guild'!I22+'Income - Organ'!I22+'Income - SfSFund'!I22+'Income - Benevolent'!I22+'Income - Friday'!I22 -> 0 | I22: ='Income - General'!J22+'Income - Fabric'!J22+'Income - FlowerFund'!J22+'Income - SSchoolFund'!J22+'Income - Guild'!J22+'Income - Organ'!J22+'Income - SfSFund'!J22+'Income - Benevolent'!J22+'Income - Friday'!J22 -> 0 | ... M22: ='Income - General'!N22+'Income - Fabric'!N22+'Income - FlowerFund'!N22+'Income - SSchoolFund'!N22+'Income - Guild'!N22+'Income - Organ'!N22+'Income - SfSFund'!N22+'Income - Benevolent'!N22+'Income - Friday'!N22 -> 0 | N22: =SUM(B22:M22) -> 0 | P22: =N22-O22 -> 0 | W22: =SUM(P22:V22) -> 0 | Y22: =SUMIF('Income - OverallBUD'!$C$4:$N$4,'Income - Overall'!$Y$2,'Income - OverallBUD'!$C22:$N22) -> 75 | Z22: =N22-Y22 -> -75 | AB22: =SUMIF('Income - OverallPY'!$B$4:$N$4,'Income - Overall'!$AB$2,'Income - OverallPY'!$B22:$M22) -> 0 | AC22: =N22-AB22 -> 0 | AD22: =IF(ISERROR((N22/AB22)-1),"-",(N22/AB22)-1) -> -
A23: Total Offerings (Local Ministry) | B23: =SUM(B19:B22) -> 2448.31 | C23: =SUM(C19:C22) -> 2516.03 | D23: =SUM(D19:D22) -> 2552.31 | E23: =SUM(E19:E22) -> 2827.31 | F23: =SUM(F19:F22) -> 1849.5 | G23: =SUM(G19:G22) -> 0 | H23: =SUM(H19:H22) -> 0 | I23: =SUM(I19:I22) -> 0 | ... W23: =SUM(W19:W22) -> 12193.46 | Y23: =SUM(Y19:Y22) -> 18075 | Z23: =SUM(Z19:Z22) -> -5881.54 | AB23: =SUM(AB19:AB22) -> 11928.65 | AC23: =SUM(AC19:AC22) -> 264.81 | AD23: =IF(ISERROR((N23/AB23)-1),"-",(N23/AB23)-1) -> 0.022199494
A25: Tax Recovered on Gift Aid
A26: Tax Recovered on Gift Aid | B26: ='Income - General'!C26+'Income - Fabric'!C26+'Income - FlowerFund'!C26+'Income - SSchoolFund'!C26+'Income - Guild'!C26+'Income - Organ'!C26+'Income - SfSFund'!C26+'Income - Benevolent'!C26+'Income - Friday'!C26 -> 0 | C26: ='Income - General'!D26+'Income - Fabric'!D26+'Income - FlowerFund'!D26+'Income - SSchoolFund'!D26+'Income - Guild'!D26+'Income - Organ'!D26+'Income - SfSFund'!D26+'Income - Benevolent'!D26+'Income - Friday'!D26 -> 0 | D26: ='Income - General'!E26+'Income - Fabric'!E26+'Income - FlowerFund'!E26+'Income - SSchoolFund'!E26+'Income - Guild'!E26+'Income - Organ'!E26+'Income - SfSFund'!E26+'Income - Benevolent'!E26+'Income - Friday'!E26 -> 7935.48 | E26: ='Income - General'!F26+'Income - Fabric'!F26+'Income - FlowerFund'!F26+'Income - SSchoolFund'!F26+'Income - Guild'!F26+'Income - Organ'!F26+'Income - SfSFund'!F26+'Income - Benevolent'!F26+'Income - Friday'!F26 -> 2015.53 | F26: ='Income - General'!G26+'Income - Fabric'!G26+'Income - FlowerFund'!G26+'Income - SSchoolFund'!G26+'Income - Guild'!G26+'Income - Organ'!G26+'Income - SfSFund'!G26+'Income - Benevolent'!G26+'Income - Friday'!G26 -> 2142.75 | G26: ='Income - General'!H26+'Income - Fabric'!H26+'Income - FlowerFund'!H26+'Income - SSchoolFund'!H26+'Income - Guild'!H26+'Income - Organ'!H26+'Income - SfSFund'!H26+'Income - Benevolent'!H26+'Income - Friday'!H26 -> 0 | H26: ='Income - General'!I26+'Income - Fabric'!I26+'Income - FlowerFund'!I26+'Income - SSchoolFund'!I26+'Income - Guild'!I26+'Income - Organ'!I26+'Income - SfSFund'!I26+'Income - Benevolent'!I26+'Income - Friday'!I26 -> 0 | I26: ='Income - General'!J26+'Income - Fabric'!J26+'Income - FlowerFund'!J26+'Income - SSchoolFund'!J26+'Income - Guild'!J26+'Income - Organ'!J26+'Income - SfSFund'!J26+'Income - Benevolent'!J26+'Income - Friday'!J26 -> 0 | ... M26: ='Income - General'!N26+'Income - Fabric'!N26+'Income - FlowerFund'!N26+'Income - SSchoolFund'!N26+'Income - Guild'!N26+'Income - Organ'!N26+'Income - SfSFund'!N26+'Income - Benevolent'!N26+'Income - Friday'!N26 -> 0 | N26: =SUM(B26:M26) -> 12093.76 | P26: =N26-O26 -> 12093.76 | W26: =SUM(P26:V26) -> 12093.76 | Y26: =SUMIF('Income - OverallBUD'!$C$4:$N$4,'Income - Overall'!$Y$2,'Income - OverallBUD'!$C26:$N26) -> 10000 | Z26: =N26-Y26 -> 2093.76 | AB26: =SUMIF('Income - OverallPY'!$B$4:$N$4,'Income - Overall'!$AB$2,'Income - OverallPY'!$B26:$M26) -> 9296.87 | AC26: =N26-AB26 -> 2796.89 | AD26: =IF(ISERROR((N26/AB26)-1),"-",(N26/AB26)-1) -> 0.30084211
A27: Total Tax Recovered on Gift Aid | B27: =SUM(B26:B26) -> 0 | C27: =SUM(C26:C26) -> 0 | D27: =SUM(D26:D26) -> 7935.48 | E27: =SUM(E26:E26) -> 2015.53 | F27: =SUM(F26:F26) -> 2142.75 | G27: =SUM(G26:G26) -> 0 | H27: =SUM(H26:H26) -> 0 | I27: =SUM(I26:I26) -> 0 | ... N27: =SUM(N26:N26) -> 12093.76 | O27: =SUM(O26) -> 0 | P27: =SUM(P26) -> 12093.76 | Q27: =SUM(Q26) -> 0 | R27: =SUM(R26) -> 0 | S27: =SUM(S26) -> 0 | T27: =SUM(T26) -> 0 | U27: =SUM(U26) -> 0 | V27: =SUM(V26) -> 0 | W27: =SUM(W26) -> 12093.76 | Y27: =SUM(Y26:Y26) -> 10000 | Z27: =SUM(Z26:Z26) -> 2093.76 | AB27: =SUM(AB26:AB26) -> 9296.87 | AC27: =SUM(AC26:AC26) -> 2796.89 | AD27: =IF(ISERROR((N27/AB27)-1),"-",(N27/AB27)-1) -> 0.30084211
A29: Legacies
A30: Legacies | B30: ='Income - General'!C30+'Income - Fabric'!C31+'Income - FlowerFund'!C31+'Income - SSchoolFund'!C31+'Income - Guild'!C31+'Income - Organ'!C31+'Income - SfSFund'!C31+'Income - Benevolent'!C31+'Income - Friday'!C31 -> 0 | C30: ='Income - General'!D30+'Income - Fabric'!D31+'Income - FlowerFund'!D31+'Income - SSchoolFund'!D31+'Income - Guild'!D31+'Income - Organ'!D31+'Income - SfSFund'!D31+'Income - Benevolent'!D31+'Income - Friday'!D31 -> 0 | D30: ='Income - General'!E30+'Income - Fabric'!E31+'Income - FlowerFund'!E31+'Income - SSchoolFund'!E31+'Income - Guild'!E31+'Income - Organ'!E31+'Income - SfSFund'!E31+'Income - Benevolent'!E31+'Income - Friday'!E31 -> 0 | E30: ='Income - General'!F30+'Income - Fabric'!F31+'Income - FlowerFund'!F31+'Income - SSchoolFund'!F31+'Income - Guild'!F31+'Income - Organ'!F31+'Income - SfSFund'!F31+'Income - Benevolent'!F31+'Income - Friday'!F31 -> 0 | F30: ='Income - General'!G30+'Income - Fabric'!G31+'Income - FlowerFund'!G31+'Income - SSchoolFund'!G31+'Income - Guild'!G31+'Income - Organ'!G31+'Income - SfSFund'!G31+'Income - Benevolent'!G31+'Income - Friday'!G31 -> 0 | G30: ='Income - General'!H30+'Income - Fabric'!H31+'Income - FlowerFund'!H31+'Income - SSchoolFund'!H31+'Income - Guild'!H31+'Income - Organ'!H31+'Income - SfSFund'!H31+'Income - Benevolent'!H31+'Income - Friday'!H31 -> 0 | H30: ='Income - General'!I30+'Income - Fabric'!I31+'Income - FlowerFund'!I31+'Income - SSchoolFund'!I31+'Income - Guild'!I31+'Income - Organ'!I31+'Income - SfSFund'!I31+'Income - Benevolent'!I31+'Income - Friday'!I31 -> 0 | I30: ='Income - General'!J30+'Income - Fabric'!J31+'Income - FlowerFund'!J31+'Income - SSchoolFund'!J31+'Income - Guild'!J31+'Income - Organ'!J31+'Income - SfSFund'!J31+'Income - Benevolent'!J31+'Income - Friday'!J31 -> 0 | ... M30: ='Income - General'!N30+'Income - Fabric'!N31+'Income - FlowerFund'!N31+'Income - SSchoolFund'!N31+'Income - Guild'!N31+'Income - Organ'!N31+'Income - SfSFund'!N31+'Income - Benevolent'!N31+'Income - Friday'!N31 -> 0 | N30: =SUM(B30:M30) -> 0 | P30: =N30-O30 -> 0 | W30: =SUM(P30:V30) -> 0 | Y30: =SUMIF('Income - OverallBUD'!$C$4:$N$4,'Income - Overall'!$Y$2,'Income - OverallBUD'!$C30:$N30) -> 0 | Z30: =N30-Y30 -> 0 | AB30: =SUMIF('Income - OverallPY'!$B$4:$N$4,'Income - Overall'!$AB$2,'Income - OverallPY'!$B30:$M30) -> 0 | AC30: =N30-AB30 -> 0 | AD30: =IF(ISERROR((N30/AB30)-1),"-",(N30/AB30)-1) -> -
A31: Total Legacies | B31: =SUM(B30) -> 0 | C31: =SUM(C30) -> 0 | D31: =SUM(D30) -> 0 | E31: =SUM(E30) -> 0 | F31: =SUM(F30) -> 0 | G31: =SUM(G30) -> 0 | H31: =SUM(H30) -> 0 | I31: =SUM(I30) -> 0 | ... W31: =SUM(W30) -> 0 | Y31: =SUM(Y30) -> 0 | Z31: =SUM(Z30) -> 0 | AB31: =SUM(AB30) -> 0 | AC31: =SUM(AC30) -> 0 | AD31: =IF(ISERROR((N31/AB31)-1),"-",(N31/AB31)-1) -> -
A33: Other Donations
A34: Donations to Other Funds | B34: ='Income - General'!C34+'Income - Fabric'!C35+'Income - FlowerFund'!C35+'Income - SSchoolFund'!C35+'Income - Guild'!C35+'Income - Organ'!C35+'Income - SfSFund'!C35+'Income - Benevolent'!C35+'Income - Friday'!C35 -> 1220.25 | C34: ='Income - General'!D34+'Income - Fabric'!D35+'Income - FlowerFund'!D35+'Income - SSchoolFund'!D35+'Income - Guild'!D35+'Income - Organ'!D35+'Income - SfSFund'!D35+'Income - Benevolent'!D35+'Income - Friday'!D35 -> 0 | D34: ='Income - General'!E34+'Income - Fabric'!E35+'Income - FlowerFund'!E35+'Income - SSchoolFund'!E35+'Income - Guild'!E35+'Income - Organ'!E35+'Income - SfSFund'!E35+'Income - Benevolent'!E35+'Income - Friday'!E35 -> 0 | E34: ='Income - General'!F34+'Income - Fabric'!F35+'Income - FlowerFund'!F35+'Income - SSchoolFund'!F35+'Income - Guild'!F35+'Income - Organ'!F35+'Income - SfSFund'!F35+'Income - Benevolent'!F35+'Income - Friday'!F35 -> 0 | F34: ='Income - General'!G34+'Income - Fabric'!G35+'Income - FlowerFund'!G35+'Income - SSchoolFund'!G35+'Income - Guild'!G35+'Income - Organ'!G35+'Income - SfSFund'!G35+'Income - Benevolent'!G35+'Income - Friday'!G35 -> 0 | G34: ='Income - General'!H34+'Income - Fabric'!H35+'Income - FlowerFund'!H35+'Income - SSchoolFund'!H35+'Income - Guild'!H35+'Income - Organ'!H35+'Income - SfSFund'!H35+'Income - Benevolent'!H35+'Income - Friday'!H35 -> 0 | H34: ='Income - General'!I34+'Income - Fabric'!I35+'Income - FlowerFund'!I35+'Income - SSchoolFund'!I35+'Income - Guild'!I35+'Income - Organ'!I35+'Income - SfSFund'!I35+'Income - Benevolent'!I35+'Income - Friday'!I35 -> 0 | I34: ='Income - General'!J34+'Income - Fabric'!J35+'Income - FlowerFund'!J35+'Income - SSchoolFund'!J35+'Income - Guild'!J35+'Income - Organ'!J35+'Income - SfSFund'!J35+'Income - Benevolent'!J35+'Income - Friday'!J35 -> 0 | ... M34: ='Income - General'!N34+'Income - Fabric'!N35+'Income - FlowerFund'!N35+'Income - SSchoolFund'!N35+'Income - Guild'!N35+'Income - Organ'!N35+'Income - SfSFund'!N35+'Income - Benevolent'!N35+'Income - Friday'!N35 -> 0 | N34: =SUM(B34:M34) -> 1220.25 | P34: =N34-O34 -> 1220.25 | W34: =SUM(P34:V34) -> 1220.25 | Y34: =SUMIF('Income - OverallBUD'!$C$4:$N$4,'Income - Overall'!$Y$2,'Income - OverallBUD'!$C34:$N34) -> 0 | Z34: =N34-Y34 -> 1220.25 | AB34: 0 | AC34: =N34-AB34 -> 1220.25 | AD34: =IF(ISERROR((N34/AB34)-1),"-",(N34/AB34)-1) -> -
A35: Donations to Church Organisations | B35: ='Income - General'!C35+'Income - Fabric'!C36+'Income - FlowerFund'!C36+'Income - SSchoolFund'!C36+'Income - Guild'!C36+'Income - Organ'!C36+'Income - SfSFund'!C36+'Income - Benevolent'!C36+'Income - Friday'!C36 -> 0 | C35: ='Income - General'!D35+'Income - Fabric'!D36+'Income - FlowerFund'!D36+'Income - SSchoolFund'!D36+'Income - Guild'!D36+'Income - Organ'!D36+'Income - SfSFund'!D36+'Income - Benevolent'!D36+'Income - Friday'!D36 -> 0 | D35: ='Income - General'!E35+'Income - Fabric'!E36+'Income - FlowerFund'!E36+'Income - SSchoolFund'!E36+'Income - Guild'!E36+'Income - Organ'!E36+'Income - SfSFund'!E36+'Income - Benevolent'!E36+'Income - Friday'!E36 -> 0 | E35: ='Income - General'!F35+'Income - Fabric'!F36+'Income - FlowerFund'!F36+'Income - SSchoolFund'!F36+'Income - Guild'!F36+'Income - Organ'!F36+'Income - SfSFund'!F36+'Income - Benevolent'!F36+'Income - Friday'!F36 -> 0 | F35: ='Income - General'!G35+'Income - Fabric'!G36+'Income - FlowerFund'!G36+'Income - SSchoolFund'!G36+'Income - Guild'!G36+'Income - Organ'!G36+'Income - SfSFund'!G36+'Income - Benevolent'!G36+'Income - Friday'!G36 -> 0 | G35: ='Income - General'!H35+'Income - Fabric'!H36+'Income - FlowerFund'!H36+'Income - SSchoolFund'!H36+'Income - Guild'!H36+'Income - Organ'!H36+'Income - SfSFund'!H36+'Income - Benevolent'!H36+'Income - Friday'!H36 -> 0 | H35: ='Income - General'!I35+'Income - Fabric'!I36+'Income - FlowerFund'!I36+'Income - SSchoolFund'!I36+'Income - Guild'!I36+'Income - Organ'!I36+'Income - SfSFund'!I36+'Income - Benevolent'!I36+'Income - Friday'!I36 -> 0 | I35: ='Income - General'!J35+'Income - Fabric'!J36+'Income - FlowerFund'!J36+'Income - SSchoolFund'!J36+'Income - Guild'!J36+'Income - Organ'!J36+'Income - SfSFund'!J36+'Income - Benevolent'!J36+'Income - Friday'!J36 -> 0 | ... M35: ='Income - General'!N35+'Income - Fabric'!N36+'Income - FlowerFund'!N36+'Income - SSchoolFund'!N36+'Income - Guild'!N36+'Income - Organ'!N36+'Income - SfSFund'!N36+'Income - Benevolent'!N36+'Income - Friday'!N36 -> 0 | N35: =SUM(B35:M35) -> 0 | P35: =N35-O35 -> 0 | W35: =SUM(P35:V35) -> 0 | Y35: =SUMIF('Income - OverallBUD'!$C$4:$N$4,'Income - Overall'!$Y$2,'Income - OverallBUD'!$C35:$N35) -> 0 | Z35: =N35-Y35 -> 0 | AB35: =SUMIF('Income - OverallPY'!$B$4:$N$4,'Income - Overall'!$AB$2,'Income - OverallPY'!$B35:$M35) -> 0 | AC35: =N35-AB35 -> 0 | AD35: =IF(ISERROR((N35/AB35)-1),"-",(N35/AB35)-1) -> -
A36: Funds Generated by Church Organisations | B36: ='Income - General'!C36+'Income - Fabric'!C37+'Income - FlowerFund'!C37+'Income - SSchoolFund'!C37+'Income - Guild'!C37+'Income - Organ'!C37+'Income - SfSFund'!C37+'Income - Benevolent'!C37+'Income - Friday'!C37 -> 0 | C36: ='Income - General'!D36+'Income - Fabric'!D37+'Income - FlowerFund'!D37+'Income - SSchoolFund'!D37+'Income - Guild'!D37+'Income - Organ'!D37+'Income - SfSFund'!D37+'Income - Benevolent'!D37+'Income - Friday'!D37 -> 0 | D36: ='Income - General'!E36+'Income - Fabric'!E37+'Income - FlowerFund'!E37+'Income - SSchoolFund'!E37+'Income - Guild'!E37+'Income - Organ'!E37+'Income - SfSFund'!E37+'Income - Benevolent'!E37+'Income - Friday'!E37 -> 0 | E36: ='Income - General'!F36+'Income - Fabric'!F37+'Income - FlowerFund'!F37+'Income - SSchoolFund'!F37+'Income - Guild'!F37+'Income - Organ'!F37+'Income - SfSFund'!F37+'Income - Benevolent'!F37+'Income - Friday'!F37 -> 0 | F36: ='Income - General'!G36+'Income - Fabric'!G37+'Income - FlowerFund'!G37+'Income - SSchoolFund'!G37+'Income - Guild'!G37+'Income - Organ'!G37+'Income - SfSFund'!G37+'Income - Benevolent'!G37+'Income - Friday'!G37 -> 0 | G36: ='Income - General'!H36+'Income - Fabric'!H37+'Income - FlowerFund'!H37+'Income - SSchoolFund'!H37+'Income - Guild'!H37+'Income - Organ'!H37+'Income - SfSFund'!H37+'Income - Benevolent'!H37+'Income - Friday'!H37 -> 0 | H36: ='Income - General'!I36+'Income - Fabric'!I37+'Income - FlowerFund'!I37+'Income - SSchoolFund'!I37+'Income - Guild'!I37+'Income - Organ'!I37+'Income - SfSFund'!I37+'Income - Benevolent'!I37+'Income - Friday'!I37 -> 0 | I36: ='Income - General'!J36+'Income - Fabric'!J37+'Income - FlowerFund'!J37+'Income - SSchoolFund'!J37+'Income - Guild'!J37+'Income - Organ'!J37+'Income - SfSFund'!J37+'Income - Benevolent'!J37+'Income - Friday'!J37 -> 0 | ... M36: ='Income - General'!N36+'Income - Fabric'!N37+'Income - FlowerFund'!N37+'Income - SSchoolFund'!N37+'Income - Guild'!N37+'Income - Organ'!N37+'Income - SfSFund'!N37+'Income - Benevolent'!N37+'Income - Friday'!N37 -> 0 | N36: =SUM(B36:M36) -> 0 | P36: =N36-O36 -> 0 | W36: =SUM(P36:V36) -> 0 | Y36: =SUMIF('Income - OverallBUD'!$C$4:$N$4,'Income - Overall'!$Y$2,'Income - OverallBUD'!$C36:$N36) -> 0 | Z36: =N36-Y36 -> 0 | AB36: =SUMIF('Income - OverallPY'!$B$4:$N$4,'Income - Overall'!$AB$2,'Income - OverallPY'!$B36:$M36) -> 0 | AC36: =N36-AB36 -> 0 | AD36: =IF(ISERROR((N36/AB36)-1),"-",(N36/AB36)-1) -> -
A37: Total Other Donations | B37: =SUM(B34:B36) -> 1220.25 | C37: =SUM(C34:C36) -> 0 | D37: =SUM(D34:D36) -> 0 | E37: =SUM(E34:E36) -> 0 | F37: =SUM(F34:F36) -> 0 | G37: =SUM(G34:G36) -> 0 | H37: =SUM(H34:H36) -> 0 | I37: =SUM(I34:I36) -> 0 | ... W37: =SUM(W34:W36) -> 1220.25 | Y37: =SUM(Y34:Y36) -> 0 | Z37: =SUM(Z34:Z36) -> 1220.25 | AB37: =SUM(AB34:AB36) -> 0 | AC37: =SUM(AC34:AC36) -> 1220.25 | AD37: =IF(ISERROR((N37/AB37)-1),"-",(N37/AB37)-1) -> -
A39: Total Voluntary Income | B39: =B37+B31+B27+B16+B23 -> 10983.84 | C39: =C37+C31+C27+C16+C23 -> 10192.97 | D39: =D37+D31+D27+D16+D23 -> 18173.09 | E39: =E37+E31+E27+E16+E23 -> 12176.16 | F39: =F37+F31+F27+F16+F23 -> 15251.47 | G39: =G37+G31+G27+G16+G23 -> 0 | H39: =H37+H31+H27+H16+H23 -> 0 | I39: =I37+I31+I27+I16+I23 -> 0 | ... W39: =W37+W31+W27+W16+W23 -> 66777.53 | Y39: =Y37+Y31+Y27+Y16+Y23 -> 61900 | Z39: =Z37+Z31+Z27+Z16+Z23 -> 4877.53 | AB39: =AB37+AB31+AB27+AB16+AB23 -> 63591.54 | AC39: =AC37+AC31+AC27+AC16+AC23 -> 3185.99 | AD39: =IF(ISERROR((N39/AB39)-1),"-",(N39/AB39)-1) -> 0.050100847
A41: Activities for Generating Funds
A42: Use of Premises | B42: ='Income - General'!C42+'Income - Fabric'!C43+'Income - FlowerFund'!C43+'Income - SSchoolFund'!C43+'Income - Guild'!C43+'Income - Organ'!C43+'Income - SfSFund'!C43+'Income - Benevolent'!C43+'Income - Friday'!C43 -> 1057.8 | C42: ='Income - General'!D42+'Income - Fabric'!D43+'Income - FlowerFund'!D43+'Income - SSchoolFund'!D43+'Income - Guild'!D43+'Income - Organ'!D43+'Income - SfSFund'!D43+'Income - Benevolent'!D43+'Income - Friday'!D43 -> 1351.5 | D42: ='Income - General'!E42+'Income - Fabric'!E43+'Income - FlowerFund'!E43+'Income - SSchoolFund'!E43+'Income - Guild'!E43+'Income - Organ'!E43+'Income - SfSFund'!E43+'Income - Benevolent'!E43+'Income - Friday'!E43 -> 1586.75 | E42: ='Income - General'!F42+'Income - Fabric'!F43+'Income - FlowerFund'!F43+'Income - SSchoolFund'!F43+'Income - Guild'!F43+'Income - Organ'!F43+'Income - SfSFund'!F43+'Income - Benevolent'!F43+'Income - Friday'!F43 -> 1695 | F42: ='Income - General'!G42+'Income - Fabric'!G43+'Income - FlowerFund'!G43+'Income - SSchoolFund'!G43+'Income - Guild'!G43+'Income - Organ'!G43+'Income - SfSFund'!G43+'Income - Benevolent'!G43+'Income - Friday'!G43 -> 1840.25 | G42: ='Income - General'!H42+'Income - Fabric'!H43+'Income - FlowerFund'!H43+'Income - SSchoolFund'!H43+'Income - Guild'!H43+'Income - Organ'!H43+'Income - SfSFund'!H43+'Income - Benevolent'!H43+'Income - Friday'!H43 -> 0 | H42: ='Income - General'!I42+'Income - Fabric'!I43+'Income - FlowerFund'!I43+'Income - SSchoolFund'!I43+'Income - Guild'!I43+'Income - Organ'!I43+'Income - SfSFund'!I43+'Income - Benevolent'!I43+'Income - Friday'!I43 -> 0 | I42: ='Income - General'!J42+'Income - Fabric'!J43+'Income - FlowerFund'!J43+'Income - SSchoolFund'!J43+'Income - Guild'!J43+'Income - Organ'!J43+'Income - SfSFund'!J43+'Income - Benevolent'!J43+'Income - Friday'!J43 -> 0 | ... M42: ='Income - General'!N42+'Income - Fabric'!N43+'Income - FlowerFund'!N43+'Income - SSchoolFund'!N43+'Income - Guild'!N43+'Income - Organ'!N43+'Income - SfSFund'!N43+'Income - Benevolent'!N43+'Income - Friday'!N43 -> 0 | N42: =SUM(B42:M42) -> 7531.3 | P42: =N42-O42 -> 7531.3 | W42: =SUM(P42:V42) -> 7531.3 | Y42: =SUMIF('Income - OverallBUD'!$C$4:$N$4,'Income - Overall'!$Y$2,'Income - OverallBUD'!$C42:$N42) -> 7500 | Z42: =N42-Y42 -> 31.3 | AB42: =SUMIF('Income - OverallPY'!$B$4:$N$4,'Income - Overall'!$AB$2,'Income - OverallPY'!$B42:$M42) -> 6872.43 | AC42: =N42-AB42 -> 658.87 | AD42: =IF(ISERROR((N42/AB42)-1),"-",(N42/AB42)-1) -> 0.095871475
A43: Total Activities for Generating Funds | B43: =SUM(B42) -> 1057.8 | C43: =SUM(C42) -> 1351.5 | D43: =SUM(D42) -> 1586.75 | E43: =SUM(E42) -> 1695 | F43: =SUM(F42) -> 1840.25 | G43: =SUM(G42) -> 0 | H43: =SUM(H42) -> 0 | I43: =SUM(I42) -> 0 | ... W43: =SUM(W42) -> 7531.3 | Y43: =SUM(Y42) -> 7500 | Z43: =SUM(Z42) -> 31.3 | AB43: =SUM(AB42) -> 6872.43 | AC43: =SUM(AC42) -> 658.87 | AD43: =IF(ISERROR((N43/AB43)-1),"-",(N43/AB43)-1) -> 0.095871475
A45: Investment Income
A46: Deposit Interest | B46: ='Income - General'!C46+'Income - Fabric'!C47+'Income - FlowerFund'!C47+'Income - SSchoolFund'!C47+'Income - Guild'!C47+'Income - Organ'!C47+'Income - SfSFund'!C47+'Income - Benevolent'!C47+'Income - Friday'!C47 -> 0 | C46: ='Income - General'!D46+'Income - Fabric'!D47+'Income - FlowerFund'!D47+'Income - SSchoolFund'!D47+'Income - Guild'!D47+'Income - Organ'!D47+'Income - SfSFund'!D47+'Income - Benevolent'!D47+'Income - Friday'!D47 -> 0 | D46: ='Income - General'!E46+'Income - Fabric'!E47+'Income - FlowerFund'!E47+'Income - SSchoolFund'!E47+'Income - Guild'!E47+'Income - Organ'!E47+'Income - SfSFund'!E47+'Income - Benevolent'!E47+'Income - Friday'!E47 -> 0 | E46: ='Income - General'!F46+'Income - Fabric'!F47+'Income - FlowerFund'!F47+'Income - SSchoolFund'!F47+'Income - Guild'!F47+'Income - Organ'!F47+'Income - SfSFund'!F47+'Income - Benevolent'!F47+'Income - Friday'!F47 -> 2544.92 | F46: ='Income - General'!G46+'Income - Fabric'!G47+'Income - FlowerFund'!G47+'Income - SSchoolFund'!G47+'Income - Guild'!G47+'Income - Organ'!G47+'Income - SfSFund'!G47+'Income - Benevolent'!G47+'Income - Friday'!G47 -> 1133.19 | G46: ='Income - General'!H46+'Income - Fabric'!H47+'Income - FlowerFund'!H47+'Income - SSchoolFund'!H47+'Income - Guild'!H47+'Income - Organ'!H47+'Income - SfSFund'!H47+'Income - Benevolent'!H47+'Income - Friday'!H47 -> 0 | H46: ='Income - General'!I46+'Income - Fabric'!I47+'Income - FlowerFund'!I47+'Income - SSchoolFund'!I47+'Income - Guild'!I47+'Income - Organ'!I47+'Income - SfSFund'!I47+'Income - Benevolent'!I47+'Income - Friday'!I47 -> 0 | I46: ='Income - General'!J46+'Income - Fabric'!J47+'Income - FlowerFund'!J47+'Income - SSchoolFund'!J47+'Income - Guild'!J47+'Income - Organ'!J47+'Income - SfSFund'!J47+'Income - Benevolent'!J47+'Income - Friday'!J47 -> 0 | ... M46: ='Income - General'!N46+'Income - Fabric'!N47+'Income - FlowerFund'!N47+'Income - SSchoolFund'!N47+'Income - Guild'!N47+'Income - Organ'!N47+'Income - SfSFund'!N47+'Income - Benevolent'!N47+'Income - Friday'!N47 -> 0 | N46: =SUM(B46:M46) -> 3678.11 | P46: =N46-O46 -> 3678.11 | W46: =SUM(P46:V46) -> 3678.11 | Y46: =SUMIF('Income - OverallBUD'!$C$4:$N$4,'Income - Overall'!$Y$2,'Income - OverallBUD'!$C46:$N46) -> 1500 | Z46: =N46-Y46 -> 2178.11 | AB46: =SUMIF('Income - OverallPY'!$B$4:$N$4,'Income - Overall'!$AB$2,'Income - OverallPY'!$B46:$M46) -> 4544.82 | AC46: =N46-AB46 -> -866.71 | AD46: =IF(ISERROR((N46/AB46)-1),"-",(N46/AB46)-1) -> -0.19070282
A47: Bank Interest | B47: ='Income - General'!C47+'Income - Fabric'!C48+'Income - FlowerFund'!C48+'Income - SSchoolFund'!C48+'Income - Guild'!C48+'Income - Organ'!C48+'Income - SfSFund'!C48+'Income - Benevolent'!C48+'Income - Friday'!C48 -> 33.84 | C47: ='Income - General'!D47+'Income - Fabric'!D48+'Income - FlowerFund'!D48+'Income - SSchoolFund'!D48+'Income - Guild'!D48+'Income - Organ'!D48+'Income - SfSFund'!D48+'Income - Benevolent'!D48+'Income - Friday'!D48 -> 22.42 | D47: ='Income - General'!E47+'Income - Fabric'!E48+'Income - FlowerFund'!E48+'Income - SSchoolFund'!E48+'Income - Guild'!E48+'Income - Organ'!E48+'Income - SfSFund'!E48+'Income - Benevolent'!E48+'Income - Friday'!E48 -> 17.4 | E47: ='Income - General'!F47+'Income - Fabric'!F48+'Income - FlowerFund'!F48+'Income - SSchoolFund'!F48+'Income - Guild'!F48+'Income - Organ'!F48+'Income - SfSFund'!F48+'Income - Benevolent'!F48+'Income - Friday'!F48 -> 12.34 | F47: ='Income - General'!G47+'Income - Fabric'!G48+'Income - FlowerFund'!G48+'Income - SSchoolFund'!G48+'Income - Guild'!G48+'Income - Organ'!G48+'Income - SfSFund'!G48+'Income - Benevolent'!G48+'Income - Friday'!G48 -> 19.05 | G47: ='Income - General'!H47+'Income - Fabric'!H48+'Income - FlowerFund'!H48+'Income - SSchoolFund'!H48+'Income - Guild'!H48+'Income - Organ'!H48+'Income - SfSFund'!H48+'Income - Benevolent'!H48+'Income - Friday'!H48 -> 0 | H47: ='Income - General'!I47+'Income - Fabric'!I48+'Income - FlowerFund'!I48+'Income - SSchoolFund'!I48+'Income - Guild'!I48+'Income - Organ'!I48+'Income - SfSFund'!I48+'Income - Benevolent'!I48+'Income - Friday'!I48 -> 0 | I47: ='Income - General'!J47+'Income - Fabric'!J48+'Income - FlowerFund'!J48+'Income - SSchoolFund'!J48+'Income - Guild'!J48+'Income - Organ'!J48+'Income - SfSFund'!J48+'Income - Benevolent'!J48+'Income - Friday'!J48 -> 0 | ... M47: ='Income - General'!N47+'Income - Fabric'!N48+'Income - FlowerFund'!N48+'Income - SSchoolFund'!N48+'Income - Guild'!N48+'Income - Organ'!N48+'Income - SfSFund'!N48+'Income - Benevolent'!N48+'Income - Friday'!N48 -> 0 | N47: =SUM(B47:M47) -> 105.05 | P47: =N47-O47 -> 105.05 | W47: =SUM(P47:V47) -> 105.05 | Y47: =SUMIF('Income - OverallBUD'!$C$4:$N$4,'Income - Overall'!$Y$2,'Income - OverallBUD'!$C47:$N47) -> 0 | Z47: =N47-Y47 -> 105.05 | AB47: =SUMIF('Income - OverallPY'!$B$4:$N$4,'Income - Overall'!$AB$2,'Income - OverallPY'!$B47:$M47) -> 278.36 | AC47: =N47-AB47 -> -173.31 | AD47: =IF(ISERROR((N47/AB47)-1),"-",(N47/AB47)-1) -> -0.62261101
...

Sheet Expend - Overall
A1: Banchory-Ternan West Parish Church
A2: Income & Expenditure Statement | Y2: 5 | AB2: 5
A3: ='Income - Overall'!A3 -> 46173 | AB3: Same
A4: OVERALL FUNDS: EXPENDITURE | AB4: Period
Q5: Gift Aid | R5: Wrong | S5: C Card | T5: Ministries | U5: ABA | V5: Church | Y5: YTD | AB5: 2025 | AD5: %
B6: Jan | C6: Feb | D6: Mar | E6: Apr | F6: May | G6: Jun | H6: Jul | I6: Aug | J6: Sep | K6: Oct | L6: Nov | M6: Dec | N6: Tot | O6: TB | P6: Variance | Q6: Transfer | R6: Year | S6: Transfer | T6: Council | U6: Funds | V6: Weekend | W6: Variance | Y6: Budget | Z6: Variance | AB6: Actual | AC6: Variance | AD6: Variance
A7: Costs of Generating Funds
A8: Offering Envelopes | B8: ='Expend - General'!C8+'Expend - Fabric'!C8+'Expend - FlowerFund'!C8+'Expend - SSchoolFund'!C8+'Expend - ReithMemorial'!C8+'Expend - SfSFund'!C8+'Expend - Guild'!C8+'Expend - Organ'!C8+'Expend - JrChurch'!C8+'Expend - Benevolent'!C8+'Expend - Friday'!C8 -> 0 | C8: ='Expend - General'!D8+'Expend - Fabric'!D8+'Expend - FlowerFund'!D8+'Expend - SSchoolFund'!D8+'Expend - ReithMemorial'!D8+'Expend - SfSFund'!D8+'Expend - Guild'!D8+'Expend - Organ'!D8+'Expend - JrChurch'!D8+'Expend - Benevolent'!D8+'Expend - Friday'!D8 -> 0 | D8: ='Expend - General'!E8+'Expend - Fabric'!E8+'Expend - FlowerFund'!E8+'Expend - SSchoolFund'!E8+'Expend - ReithMemorial'!E8+'Expend - SfSFund'!E8+'Expend - Guild'!E8+'Expend - Organ'!E8+'Expend - JrChurch'!E8+'Expend - Benevolent'!E8+'Expend - Friday'!E8 -> 0 | E8: ='Expend - General'!F8+'Expend - Fabric'!F8+'Expend - FlowerFund'!F8+'Expend - SSchoolFund'!F8+'Expend - ReithMemorial'!F8+'Expend - SfSFund'!F8+'Expend - Guild'!F8+'Expend - Organ'!F8+'Expend - JrChurch'!F8+'Expend - Benevolent'!F8+'Expend - Friday'!F8 -> 0 | F8: ='Expend - General'!G8+'Expend - Fabric'!G8+'Expend - FlowerFund'!G8+'Expend - SSchoolFund'!G8+'Expend - ReithMemorial'!G8+'Expend - SfSFund'!G8+'Expend - Guild'!G8+'Expend - Organ'!G8+'Expend - JrChurch'!G8+'Expend - Benevolent'!G8+'Expend - Friday'!G8 -> 0 | G8: ='Expend - General'!H8+'Expend - Fabric'!H8+'Expend - FlowerFund'!H8+'Expend - SSchoolFund'!H8+'Expend - ReithMemorial'!H8+'Expend - SfSFund'!H8+'Expend - Guild'!H8+'Expend - Organ'!H8+'Expend - JrChurch'!H8+'Expend - Benevolent'!H8+'Expend - Friday'!H8 -> 0 | H8: ='Expend - General'!I8+'Expend - Fabric'!I8+'Expend - FlowerFund'!I8+'Expend - SSchoolFund'!I8+'Expend - ReithMemorial'!I8+'Expend - SfSFund'!I8+'Expend - Guild'!I8+'Expend - Organ'!I8+'Expend - JrChurch'!I8+'Expend - Benevolent'!I8+'Expend - Friday'!I8 -> 0 | I8: ='Expend - General'!J8+'Expend - Fabric'!J8+'Expend - FlowerFund'!J8+'Expend - SSchoolFund'!J8+'Expend - ReithMemorial'!J8+'Expend - SfSFund'!J8+'Expend - Guild'!J8+'Expend - Organ'!J8+'Expend - JrChurch'!J8+'Expend - Benevolent'!J8+'Expend - Friday'!J8 -> 0 | ... M8: ='Expend - General'!N8+'Expend - Fabric'!N8+'Expend - FlowerFund'!N8+'Expend - SSchoolFund'!N8+'Expend - ReithMemorial'!N8+'Expend - SfSFund'!N8+'Expend - Guild'!N8+'Expend - Organ'!N8+'Expend - JrChurch'!N8+'Expend - Benevolent'!N8+'Expend - Friday'!N8 -> 0 | N8: =SUM(B8:M8) -> 0 | P8: =N8-O8 -> 0 | W8: =SUM(P8:V8) -> 0 | Y8: =SUMIF('Expend - OverallBUD'!$C$4:$N$4,'Expend - Overall'!$Y$2,'Expend - OverallBUD'!$C8:$N8) -> 0 | Z8: =Y8-N8 -> 0 | AB8: =SUMIF('Expend - OverallPY'!$B$4:$M$4,'Expend - Overall'!$AB$2,'Expend - OverallPY'!$B8:$M8) -> 0 | AC8: =AB8-N8 -> 0 | AD8: =IF(ISERROR((AB8/N8)-1),"-",(AB8/N8)-1) -> -
A9: Stewardship Campaign Costs | B9: ='Expend - General'!C9+'Expend - Fabric'!C9+'Expend - FlowerFund'!C9+'Expend - SSchoolFund'!C9+'Expend - ReithMemorial'!C9+'Expend - SfSFund'!C9+'Expend - Guild'!C9+'Expend - Organ'!C9+'Expend - JrChurch'!C9+'Expend - Benevolent'!C9+'Expend - Friday'!C9 -> 0 | C9: ='Expend - General'!D9+'Expend - Fabric'!D9+'Expend - FlowerFund'!D9+'Expend - SSchoolFund'!D9+'Expend - ReithMemorial'!D9+'Expend - SfSFund'!D9+'Expend - Guild'!D9+'Expend - Organ'!D9+'Expend - JrChurch'!D9+'Expend - Benevolent'!D9+'Expend - Friday'!D9 -> 0 | D9: ='Expend - General'!E9+'Expend - Fabric'!E9+'Expend - FlowerFund'!E9+'Expend - SSchoolFund'!E9+'Expend - ReithMemorial'!E9+'Expend - SfSFund'!E9+'Expend - Guild'!E9+'Expend - Organ'!E9+'Expend - JrChurch'!E9+'Expend - Benevolent'!E9+'Expend - Friday'!E9 -> 0 | E9: ='Expend - General'!F9+'Expend - Fabric'!F9+'Expend - FlowerFund'!F9+'Expend - SSchoolFund'!F9+'Expend - ReithMemorial'!F9+'Expend - SfSFund'!F9+'Expend - Guild'!F9+'Expend - Organ'!F9+'Expend - JrChurch'!F9+'Expend - Benevolent'!F9+'Expend - Friday'!F9 -> 0 | F9: ='Expend - General'!G9+'Expend - Fabric'!G9+'Expend - FlowerFund'!G9+'Expend - SSchoolFund'!G9+'Expend - ReithMemorial'!G9+'Expend - SfSFund'!G9+'Expend - Guild'!G9+'Expend - Organ'!G9+'Expend - JrChurch'!G9+'Expend - Benevolent'!G9+'Expend - Friday'!G9 -> 0 | G9: ='Expend - General'!H9+'Expend - Fabric'!H9+'Expend - FlowerFund'!H9+'Expend - SSchoolFund'!H9+'Expend - ReithMemorial'!H9+'Expend - SfSFund'!H9+'Expend - Guild'!H9+'Expend - Organ'!H9+'Expend - JrChurch'!H9+'Expend - Benevolent'!H9+'Expend - Friday'!H9 -> 0 | H9: ='Expend - General'!I9+'Expend - Fabric'!I9+'Expend - FlowerFund'!I9+'Expend - SSchoolFund'!I9+'Expend - ReithMemorial'!I9+'Expend - SfSFund'!I9+'Expend - Guild'!I9+'Expend - Organ'!I9+'Expend - JrChurch'!I9+'Expend - Benevolent'!I9+'Expend - Friday'!I9 -> 0 | I9: ='Expend - General'!J9+'Expend - Fabric'!J9+'Expend - FlowerFund'!J9+'Expend - SSchoolFund'!J9+'Expend - ReithMemorial'!J9+'Expend - SfSFund'!J9+'Expend - Guild'!J9+'Expend - Organ'!J9+'Expend - JrChurch'!J9+'Expend - Benevolent'!J9+'Expend - Friday'!J9 -> 0 | ... M9: ='Expend - General'!N9+'Expend - Fabric'!N9+'Expend - FlowerFund'!N9+'Expend - SSchoolFund'!N9+'Expend - ReithMemorial'!N9+'Expend - SfSFund'!N9+'Expend - Guild'!N9+'Expend - Organ'!N9+'Expend - JrChurch'!N9+'Expend - Benevolent'!N9+'Expend - Friday'!N9 -> 0 | N9: =SUM(B9:M9) -> 0 | P9: =N9-O9 -> 0 | W9: =SUM(P9:V9) -> 0 | Y9: =SUMIF('Expend - OverallBUD'!$C$4:$N$4,'Expend - Overall'!$Y$2,'Expend - OverallBUD'!$C9:$N9) -> 0 | Z9: =Y9-N9 -> 0 | AB9: =SUMIF('Expend - OverallPY'!$B$4:$M$4,'Expend - Overall'!$AB$2,'Expend - OverallPY'!$B9:$M9) -> 0 | AC9: =AB9-N9 -> 0 | AD9: =IF(ISERROR((AB9/N9)-1),"-",(AB9/N9)-1) -> -
A10: Total Costs of Generating Funds | B10: =SUM(B8:B9) -> 0 | C10: =SUM(C8:C9) -> 0 | D10: =SUM(D8:D9) -> 0 | E10: =SUM(E8:E9) -> 0 | F10: =SUM(F8:F9) -> 0 | G10: =SUM(G8:G9) -> 0 | H10: =SUM(H8:H9) -> 0 | I10: =SUM(I8:I9) -> 0 | ... W10: =SUM(W8:W9) -> 0 | Y10: =SUM(Y8:Y9) -> 0 | Z10: =SUM(Z8:Z9) -> 0 | AB10: =SUM(AB8:AB9) -> 0 | AC10: =SUM(AC8:AC9) -> 0 | AD10: =IF(ISERROR((AB10/N10)-1),"-",(AB10/N10)-1) -> -
A12: Charitable Activities
A13: Ministries and Mission Allocation | B13: ='Expend - General'!C13+'Expend - Fabric'!C13+'Expend - FlowerFund'!C13+'Expend - SSchoolFund'!C13+'Expend - ReithMemorial'!C13+'Expend - SfSFund'!C13+'Expend - Guild'!C13+'Expend - Organ'!C13+'Expend - JrChurch'!C13+'Expend - Benevolent'!C13+'Expend - Friday'!C13 -> 0 | C13: ='Expend - General'!D13+'Expend - Fabric'!D13+'Expend - FlowerFund'!D13+'Expend - SSchoolFund'!D13+'Expend - ReithMemorial'!D13+'Expend - SfSFund'!D13+'Expend - Guild'!D13+'Expend - Organ'!D13+'Expend - JrChurch'!D13+'Expend - Benevolent'!D13+'Expend - Friday'!D13 -> 6400.1 | D13: ='Expend - General'!E13+'Expend - Fabric'!E13+'Expend - FlowerFund'!E13+'Expend - SSchoolFund'!E13+'Expend - ReithMemorial'!E13+'Expend - SfSFund'!E13+'Expend - Guild'!E13+'Expend - Organ'!E13+'Expend - JrChurch'!E13+'Expend - Benevolent'!E13+'Expend - Friday'!E13 -> 6400.1 | E13: ='Expend - General'!F13+'Expend - Fabric'!F13+'Expend - FlowerFund'!F13+'Expend - SSchoolFund'!F13+'Expend - ReithMemorial'!F13+'Expend - SfSFund'!F13+'Expend - Guild'!F13+'Expend - Organ'!F13+'Expend - JrChurch'!F13+'Expend - Benevolent'!F13+'Expend - Friday'!F13 -> 6400.1 | F13: ='Expend - General'!G13+'Expend - Fabric'!G13+'Expend - FlowerFund'!G13+'Expend - SSchoolFund'!G13+'Expend - ReithMemorial'!G13+'Expend - SfSFund'!G13+'Expend - Guild'!G13+'Expend - Organ'!G13+'Expend - JrChurch'!G13+'Expend - Benevolent'!G13+'Expend - Friday'!G13 -> 6400.1 | G13: ='Expend - General'!H13+'Expend - Fabric'!H13+'Expend - FlowerFund'!H13+'Expend - SSchoolFund'!H13+'Expend - ReithMemorial'!H13+'Expend - SfSFund'!H13+'Expend - Guild'!H13+'Expend - Organ'!H13+'Expend - JrChurch'!H13+'Expend - Benevolent'!H13+'Expend - Friday'!H13 -> 0 | H13: ='Expend - General'!I13+'Expend - Fabric'!I13+'Expend - FlowerFund'!I13+'Expend - SSchoolFund'!I13+'Expend - ReithMemorial'!I13+'Expend - SfSFund'!I13+'Expend - Guild'!I13+'Expend - Organ'!I13+'Expend - JrChurch'!I13+'Expend - Benevolent'!I13+'Expend - Friday'!I13 -> 0 | I13: ='Expend - General'!J13+'Expend - Fabric'!J13+'Expend - FlowerFund'!J13+'Expend - SSchoolFund'!J13+'Expend - ReithMemorial'!J13+'Expend - SfSFund'!J13+'Expend - Guild'!J13+'Expend - Organ'!J13+'Expend - JrChurch'!J13+'Expend - Benevolent'!J13+'Expend - Friday'!J13 -> 0 | ... M13: ='Expend - General'!N13+'Expend - Fabric'!N13+'Expend - FlowerFund'!N13+'Expend - SSchoolFund'!N13+'Expend - ReithMemorial'!N13+'Expend - SfSFund'!N13+'Expend - Guild'!N13+'Expend - Organ'!N13+'Expend - JrChurch'!N13+'Expend - Benevolent'!N13+'Expend - Friday'!N13 -> 0 | N13: =SUM(B13:M13) -> 25600.4 | P13: =N13-O13 -> 25600.4 | W13: =SUM(P13:V13) -> 25600.4 | Y13: =SUMIF('Expend - OverallBUD'!$C$4:$N$4,'Expend - Overall'!$Y$2,'Expend - OverallBUD'!$C13:$N13) -> 25600.4 | Z13: =Y13-N13 -> 0 | AB13: =SUMIF('Expend - OverallPY'!$B$4:$M$4,'Expend - Overall'!$AB$2,'Expend - OverallPY'!$B13:$M13) -> 23486.5 | AC13: =AB13-N13 -> -2113.9 | AD13: =IF(ISERROR((AB13/N13)-1),"-",(AB13/N13)-1) -> -0.082572929
