Workbook

Sheet R&P Accounts
B1: Enter charity name below | L1: Enter SC No. below
B2: Beechgrove Sports Partnership | L2: SC045174
B3: Receipts and payments accounts
B4: For the period from | D4: Period start date | G4: to | H4: Period end date
D5: 1st Nov 2024 | H5: 31st Oct 2025
A8: Section A Statement of receipts and payments
B9: Unrestricted funds | D9: Restricted funds | F9: Expendable endowment funds | H9: Permanent endowment funds | J9: Total funds current period | L9: Total funds last period
B10: to nearest £ | D10: to nearest £ | F10: to nearest £ | H10: to nearest £ | J10: to nearest £ | L10: to nearest £
A11: A1 Receipts
A12: Donations | J12: =H12+D12+B12+F12 -> 0 | L12: 0
A13: Legacies | L13: 0
A14: Grants | J14: =H14+D14+B14+F14 -> 0 | L14: 0
A15: Receipts from fundraising activities | J15: =H15+D15+B15+F15 -> 0 | L15: 0
A16: Gross trading receipts
A17: Income from investments other than land and buildings | J17: =H17+D17+B17+F17 -> 0
A18: Rents from land & buildings
A19: Gross receipts from other charitable activities | B19: 3435 | J19: =SUM(B19:H19) -> 3435 | L19: 2854
A21: A1 Sub total | B21: =SUM(B12:B20) -> 3435 | D21: =SUM(D12:D20) -> 0 | F21: =SUM(F12:F20) -> 0 | H21: =SUM(H12:H20) -> 0 | J21: =H21+D21+B21+F21 -> 3435 | L21: =SUM(L12:L20) -> 2854
J22: =IF(B21+D21+F21+H21-J21=0," ","error")
A23: A2 Receipts from asset & investment sales
A24: Proceeds from sale of fixed assets | J24: =H24+D24+B24+F24 -> 0
A25: Proceeds from sale of investments | J25: =H25+D25+B25+F25 -> 0
A26: A2 Sub total | B26: =SUM(B24:B25) -> 0 | D26: =SUM(D24:D25) -> 0 | F26: =SUM(F24:F25) -> 0 | H26: =SUM(H24:H25) -> 0 | J26: =SUM(J24:J25) -> 0 | L26: =SUM(L24:L25) -> 0
J27: =IF(B26+D26+F26+H26-J26=0," ","error")
A28: Total receipts | B28: =B26+B21 -> 3435 | D28: =D26+D21 -> 0 | F28: =F26+F21 -> 0 | H28: =H26+H21 -> 0 | J28: =J26+J21 -> 3435 | L28: =L26+L21 -> 2854
J29: =IF(B28+D28+H28-J28=0," ","error")
A30: A3 Payments
A31: Expenses for fundraising activities | J31: =H31+D31+B31+F31 -> 0 | L31: 0
A32: Gross trading payments | J32: =H32+D32+B32+F32 -> 0
A33: Investment management costs | J33: =H33+D33+B33+F33 -> 0
A34: Payments relating directly to charitable activities | B34: 3344 | D34: 73 | J34: =H34+D34+B34+F34 -> 3417 | L34: 5804
A35: Grants and donations | J35: =H35+D35+B35+F35 -> 0
A36: Governance costs: | J36: =H36+D36+B36+F36 -> 0
A37: Audit / independent examination | J37: =H37+D37+B37+F37 -> 0
A38: Preparation of annual accounts | J38: =H38+D38+B38+F38 -> 0
A39: Legal costs | J39: =H39+D39+B39+F39 -> 0
A40: Other | J40: =H40+D40+B40+F40 -> 0
J41: =H41+D41+B41+F41 -> 0
A42: A3 Sub total | B42: =SUM(B31:B41) -> 3344 | D42: =SUM(D31:D41) -> 73 | F42: =SUM(F31:F41) -> 0 | H42: =SUM(H31:H41) -> 0 | J42: =SUM(J31:J41) -> 3417 | L42: =SUM(L31:L41) -> 5804
J43: =IF(B42+D42+F42+H42-J42=0," ","error")
...

Sheet Statement of balances
B1: ='R&P Accounts'!B2 -> Beechgrove Sports Partnership | N1: ='R&P Accounts'!L2 -> SC045174
A2: Section B Statement of balances
A3: Categories | B3: Details | F3: Unrestricted funds | H3: Restricted funds | J3: Expendable endowment funds | L3: Permanent endowment funds | N3: Total current period | P3: Total last period
F4: to nearest £ | H4: to nearest £ | J4: to nearest £ | L4: to nearest £ | N4: to nearest £ | P4: to nearest £
A5: B1 Cash funds | B5: Cash and bank balances at start of year | F5: 456 | H5: 1573 | N5: =F5+H5+J5+L5 -> 2029 | P5: 4979
B6: Surplus / (deficit) shown on receipts and payments account | F6: ='R&P Accounts'!B55 -> 91 | G6: 13 | H6: ='R&P Accounts'!D55 -> -73 | N6: =F6+H6+J6+L6 -> 18 | P6: -2950
N7: =F7+H7+J7+L7 -> 0
N8: =F8+H8+J8+L8 -> 0
B9: Cash and bank balances at end of year | F9: =SUM(F5:F8) -> 547 | H9: =SUM(H5:H8) -> 1500 | J9: =SUM(J5:J8) -> 0 | L9: =SUM(L5:L8) -> 0 | N9: =F9+H9+J9+L9 -> 2047 | P9: =SUM(P5:P6) -> 2029
B10: (Agree balances with receipts and payments account(s)) | F10: =F6-'R&P Accounts'!B55 -> 0 | H10: =H6-'R&P Accounts'!D55 -> 0 | J10: =J6-'R&P Accounts'!F55 -> 0 | L10: =L6-'R&P Accounts'!H55 -> 0 | N10: =N6-'R&P Accounts'!J55 -> 0 | P10: =P6-'R&P Accounts'!L55 -> 0
B12: Details | J12: Fund to which asset belongs | N12: Market valuation | P12: Last year
N13: to nearest £ | P13: to nearest £
A14: B2 Investments
L19: Total | N19: =SUM(N14:N18) -> 0 | P19: =SUM(P14:P18) -> 0
B21: Details | H21: Fund to which asset belongs | L21: Cost (if available) | N21: Current value (if available) | P21: Last year
L22: to nearest £ | N22: to nearest £ | P22: to nearest £
A23: B3 Other assets
J32: Total | L32: =SUM(L23:L31) -> 0 | N32: =SUM(N23:N31) -> 0 | P32: =SUM(P23:P31) -> 0
B34: Details | J34: Fund to which liability relates | N34: Amount due | P34: Last year
N35: to nearest £ | P35: to nearest £
A36: B4 Liabilities
L41: Total | N41: =SUM(N36:N40) -> 0 | P41: =SUM(P36:P40) -> 0
B43: Details | J43: Fund to which liability relates | N43: Amount due (estimate) | P43: Last year
N44: to nearest £ | P44: to nearest £
A45: B5 Contingent liabilities
L48: Total | N48: =SUM(N45:N47) -> 0 | P48: =SUM(P45:P47) -> 0
A50: Signed by one or two trustees on behalf of all the trustees | B50: Signature | H50: Print Name | P50: Date of approval
B51: #VALUE! | H51: M J Adlen | P51: 31.07.2026

Sheet Notes
B1: ='R&P Accounts'!B2 -> Beechgrove Sports Partnership | K1: ='R&P Accounts'!L2 -> SC045174
A3: Section C Notes to the Accounts
A5: C1 Nature and purpose of funds (may be stated on analysis of funds worksheets)
B11: Type of activity or project supported | H11: Individual / institution | J11: Number of grants made | K11: £
A12: C2 Grants
B17: Total | K17: =SUM(K12:K16) -> 0
A19: C3a Trustee remuneration | B19: If no remuneration was paid during the period to any charity trustee or person connected to a trustee cross this box (otherwise complete section 3b)
B22: Authority under which paid | K22: £
A23: C3b Trustee remuneration - details
A29: C4a Trustee expenses | B29: If no expenses were paid to any charity trustee during the period then cross this box (otherwise complete section 4b)
J32: Number of trustees | K32: £
A33: C4b Trustee expenses - details
B39: Nature of relationship | F39: Nature of transaction | J39: Transaction amount (£) | K39: Balance outstanding at period end (£)
A40: C5 Transactions with trustees and connected persons
A46: C6 Other information

Sheet Additional notes (1)  
C1: ='R&P Accounts'!B2 -> Beechgrove Sports Partnership | M1: ='R&P Accounts'!L2 -> SC045174
A3: Additional analysis (1)
A5: Analysis of receipts and payments
A7: 1 Donations
C8: Unrestricted funds | E8: Restricted funds | G8: Expendable endowment funds | I8: Permanent endowment funds | K8: Total current period | M8: Total last period
C9: to nearest £ | E9: to nearest £ | G9: to nearest £ | I9: to nearest £ | K9: to nearest £ | M9: to nearest £
K10: =SUM(C10:I10) -> 0
A11: Tennis Club Donation (Ballplay Monies) | K11: =SUM(C11:I11) -> 0 | M11: 0
A12: Tennis / Bowling Donations (Match Funding) | K12: =SUM(C12:I12) -> 0 | M12: 0
K13: =SUM(C13:I13) -> 0
A14: Total | C14: =SUM(C10:C13) -> 0 | E14: =SUM(E10:E13) -> 0 | G14: =SUM(G10:G13) -> 0 | I14: =SUM(I10:I13) -> 0 | K14: =SUM(K10:K13) -> 0 | M14: =SUM(M10:M13) -> 0
C16: =IF('R&P Accounts'!B12-C14=0,0,"reference error") -> 0 | E16: =IF('R&P Accounts'!D12-E14=0,0,"reference error") -> 0 | F16: =IF('R&P Accounts'!E12-F14=0,0,"reference error") -> 0 | G16: =IF('R&P Accounts'!F12-G14=0,0,"reference error") -> 0 | H16: =IF('R&P Accounts'!G12-H14=0,0,"reference error") -> 0 | I16: =IF('R&P Accounts'!H12-I14=0,0,"reference error") -> 0 | J16: =IF('R&P Accounts'!I12-J14=0,0,"reference error") -> 0 | K16: =IF('R&P Accounts'!J12-K14=0,0,"reference error") -> 0 | L16: =IF('R&P Accounts'!K12-L14=0,0,"reference error") -> 0 | M16: =IF('R&P Accounts'!L12-M14=0,0,"reference error") -> 0
A18: 2 Grants
C19: Unrestricted funds | E19: Restricted funds | K19: Total current period | M19: Total last period
C20: to nearest £ | E20: to nearest £ | K20: to nearest £ | M20: to nearest £
A21: Holywood Trust | M21: 0
A22: Moffat Construction Fund
A23: SOSE Grant | M23: 0
A24: Sports Scotland Grant | M24: 0
A25: CARES / ANCBC Grant Funding | M25: 0
A26: Buy a Brick Funding | M26: 0
A27: Grant Funding (Furniture) | M27: 0
A28: Moffat Community Council - Disabled Access | M28: 0
K29: =SUM(C29:I29) -> 0
K30: =SUM(C30:I30) -> 0
A31: Total | C31: =SUM(C21:C30) -> 0 | E31: =SUM(E21:E30) -> 0 | K31: =SUM(K21:K30) -> 0 | M31: =SUM(M21:M30) -> 0
C33: =IF('R&P Accounts'!B14-C31=0,0,"reference error") -> 0 | E33: =IF('R&P Accounts'!D14-E31=0,0,"reference error") -> 0 | F33: =IF('R&P Accounts'!E14-F31=0,0,"reference error") -> 0 | J33: =IF('R&P Accounts'!I14-J31=0,0,"reference error") -> 0 | K33: =IF('R&P Accounts'!J14-K31=0,0,"reference error") -> 0 | L33: =IF('R&P Accounts'!K14-L31=0,0,"reference error") -> 0 | M33: =IF('R&P Accounts'!L14-M31=0,0,"reference error") -> 0
A35: 3 Gross receipts from other charitable activities
C36: Unrestricted funds | E36: Restricted funds | G36: Expendable endowment funds | I36: Permanent endowment funds | K36: Total current period | M36: Total last period
C37: to nearest £ | E37: to nearest £ | G37: to nearest £ | I37: to nearest £ | K37: to nearest £ | M37: to nearest £
A38: Pavilion Rental | C38: =2995+380 -> 3375 | K38: =SUM(C38:I38) -> 3375 | M38: 2774
A39: Income (Other) | C39: 60 | K39: =SUM(C39:I39) -> 60 | M39: 80
K40: =SUM(C40:I40) -> 0
K41: =SUM(C41:I41) -> 0
K42: =SUM(C42:I42) -> 0
K43: =SUM(C43:I43) -> 0
K44: =SUM(C44:I44) -> 0
K45: =SUM(C45:I45) -> 0
A46: Total | C46: =SUM(C38:C45) -> 3435 | E46: =SUM(E38:E45) -> 0 | G46: =SUM(G38:G45) -> 0 | I46: =SUM(I38:I45) -> 0 | K46: =SUM(K38:K45) -> 3435 | M46: =SUM(M38:M45) -> 2854
C48: =IF(C46-'R&P Accounts'!B19=0,0,"reference error") -> 0 | E48: =IF(E46-'R&P Accounts'!D19=0,0,"reference error") -> 0 | G48: =IF(G46-'R&P Accounts'!F19=0,0,"reference error") -> 0 | I48: =IF(I46-'R&P Accounts'!H19=0,0,"reference error") -> 0 | K48: =IF(K46-'R&P Accounts'!J19=0,0,"reference error") -> 0 | M48: =IF(M46-'R&P Accounts'!L19=0,0,"reference error") -> 0
...

Sheet Additional notes (2)
C1: ='R&P Accounts'!B2 -> Beechgrove Sports Partnership | M1: ='R&P Accounts'!L2 -> SC045174
A3: Additional analysis (2)
A5: 5 Breakdown of unrestricted funds
C6: Unrestricted fund 1 - enter name of fund below | E6: Unrestricted fund 2 - enter name of fund below | G6: Unrestricted fund 3 - enter name of fund below | I6: Unrestricted fund 4 - enter name of fund below
C7: Unrestricted fund | K7: Total unrestricted funds | M7: Total unrestricted funds last period
A8: Receipts
A9: Donations | K9: =SUM(C9:I9) -> 0
A10: Legacies | K10: =SUM(C10:I10) -> 0
A11: Grants | K11: =SUM(C11:I11) -> 0
A12: Receipts from fundraising activities | K12: =SUM(C12:I12) -> 0
A13: Gross trading receipts | K13: =SUM(C13:I13) -> 0
A14: Income from investments other than land and buildings | K14: =SUM(C14:I14) -> 0
A15: Rents from land & buildings | K15: =SUM(C15:I15) -> 0
A16: Gross receipts from other charitable activities | C16: 3435 | K16: =SUM(C16:I16) -> 3435 | M16: 2854
A17: Sub total | C17: =SUM(C9:C16) -> 3435 | E17: =SUM(E9:E16) -> 0 | G17: =SUM(G9:G16) -> 0 | I17: =SUM(I9:I16) -> 0 | K17: =SUM(K9:K16) -> 3435 | M17: =SUM(M9:M16) -> 2854
K18: =IF(K17='R&P Accounts'!B21,0,"cross ref error") -> 0
A19: Receipts from asset & investment sales
A20: Proceeds from sale of fixed assets | K20: =SUM(C20:I20) -> 0
A21: Proceeds from sale of investments | K21: =SUM(C21:I21) -> 0
A22: Sub total | C22: =SUM(C20:C21) -> 0 | E22: =SUM(E20:E21) -> 0 | G22: =SUM(G20:G21) -> 0 | I22: =SUM(I20:I21) -> 0 | K22: =SUM(K20:K21) -> 0 | M22: =SUM(M20:M21) -> 0
A24: Total receipts | C24: =C17+C22 -> 3435 | E24: =E17+E22 -> 0 | G24: =G17+G22 -> 0 | I24: =I17+I22 -> 0 | K24: =K17+K22 -> 3435 | M24: =M17+M22 -> 2854
K25: =IF(K24='R&P Accounts'!B28,0,"cross ref error") -> 0
A27: Payments
A28: Expenses for fundraising activities | K28: =SUM(C28:I28) -> 0
A29: Gross trading payments | K29: =SUM(C29:I29) -> 0
A30: Investment management costs | K30: =SUM(C30:I30) -> 0
A31: Payments relating directly to charitable activities | C31: 3344 | K31: =SUM(C31:I31) -> 3344 | M31: 2855
A32: Grants and donations | K32: =SUM(C32:I32) -> 0
A33: Governance costs: | K33: =SUM(C33:I33) -> 0
A34: Audit / independent examination | K34: =SUM(C34:I34) -> 0
A35: Preparation of annual accounts | K35: =SUM(C35:I35) -> 0
A36: Legal costs | K36: =SUM(C36:I36) -> 0
K37: =SUM(C37:I37) -> 0
K38: =SUM(C38:I38) -> 0
A39: Sub total | C39: =SUM(C28:C38) -> 3344 | E39: =SUM(E28:E38) -> 0 | G39: =SUM(G28:G38) -> 0 | I39: =SUM(I28:I38) -> 0 | K39: =SUM(K28:K38) -> 3344 | M39: =SUM(M28:M38) -> 2855
K40: =IF(K39='R&P Accounts'!B42,0,"cross ref error") -> 0
A41: Payments relating to asset and investment movements
A42: Purchases of fixed assets | K42: =SUM(C42:I42) -> 0
A43: Purchase of investments | K43: =SUM(C43:I43) -> 0
A44: Sub total | C44: =C42+C43 -> 0 | E44: =E42+E43 -> 0 | G44: =G42+G43 -> 0 | I44: =I42+I43 -> 0 | K44: =K42+K43 -> 0 | M44: =M42+M43 -> 0
...

Sheet Additional notes (3)
C1: ='R&P Accounts'!B2 -> Beechgrove Sports Partnership | M1: ='R&P Accounts'!L2 -> SC045174
A3: Additional analysis (3)
A5: 6 Breakdown of restricted funds
C6: Restricted fund 1 - enter name of fund below | E6: Restricted fund 2 - enter name of fund below | G6: Restricted fund 3 - enter name of fund below | I6: Restricted fund 4 - enter name of fund below
C7: Holywood Trust A | E7: Moffat Construction Fund B | G7: Various C | I7: Beechgrove Tennis & Bowling D | K7: Total restricted funds | M7: Total restricted funds last period
A8: Receipts
A9: Donations | K9: =SUM(C9:I9) -> 0 | M9: 0
A10: Legacies | K10: =SUM(C10:I10) -> 0 | M10: 0
A11: Grants | K11: =SUM(C11:I11) -> 0 | M11: 0
A12: Receipts from fundraising activities | K12: =SUM(C12:I12) -> 0 | M12: 0
A13: Gross trading receipts | K13: =SUM(C13:I13) -> 0 | M13: 0
A14: Income from investments other than land and buildings | K14: =SUM(C14:I14) -> 0 | M14: 0
A15: Rents from land & buildings | K15: =SUM(C15:I15) -> 0 | M15: 0
A16: Gross receipts from other charitable activities | K16: =SUM(C16:I16) -> 0 | M16: 0
A17: Sub total | C17: =SUM(C9:C16) -> 0 | E17: =SUM(E9:E16) -> 0 | G17: =SUM(G9:G16) -> 0 | I17: =SUM(I9:I16) -> 0 | K17: =SUM(K9:K16) -> 0 | M17: =SUM(M9:M16) -> 0
K18: =IF(K17='R&P Accounts'!D21,0,"cross ref error") -> 0
A19: Receipts from asset & investment sales
A20: Proceeds from sale of fixed assets | K20: =SUM(C20:I20) -> 0
A21: Proceeds from sale of investments | K21: =SUM(C21:I21) -> 0
A22: Sub total | C22: =SUM(C20:C21) -> 0 | E22: =SUM(E20:E21) -> 0 | G22: =SUM(G20:G21) -> 0 | I22: =SUM(I20:I21) -> 0 | K22: =SUM(K20:K21) -> 0 | M22: =SUM(M20:M21) -> 0
A24: Total receipts | C24: =C17+C22 -> 0 | E24: =E17+E22 -> 0 | G24: =G17+G22 -> 0 | I24: =I17+I22 -> 0 | K24: =K17+K22 -> 0 | M24: =M17+M22 -> 0
K25: =IF(K24='R&P Accounts'!D28,0,"cross ref error") -> 0
A27: Payments
A28: Expenses for fundraising activities | K28: =SUM(C28:I28) -> 0
A29: Gross trading payments | K29: =SUM(C29:I29) -> 0
A30: Investment management costs | K30: =SUM(C30:I30) -> 0
A31: Payments relating directly to charitable activities | I31: 73 | K31: =SUM(C31:I31) -> 73 | M31: 2949
A32: Grants and donations | K32: =SUM(C32:I32) -> 0
A33: Governance costs: | K33: =SUM(C33:I33) -> 0
A34: Audit / independent examination | K34: =SUM(C34:I34) -> 0
A35: Preparation of annual accounts | K35: =SUM(C35:I35) -> 0
A36: Legal costs | K36: =SUM(C36:I36) -> 0
K37: =SUM(C37:I37) -> 0
K38: =SUM(C38:I38) -> 0
A39: Sub total | C39: =SUM(C28:C38) -> 0 | E39: =SUM(E28:E38) -> 0 | G39: =SUM(G28:G38) -> 0 | I39: =SUM(I28:I38) -> 73 | K39: =SUM(K28:K38) -> 73 | M39: =SUM(M28:M38) -> 2949
K40: =IF(K39='R&P Accounts'!D42,0,"cross ref error") -> 0
A41: Payments relating to asset and investment movements
A42: Purchases of fixed assets | K42: =SUM(C42:I42) -> 0
A43: Purchase of investments | K43: =SUM(C43:I43) -> 0
A44: Sub total | C44: =C42+C43 -> 0 | E44: =E42+E43 -> 0 | G44: =G42+G43 -> 0 | I44: =I42+I43 -> 0 | K44: =K42+K43 -> 0 | M44: =M42+M43 -> 0
...
