Workbook

Sheet Accounts
A1: Blackhall Primary Parent/Staff Association
A2: Blackhall Primary Parent/Staff Association (PSA) is a Scottish registered Charity; No SC045714
B4: Year to Date | G4: Year to 30 April 2025
A6: Opening Bank Balance | C6: =$H$27 -> 23582 | E6: Opening Bank Balance | H6: 17861.2
A7: Income | E7: Income
A8: Just Giving | B8: =SUMIF('Bank Transactions'!I:I,'Bank Transactions'!$M$25,'Bank Transactions'!G:G) -> 6507.38 | E8: Staff Gifts | G8: 3573
A9: Fundraising/Event Income | B9: =SUM('Bank Transactions'!G:G)-B8-B10-B11-B12 -> 5432.79 | E9: Fundraising Including Gift Aid | G9: 14386.01
A10: Gift Aid Recovered | B10: =SUMIF('Bank Transactions'!I:I,'Bank Transactions'!$M$28,'Bank Transactions'!G:G) -> 261.99 | E10: Donations | G10: 17805.79
A11: Donations | B11: =SUMIF('Bank Transactions'!I:I,'Bank Transactions'!$M$22,'Bank Transactions'!G:G) -> 10200.77 | E11: Football (Subs & Donations) | G11: 5830
A12: Football (Subs & Donations) | B12: =SUMIF('Bank Transactions'!I:I,'Bank Transactions'!$M$24,'Bank Transactions'!G:G) -> 844.8
C13: =SUM($B$8:$B$12) -> 23247.73 | H13: =SUM(G8:G11) -> 41594.8
A15: Expenditure | E15: Expenditure
A16: ='Bank Transactions'!$N$36 -> Playground Project | B16: =-SUMIF('Bank Transactions'!J:J,'Bank Transactions'!$N$36,'Bank Transactions'!F:F) -> 0 | E16: ='Bank Transactions'!$N$36 -> Playground Project | G16: -16774.5
A17: ='Bank Transactions'!$N$35 -> Enrichment | B17: =-SUMIF('Bank Transactions'!J:J,'Bank Transactions'!$N$35,'Bank Transactions'!F:F) -> -1963.83 | E17: ='Bank Transactions'!$N$35 -> Enrichment | G17: -692.85
A18: ='Bank Transactions'!$M$23 -> Events | B18: =-SUMIF('Bank Transactions'!I:I,'Bank Transactions'!$M$23,'Bank Transactions'!F:F) -> -1936.58 | E18: ='Bank Transactions'!$M$23 -> Events | G18: -2882.81
A19: ='Bank Transactions'!$N$37 -> Staff Gifts | B19: =-SUMIF('Bank Transactions'!I:I,'Bank Transactions'!$N$37,'Bank Transactions'!F:F) -> -4285.28 | E19: ='Bank Transactions'!$N$37 -> Staff Gifts | G19: -4268.31
A20: ='Bank Transactions'!$M$26 -> Operations | B20: =-SUMIF('Bank Transactions'!I:I,'Bank Transactions'!$M$26,'Bank Transactions'!F:F) -> -396.58 | E20: ='Bank Transactions'!$M$26 -> Operations | G20: -530.5
A21: Football (Incl. Transfer of Balance) | B21: =-SUMIF('Bank Transactions'!I:I,'Bank Transactions'!$M$24,'Bank Transactions'!F:F) -> -4612.97 | E21: ='Bank Transactions'!$M$24 -> Football | G21: -6548.21
A22: School Resources | B22: =-SUMIFS('Bank Transactions'!F:F,'Bank Transactions'!I:I,'Bank Transactions'!$M$27,'Bank Transactions'!J:J,'Bank Transactions'!$N$32) -> -1054.72 | E22: School Resources | G22: -4176.82
C23: =SUM($B$16:$B$22) -> -14249.96 | H23: =SUM(G16:G22) -> -35874
A25: Surplus / (Deficit) | C25: =$C$13+$C$23 -> 8997.77 | E25: Surplus / (Deficit) | H25: =H13+H23 -> 5720.8
A27: Closing balance on 30/4/26 | C27: =$C$25+$C$6+$C$28 -> #REF! | E27: Closing bank balance | H27: =H25+H6 -> 23582
A28: (Of which is held in school account): | C28: =#REF! -> #REF!
B29: Check | C29: ='Bank Transactions'!#REF!-C27 -> #REF!
A32: Minimum PSA Balance | C32: 3000 | E32: Football Balance @30/4/25 (incl. ringfenced £3000) | H32: =SUM([2]Accounts!$C$31:$C$32) -> 3768.17
A33: Available to utilise | C33: =$C$27-SUM($C$32:$C$32) -> #REF!
A35: Committed Spend:
A36: Staff Gifts | C36: ='[1]Staff Gifts'!M$15+#REF! -> #REF! | E36: Keep updated from JustGiving page
A37: Playground Phase II | C37: 14469.5 | E37: Tarmac area near container
A38: Energise & Exercise Play Eqpt | C38: =#REF!-'Bank Transactions'!$F$54-'Bank Transactions'!F38 -> #REF! | E38: Raised from Sponsored Week
A39: Panto Contribution - Dec 2026 | C39: 500
A40: Christmas Crafts - Dec 2026 | C40: 400
A41: School Branded Sports Kit | C41: 500
A43: Available to utilise | C43: =$C$33-SUM($C$36:$C$42) -> #REF!

Sheet Bank Transactions
A1: Transaction Date | B1: Transaction Type | C1: Sort Code | D1: Account Number | E1: Transaction Description | F1: Debit Amount | G1: Credit Amount | H1: Balance | I1: Categories | J1: Sub-Categories | K1: Notes
A3: 46141 | B3: FPI | C3: '80-02-22 | D3: 587003 | E3: BETH CROFT & ANDRE WEAR FLAIR CASH PII5EPR9GZT1JI65BD 040005 10 29APR26 17:25 | G3: 92.57 | H3: 32579.43 | I3: =$M$23 -> Events | J3: =$N$29 -> Wear Your Flair | K3: Cash donations
A4: 46139 | B4: DD | C4: '80-02-22 | D4: 587003 | E4: JUSTGIVING SUBS JG03192166 | F4: 18 | H4: 32486.86 | I4: =$M$26 -> Operations | J4: =$N$31 -> Fees
A5: 46125 | B5: FPI | C5: '80-02-22 | D5: 587003 | E5: JUSTGIVING 5083268 BLACKHALL 887718091513158XCN 165050 40 13APR26 15:19 | G5: 304.48 | H5: 32504.86 | I5: =$M$25 -> Just Giving
A6: 46120 | B6: DD | C6: '80-02-22 | D6: 587003 | E6: GOCARDLESS LINGUASCOPE-XGCWWW | F6: 33 | H6: 32200.38 | I6: =$M$27 -> School | J6: =$N$35 -> Enrichment
A7: 46119 | B7: PAY | C7: '80-02-22 | D7: 587003 | E7: SERVICE CHARGES REF : 481348235 | F7: 1.27 | H7: 32233.38 | I7: =$M$26 -> Operations | J7: =$N$31 -> Fees
A8: 46119 | B8: BGC | C8: '80-02-22 | D8: 587003 | E8: CHARITABLE GIVING PAYROLL GIVING | G8: 70 | H8: 32234.65 | I8: =$M$22 -> Donations
A9: 46108 | B9: FPO | C9: '80-02-22 | D9: 587003 | E9: BLACKHALLPRIMARY 400000001743571968 LIBRARY SYSTEM 831847 10 27MAR26 10:00 | F9: 238.8 | H9: 32164.65 | I9: =$M$27 -> School | J9: =$N$32 -> Resources
A10: 46106 | B10: FPO | C10: '80-02-22 | D10: 587003 | E10: BETH CROFT 600000001737474598 EASTER CRAFT SUPPL 040005 10 25MAR26 19:06 | F10: 340.43 | H10: 32403.45 | I10: =$M$27 -> School | J10: =$N$32 -> Resources
A11: 46106 | B11: FPO | C11: '80-02-22 | D11: 587003 | E11: NATALIE MOFFATT 100000001728338730 WIDER STAFF GIFT 831924 10 25MAR26 12:15 | F11: 766.2 | H11: 32743.88 | I11: =$N$37 -> Staff Gifts | K11: Wider Staff
A12: 46106 | B12: DD | C12: '80-02-22 | D12: 587003 | E12: JUSTGIVING SUBS JG03192166 | F12: 18 | H12: 33510.08 | I12: =$M$26 -> Operations | J12: =$N$31 -> Fees
A13: 46104 | B13: FPO | C13: '80-02-22 | D13: 587003 | E13: LYNDSAY HEMSLEY 300000001739704014 P6C MAT LEAVE GIFT 804657 10 23MAR26 09:44 | F13: 65.73 | H13: 33528.08 | I13: =$N$37 -> Staff Gifts | K13: P6
A14: 46085 | B14: BGC | C14: '80-02-22 | D14: 587003 | E14: CHARITABLE GIVING PAYROLL GIVING | G14: 70 | H14: 33593.81 | I14: =$M$22 -> Donations
A15: 46084 | B15: FPI | C15: '80-02-22 | D15: 587003 | E15: JUSTGIVING 4993073 BLACKHALL 190047554413079WCN 165050 40 03MAR26 14:45 | G15: 14.18 | H15: 33523.81 | I15: =$M$25 -> Just Giving
A16: 46078 | B16: DD | C16: '80-02-22 | D16: 587003 | E16: JUSTGIVING SUBS JG03192166 | F16: 18 | H16: 33509.63 | I16: =$M$26 -> Operations | J16: =$N$31 -> Fees
A17: 46069 | B17: DD | C17: '80-02-22 | D17: 587003 | E17: CREATURE MEDIA LIM MD000X3SVPETTK | F17: 39 | H17: 33527.63 | I17: =$M$27 -> School | J17: =$N$35 -> Enrichment
A18: 46066 | B18: FPO | C18: '80-02-22 | D18: 587003 | E18: LYNDSAY HEMSLEY 200000001711654193 P7 SHOW TUCK 804657 10 13FEB26 18:13 | F18: 40.84 | H18: 33566.63 | I18: =$M$23 -> Events | J18: =$N$28 -> P7 Show Tuck Shop
A19: 46066 | B19: DEP | C19: '80-02-22 | D19: 587003 | E19: EDINBURGH COMELY | G19: 113.7 | H19: 33607.47 | I19: =$M$23 -> Events | J19: =$N$28 -> P7 Show Tuck Shop
A20: 46057 | B20: BGC | C20: '80-02-22 | D20: 587003 | E20: CHARITABLE GIVING PAYROLL GIVING | G20: 70 | H20: 33493.77 | I20: =$M$22 -> Donations | M20: Categories | N20: Sub-Categories
A21: 46056 | B21: PAY | C21: '80-02-22 | D21: 587003 | E21: SERVICE CHARGES REF : 476379596 | F21: 2.4 | H21: 33423.77 | I21: =$M$26 -> Operations | J21: =$N$31 -> Fees
A22: 46049 | B22: BGC | C22: '80-02-22 | D22: 587003 | E22: CAF26012238828CF 26012238828CF | G22: 500 | H22: 33426.17 | I22: =$M$22 -> Donations | K22: Match Funding E&Y via Sara MacDoka | M22: Donations | N22: Energise and Exercise Week
A23: 46048 | B23: FPI | C23: '80-02-22 | D23: 587003 | E23: BETH CROFT & ANDRE BETH CROFT PFRFK4YNY58I5AWG12 040005 10 26JAN26 12:14 | G23: 100 | H23: 32926.17 | I23: =$M$22 -> Donations | M23: Events | N23: BCSC Sports Day
A24: 46048 | B24: DD | C24: '80-02-22 | D24: 587003 | E24: JUSTGIVING SUBS JG03192166 | F24: 18 | H24: 32826.17 | I24: =$I$21 -> Operations | J24: =$N$31 -> Fees | M24: Football | N24: P7 Parents Social
A25: 46034 | B25: FPI | C25: '80-02-22 | D25: 587003 | E25: JUSTGIVING 4912015 BLACKHALL 185120354412159VCN 165050 40 12JAN26 14:45 | G25: 110.08 | H25: 32844.17 | I25: =Table1[[#This Row],[Categories]] -> Just Giving | M25: Just Giving | N25: Autumn Fair
A26: 46028 | B26: BGC | C26: '80-02-22 | D26: 587003 | E26: CHARITABLE GIVING PAYROLL GIVING | G26: 70 | H26: 32734.09 | I26: =$M$22 -> Donations | M26: Operations | N26: Autumn Disco
A27: 46027 | B27: PAY | C27: '80-02-22 | D27: 587003 | E27: SERVICE CHARGES REF : 473920544 | F27: 12.66 | H27: 32664.09 | I27: =$M$26 -> Operations | J27: =$N$31 -> Fees | M27: School | N27: Young Christmas Lights
A28: 46020 | B28: DD | C28: '80-02-22 | D28: 587003 | E28: JUSTGIVING SUBS JG03192166 | F28: 18 | H28: 32676.75 | I28: =$M$26 -> Operations | J28: =$N$31 -> Fees | M28: Gift Aid | N28: P7 Show Tuck Shop
A29: 46013 | B29: FPI | C29: '80-02-22 | D29: 587003 | E29: JUSTGIVING 4897273 BLACKHALL 393491494812241XCN 165050 40 22DEC25 18:49 | G29: 61.65 | H29: 32694.75 | I29: =$M$25 -> Just Giving | N29: Wear Your Flair
A30: 46010 | B30: FPO | C30: '80-02-22 | D30: 587003 | E30: LAURA BRIGGS 400000001689780895 P3 STAFF GIFT 110917 10 19DEC25 09:18 | F30: 122 | H30: 32633.1 | I30: =$N$37 -> Staff Gifts | K30: P3
A31: 46008 | B31: FPO | C31: '80-02-22 | D31: 587003 | E31: ERIN MASON 400000001688650076 P4 STAFF GIFTS 831915 10 17DEC25 13:34 | F31: 184.08 | H31: 32755.1 | I31: =$N$37 -> Staff Gifts | K31: P4 | N31: Fees
A32: 46008 | B32: FPO | C32: '80-02-22 | D32: 587003 | E32: KATE GRAHAM 200000001679619498 P3 STAFF GIFT 831824 10 17DEC25 07:25 | F32: 60 | H32: 32939.18 | I32: =$N$37 -> Staff Gifts | K32: P3 | N32: Resources
A33: 46007 | B33: FPO | C33: '80-02-22 | D33: 587003 | E33: BLACKHALLPRIMARY 200000001679217841 PANTO CONTRIBUTION 831847 10 16DEC25 12:24 | F33: 500 | H33: 32999.18 | I33: =$M$27 -> School | J33: =$N$35 -> Enrichment | N33: Venue Hire
A34: 46007 | B34: FPO | C34: '80-02-22 | D34: 587003 | E34: FELICITY CHISHOLM 600000001682960960 P5 STAFF GIFT 090134 10 16DEC25 11:45 | F34: 160.06 | H34: 33499.18 | I34: =$N$37 -> Staff Gifts | K34: P5
A35: 46006 | B35: FPI | C35: '80-02-22 | D35: 587003 | E35: JUSTGIVING 4878506 BLACKHALL 529844554415140VCN 165050 40 15DEC25 14:45 | G35: 1276.52 | H35: 33659.24 | I35: =$M$25 -> Just Giving | N35: Enrichment
A36: 46006 | B36: FPO | C36: '80-02-22 | D36: 587003 | E36: LINDA RENNIE 400000001687519887 P7 STAFF GIFTS 830608 10 15DEC25 13:38 | F36: 131 | H36: 32382.72 | I36: =$N$37 -> Staff Gifts | K36: P7 | N36: Playground Project
A37: 46003 | B37: FPO | C37: '80-02-22 | D37: 587003 | E37: FAYE MICHELLE BOWD 500000001681388034 P6 XMAS STAFF 800619 10 12DEC25 21:22 | F37: 179 | H37: 32513.72 | I37: =$N$37 -> Staff Gifts | K37: P6 | N37: Staff Gifts
A38: 46002 | B38: FPO | C38: '80-02-22 | D38: 587003 | E38: BLACKHALLPRIMARY 300000001683864222 PE EQUIPMENT 831847 10 11DEC25 15:14 | F38: 175.86 | H38: 32692.72 | I38: =$M$27 -> School | J38: =$N$35 -> Enrichment | K38: Spend from Energise & Exercise
A39: 46002 | B39: FPO | C39: '80-02-22 | D39: 587003 | E39: ANNE BRUSATTE 400000001685123078 P1 STAFF GIFT 877001 10 11DEC25 09:11 | F39: 165 | H39: 32868.58 | I39: =$N$37 -> Staff Gifts | K39: P1
A40: 46001 | B40: DEP | C40: '80-02-22 | D40: 587003 | E40: YOUNG XMAS LIGHTS | G40: 264 | H40: 33033.58 | I40: =$M$23 -> Events | J40: =$N$27 -> Young Christmas Lights
A41: 46000 | B41: FPO | C41: '80-02-22 | D41: 587003 | E41: STEPHANIE MCGLINCH 400000001684057911 P2 STAFF GIFT 401628 10 09DEC25 10:31 | F41: 176 | H41: 32769.58 | I41: =$N$37 -> Staff Gifts | K41: P2
...

Sheet JustGiving
A1: Donation Date | B1: Donor FirstName | C1: Donor LastName | D1: Donor Address Line 1 | E1: Donor Postcode | F1: Donation Auth Amount | G1: Gift Aid Amount | H1: Appeal Name | J1: Appeal | K1: Total Donations
J2: P1 Staff Collection Summer 25 | K2: =SUMIF(H:H,$J$2,F:G) -> 160
A3: 15/05/2025 | B3: Anonymous | C3: Anonymous | D3: Anonymous | E3: Anonymous | F3: 20 | G3: 0 | H3: =$J$25 -> Energise and Exercise | J3: P2 Staff Collection Summer 25 | K3: =SUMIF(H:H,$J$3,F:G) -> 22
A4: 15/05/2025 | B4: Anonymous | C4: Anonymous | D4: Anonymous | E4: Anonymous | F4: 20 | G4: 0 | H4: =$J$25 -> Energise and Exercise | J4: P3 Staff Collection Summer 25 | K4: =SUMIF(H:H,$J$4,F:G) -> 35
A5: 15/05/2025 | B5: Anonymous | C5: Anonymous | D5: Anonymous | E5: Anonymous | F5: 20 | G5: 0 | H5: =$J$25 -> Energise and Exercise | J5: P4 Staff Collection Summer 25 | K5: =SUMIF(H:H,$J$5,F:G) -> 40
A6: 15/05/2025 | B6: Manna | C6: Sinclair | D6: 3, St. Serfâs Road Tullibody | E6: FK10 2RD | F6: 10 | G6: 0 | H6: =$J$25 -> Energise and Exercise | J6: P5 Staff Collection Summer 25 | K6: =SUMIF(H:H,$J$6,F:G) -> 0
A7: 16/05/2025 | B7: Rona | C7: Thomson | D7: 10 Hamilton's Folly Mews | E7: EH8 9AW | F7: 10 | G7: 0 | H7: =$J$25 -> Energise and Exercise | J7: P6 Staff Collection Summer 25 | K7: =SUMIF(H:H,$J$7,F:G) -> 100
A8: 16/05/2025 | B8: Anonymous | C8: Anonymous | D8: Anonymous | E8: Anonymous | F8: 10 | G8: 0 | H8: =$J$25 -> Energise and Exercise | J8: P7 Staff Collection Summer 25 | K8: =SUMIF(H:H,$J$8,F:G) -> 74
A9: 16/05/2025 | B9: Anonymous | C9: Anonymous | D9: Anonymous | E9: Anonymous | F9: 10 | G9: 0 | H9: =$J$25 -> Energise and Exercise
A10: 16/05/2025 | B10: Anonymous | C10: Anonymous | D10: Anonymous | E10: Anonymous | F10: 10 | G10: 0 | H10: =$J$25 -> Energise and Exercise | J10: (Staff Gifts 2024-25 TOTAL) | K10: =SUM(K2:K8) -> 431
A11: 16/05/2025 | B11: Anonymous | C11: Anonymous | D11: Anonymous | E11: Anonymous | F11: 10 | G11: 0 | H11: =$J$25 -> Energise and Exercise
A12: 16/05/2025 | B12: Anonymous | C12: Anonymous | D12: Anonymous | E12: Anonymous | F12: 10 | G12: 0 | H12: =$J$25 -> Energise and Exercise | J12: P1 Staff Collection // Xmas 2025 | K12: =SUMIF(H:H,$J$12,F:G) -> 506
A13: 16/05/2025 | B13: Anonymous | C13: Anonymous | D13: Anonymous | E13: Anonymous | F13: 10 | G13: 0 | H13: =$J$25 -> Energise and Exercise | J13: P2 Staff Collection // Xmas 2025 | K13: =SUMIF(H:H,$J$13,F:G) -> 544
A14: 16/05/2025 | B14: Anonymous | C14: Anonymous | D14: Anonymous | E14: Anonymous | F14: 15 | G14: 0 | H14: =$J$25 -> Energise and Exercise | J14: P3 Staff Collection // Xmas 2025 | K14: =SUMIF(H:H,$J$14,F:G) -> 544.82
A15: 16/05/2025 | B15: Anonymous | C15: Anonymous | D15: Anonymous | E15: Anonymous | F15: 15 | G15: 0 | H15: =$J$25 -> Energise and Exercise | J15: P4 Staff Collection // Xmas 2025 | K15: =SUMIF(H:H,$J$15,F:G) -> 557
A16: 16/05/2025 | B16: Anonymous | C16: Anonymous | D16: Anonymous | E16: Anonymous | F16: 10 | G16: 0 | H16: =$J$25 -> Energise and Exercise | J16: P5 Staff Collection // Xmas 2025 | K16: =SUMIF(H:H,$J$16,F:G) -> 492
A17: 16/05/2025 | B17: Anonymous | C17: Anonymous | D17: Anonymous | E17: Anonymous | F17: 10 | G17: 0 | H17: =$J$25 -> Energise and Exercise | J17: P6 Staff Collection // Xmas 2025 | K17: =SUMIF(H:H,$J$17,F:G) -> 543
A18: 16/05/2025 | B18: Anonymous | C18: Anonymous | D18: Anonymous | E18: Anonymous | F18: 20 | G18: 0 | H18: =$J$25 -> Energise and Exercise | J18: P7 Staff Collection // Xmas 2025 | K18: =SUMIF(H:H,$J$18,F:G) -> 394
A19: 16/05/2025 | B19: Anonymous | C19: Anonymous | D19: Anonymous | E19: Anonymous | F19: 10 | G19: 0 | H19: =$J$25 -> Energise and Exercise
A20: 17/05/2025 | B20: Anonymous | C20: Anonymous | D20: Anonymous | E20: Anonymous | F20: 5 | G20: 0 | H20: =$J$25 -> Energise and Exercise | J20: Staff Gifts XMAS TOTAL | K20: =SUM(K12:K18) -> 3580.82
A21: 18/05/2025 | B21: Anonymous | C21: Anonymous | D21: Anonymous | E21: Anonymous | F21: 10 | G21: 0 | H21: =$J$25 -> Energise and Exercise
A22: 19/05/2025 | B22: Anonymous | C22: Anonymous | D22: Anonymous | E22: Anonymous | F22: 20 | G22: 0 | H22: =$J$25 -> Energise and Exercise
A23: 19/05/2025 | B23: Anonymous | C23: Anonymous | D23: Anonymous | E23: Anonymous | F23: 30 | G23: 0 | H23: =$J$25 -> Energise and Exercise | J23: Blackhall Christmas Lights Switch On!! | K23: =SUMIF(H:H,$J$23,F:G) -> 492
A24: 19/05/2025 | B24: Anonymous | C24: Anonymous | D24: Anonymous | E24: Anonymous | F24: 10 | G24: 0 | H24: =$J$25 -> Energise and Exercise
A25: 19/05/2025 | B25: Anonymous | C25: Anonymous | D25: Anonymous | E25: Anonymous | F25: 10 | G25: 0 | H25: =$J$25 -> Energise and Exercise | J25: Energise and Exercise | K25: =SUMIF(H:H,$J$25,F:G) -> 1535
A26: 19/05/2025 | B26: Jennifer | C26: Young | D26: 3 Cottage Park | E26: EH4 3QL | F26: 20 | G26: 0 | H26: =$J$25 -> Energise and Exercise
A27: 19/05/2025 | B27: Jennifer | C27: Young | D27: 3 Cottage Park | E27: EH4 3QL | F27: 10 | G27: 0 | H27: =$J$25 -> Energise and Exercise | J27: Wendy Gift | K27: =SUMIF(H:H,$J$27,F:G) -> 177
A28: 19/05/2025 | B28: Anonymous | C28: Anonymous | D28: Anonymous | E28: Anonymous | F28: 10 | G28: 0 | H28: =$J$25 -> Energise and Exercise
A29: 19/05/2025 | B29: Anonymous | C29: Anonymous | D29: Anonymous | E29: Anonymous | F29: 10 | G29: 0 | H29: =$J$25 -> Energise and Exercise | J29: P7 Parents Social | K29: =SUMIF(H:H,$J$29,F:G) -> 50
A30: 19/05/2025 | B30: Anonymous | C30: Anonymous | D30: Anonymous | E30: Anonymous | F30: 10 | G30: 0 | H30: =$J$25 -> Energise and Exercise
A31: 19/05/2025 | B31: Anonymous | C31: Anonymous | D31: Anonymous | E31: Anonymous | F31: 10 | G31: 0 | H31: =$J$25 -> Energise and Exercise | J31: ='Bank Transactions'!$N$25 -> Autumn Fair | K31: =SUMIF(H:H,$J$31,F:G) -> 177.2
A32: 19/05/2025 | B32: Anonymous | C32: Anonymous | D32: Anonymous | E32: Anonymous | F32: 50 | G32: 0 | H32: =$J$25 -> Energise and Exercise
A33: 19/05/2025 | B33: Anonymous | C33: Anonymous | D33: Anonymous | E33: Anonymous | F33: 20 | G33: 0 | H33: =$J$25 -> Energise and Exercise | J33: P7 Show Tuck Shop | K33: =SUMIF(H:H,$J$33,F:G) -> 16
A34: 19/05/2025 | B34: Anonymous | C34: Anonymous | D34: Anonymous | E34: Anonymous | F34: 10 | G34: 0 | H34: =$J$25 -> Energise and Exercise
A35: 20/05/2025 | B35: Anonymous | C35: Anonymous | D35: Anonymous | E35: Anonymous | F35: 5 | G35: 0 | H35: =$J$25 -> Energise and Exercise | J35: Wear Your Flair | K35: =SUMIF(H:H, $J$35, F:G) -> 332
A36: 20/05/2025 | B36: Anonymous | C36: Anonymous | D36: Anonymous | E36: Anonymous | F36: 5 | G36: 0 | H36: =$J$25 -> Energise and Exercise
A37: 20/05/2025 | B37: Anonymous | C37: Anonymous | D37: Anonymous | E37: Anonymous | F37: 10 | G37: 0 | H37: =$J$25 -> Energise and Exercise
A38: 20/05/2025 | B38: Anonymous | C38: Anonymous | D38: Anonymous | E38: Anonymous | F38: 5 | G38: 0 | H38: =$J$25 -> Energise and Exercise | J38: Just Giving Donations Total | K38: =SUM(F:F)+SUM(G:G) -> 6872.52
A39: 20/05/2025 | B39: Anonymous | C39: Anonymous | D39: Anonymous | E39: Anonymous | F39: 15 | G39: 0 | H39: =$J$25 -> Energise and Exercise | J39: Just Giving Payout Total | K39: =SUMIF('Bank Transactions'!I:I,'Bank Transactions'!$M$25,'Bank Transactions'!G:G) -> 6507.38
A40: 20/05/2025 | B40: Anonymous | C40: Anonymous | D40: Anonymous | E40: Anonymous | F40: 25 | G40: 0 | H40: =$J$25 -> Energise and Exercise
...

Sheet Teacher Gifts
B1: Raised | C1: Spent | D1: Remaining
A2: P7T | B2: 240
A3: P7C | B3: 245 | G3: Ann Crawford | H3: ='Bank Transactions'!#REF! -> #REF! | J3: P6?
A4: P7P | B4: 265 | G4: Erin mason | H4: ='Bank Transactions'!#REF! -> #REF! | J4: P1
A5: P6B | B5: 295 | G5: Felicity | H5: ='Bank Transactions'!#REF! -> #REF! | J5: P2
A6: P6O | B6: 225 | G6: Jane | H6: ='Bank Transactions'!#REF! -> #REF! | J6: P7?
A7: P5Mc | B7: 245 | G7: Frances | H7: ='Bank Transactions'!#REF! -> #REF! | J7: P4
A8: P5P | B8: 312 | G8: Wendy | H8: ='Bank Transactions'!#REF!+'Bank Transactions'!#REF! -> #REF! | J8: P5
A9: P5C | B9: 290 | H9: =SUM(H3:H8) -> #REF!
A10: P4M | B10: 305
A11: P4B | B11: 267
A12: P2J | B12: 315 | G12: P3 Funded via cash
A13: P2P | B13: 247
A14: P1B | B14: 270
A15: P1L | B15: 270 | G15: Net Remaining | H15: =B16-H9 -> #REF!
B16: =SUM(B2:B15) -> 3791
