Workbook

Sheet R&P Accounts
B1: Autism Football Association | L1: Enter SC No. below
L2: SC047640
B3: Receipts and payments accounts
B4: For the period from | D4: Period start date | G4: to | H4: Period end date
A8: Section A Statement of receipts and payments
B9: Unrestricted funds | D9: Restricted funds | F9: Expendable endowment funds | H9: Permanent endowment funds | J9: Total funds current period | L9: Total funds last period
B10: to nearest £ | D10: to nearest £ | F10: to nearest £ | H10: to nearest £ | J10: to nearest £ | L10: to nearest £
A11: A1 Receipts
A12: Donations | L12: 15568.92
A13: Legacies | J13: =H13+D13+B13+F13 -> 0
A14: Grants | B14: 4125 | D14: 24697 | J14: =H14+D14+B14+F14 -> 28822 | L14: 29421.85
A15: Receipts from fundraising activities | J15: =H15+D15+B15+F15 -> 0
A16: Gross trading receipts | J16: =H16+D16+B16+F16 -> 0
A17: Income from investments other than land and buildings | J17: =H17+D17+B17+F17 -> 0
A18: Rents from land & buildings | J18: =H18+D18+B18+F18 -> 0
A19: Gross receipts from other charitable activities | J19: =H19+D19+B19+F19 -> 0
J20: =H20+D20+B20+F20 -> 0
A21: A1 Sub total | B21: =SUM(B12:B20) -> 4125 | D21: =SUM(D13:D20) -> 24697 | F21: =SUM(F12:F20) -> 0 | H21: =SUM(H12:H20) -> 0 | J21: =SUM(J12:J17) -> 28822 | L21: =SUM(L12:L14) -> 44990.77
J22: =IF(B21+D21+F21+H21-J21=0," ","error")
A23: A2 Receipts from asset & investment sales
A24: Proceeds from sale of fixed assets | J24: =H24+D24+B24+F24 -> 0
A25: Proceeds from sale of investments | J25: =H25+D25+B25+F25 -> 0
A26: A2 Sub total | B26: =SUM(B24:B25) -> 0 | D26: =SUM(D24:D25) -> 0 | F26: =SUM(F24:F25) -> 0 | H26: =SUM(H24:H25) -> 0 | J26: =SUM(J24:J25) -> 0 | L26: =SUM(L24:L25) -> 0
J27: =IF(B26+D26+F26+H26-J26=0," ","error")
A28: Total receipts | B28: =B26+B21 -> 4125 | D28: =D26+D21 -> 24697 | F28: =F26+F21 -> 0 | H28: =H26+H21 -> 0 | J28: =J26+J21 -> 28822 | L28: =L26+L21 -> 44990.77
J29: =IF(B28+D28+H28-J28=0," ","error")
A30: A3 Payments
A31: Expenses for fundraising activities | J31: =H31+D31+B31+F31 -> 0
A32: Gross trading payments | J32: =H32+D32+B32+F32 -> 0
A33: Investment management costs | J33: =H33+D33+B33+F33 -> 0
A34: Payments relating directly to charitable activities | B34: 2798 | D34: 22907 | J34: =H34+D34+B34+F34 -> 25705 | L34: 95138
A35: Grants and donations | J35: =H35+D35+B35+F35 -> 0
A36: Governance costs: | J36: =H36+D36+B36+F36 -> 0
A37: Audit / independent examination | J37: =H37+D37+B37+F37 -> 0
A38: Preparation of annual accounts | J38: =H38+D38+B38+F38 -> 0
A39: Legal costs | J39: =H39+D39+B39+F39 -> 0
A40: Other | J40: =H40+D40+B40+F40 -> 0
A41: Transfer to Hibernian Community | J41: =H41+D41+B41+F41 -> 0 | L41: 117687
A42: A3 Sub total | B42: =SUM(B31:B41) -> 2798 | D42: =SUM(D31:D41) -> 22907 | F42: =SUM(F31:F41) -> 0 | H42: =SUM(H31:H41) -> 0 | J42: =SUM(J31:J41) -> 25705 | L42: =SUM(L31:L41) -> 212825
J43: =IF(B42+D42+F42+H42-J42=0," ","error")
...

Sheet Statement of balances
B1: ='R&P Accounts'!B2 -> 0 | N1: ='R&P Accounts'!L2 -> SC047640
A2: Section B Statement of balances
A3: Categories | B3: Details | F3: Unrestricted funds | H3: Restricted funds | J3: Expendable endowment funds | L3: Permanent endowment funds | N3: Total current period | P3: Total last period
F4: to nearest £ | H4: to nearest £ | J4: to nearest £ | L4: to nearest £ | N4: to nearest £ | P4: to nearest £
A5: B1 Cash funds | B5: Cash and bank balances at start of year | F5: 2139 | G5: 124456q | H5: 3717 | N5: =F5+H5+J5+L5 -> 5856 | P5: 173691
B6: Surplus / (deficit) shown on receipts and payments account | F6: 1327 | H6: 1790 | N6: =F6+H6+J6+L6 -> 3117 | P6: -167835
N7: =F7+H7+J7+L7 -> 0
N8: =F8+H8+J8+L8 -> 0
B9: Cash and bank balances at end of year | F9: =SUM(F5:F8) -> 3466 | H9: =SUM(H5:H8) -> 5507 | J9: =SUM(J5:J8) -> 0 | L9: =SUM(L5:L8) -> 0 | N9: =F9+H9+J9+L9 -> 8973 | P9: =SUM(P5:P8) -> 5856
B10: (Agree balances with receipts and payments account(s)) | F10: =F6-'R&P Accounts'!B55 -> 0 | H10: =H6-'R&P Accounts'!D55 -> 0 | J10: =J6-'R&P Accounts'!F55 -> 0 | L10: =L6-'R&P Accounts'!H55 -> 0 | N10: =N6-'R&P Accounts'!J55 -> 0 | P10: =P6-'R&P Accounts'!L55 -> -0.77
B12: Details | J12: Fund to which asset belongs | N12: Market valuation | P12: Last year
N13: to nearest £ | P13: to nearest £
A14: B2 Investments
L19: Total | N19: =SUM(N14:N18) -> 0 | P19: =SUM(P14:P18) -> 0
B21: Details | H21: Fund to which asset belongs | L21: Cost (if available) | N21: Current value (if available) | P21: Last year
L22: to nearest £ | N22: to nearest £ | P22: to nearest £
A23: B3 Other assets
J32: Total | L32: =SUM(L23:L31) -> 0 | N32: =SUM(N23:N31) -> 0 | P32: =SUM(P23:P31) -> 0
B34: Details | J34: Fund to which liability relates | N34: Amount due | P34: Last year
N35: to nearest £ | P35: to nearest £
A36: B4 Liabilities
L41: Total | N41: =SUM(N36:N40) -> 0 | P41: =SUM(P36:P40) -> 0
B43: Details | J43: Fund to which liability relates | N43: Amount due (estimate) | P43: Last year
N44: to nearest £ | P44: to nearest £
A45: B5 Contingent liabilities
L48: Total | N48: =SUM(N45:N47) -> 0 | P48: =SUM(P45:P47) -> 0
A50: Signed by one or two trustees on behalf of all the trustees | B50: Signature | H50: Print Name | P50: Date of approval
H51: Lorrane Angus | P51: 45977

Sheet Notes
B1: ='R&P Accounts'!B2 -> 0 | K1: ='R&P Accounts'!L2 -> SC047640
A3: Section C Notes to the Accounts
A5: C1 Nature and purpose of funds (may be stated on analysis of funds worksheets)
B11: Type of activity or project supported | H11: Individual / institution | J11: Number of grants made | K11: £
A12: C2 Grants
B17: Total | K17: =SUM(K12:K16) -> 0
A19: C3a Trustee remuneration | B19: If no remuneration was paid during the period to any charity trustee or person connected to a trustee cross this box (otherwise complete section 3b)
B22: Authority under which paid | K22: £
A23: C3b Trustee remuneration - details
A29: C4a Trustee expenses | B29: If no expenses were paid to any charity trustee during the period then cross this box (otherwise complete section 4b)
J32: Number of trustees | K32: £
A33: C4b Trustee expenses - details
B39: Nature of relationship | F39: Nature of transaction | J39: Transaction amount (£) | K39: Balance outstanding at period end (£)
A40: C5 Transactions with trustees and connected persons
A46: C6 Other information

Sheet Additional notes (1)  
C1: ='R&P Accounts'!B2 -> 0 | M1: ='R&P Accounts'!L2 -> SC047640
A3: Additional analysis (1)
A5: Analysis of receipts and payments
A7: 1 Donations
C8: Unrestricted funds | E8: Restricted funds | G8: Expendable endowment funds | I8: Permanent endowment funds | K8: Total current period | M8: Total last period
C9: to nearest £ | E9: to nearest £ | G9: to nearest £ | I9: to nearest £ | K9: to nearest £ | M9: to nearest £
A10: Parential | K10: =SUM(C10:I10) -> 0 | M10: 15969
K11: =SUM(C11:I11) -> 0
K12: =SUM(C12:I12) -> 0
A13: Total | C13: =SUM(C10:C12) -> 0 | E13: =SUM(E10:E12) -> 0 | G13: =SUM(G10:G12) -> 0 | I13: =SUM(I10:I12) -> 0 | K13: =SUM(K10:K12) -> 0 | M13: =SUM(M10:M12) -> 15969
A15: 2 Grants
C16: Unrestricted funds | E16: Restricted funds | K16: Total current period | M16: Total last period
C17: to nearest £ | E17: to nearest £ | K17: to nearest £ | M17: to nearest £
A18: Scottish Para Football | C18: 1000 | E18: 10000 | K18: =C18+E18 -> 11000 | M18: 23500
A19: Scottish Football Trust | C19: 2000 | K19: =C19+E19 -> 2000
A20: SFA | C20: 1125 | K20: =C20 -> 1125
A21: East Lothian Council | E21: 14697 | K21: =E21 -> 14697 | M21: 21435
A22: Total | C22: =SUM(C18:C21) -> 4125 | E22: =SUM(E18:E21) -> 24697 | K22: =SUM(K18:K21) -> 28822 | M22: =SUM(M18:M21) -> 44935
A25: 3 Gross receipts from other charitable activities
C26: Unrestricted funds | E26: Restricted funds | G26: Expendable endowment funds | I26: Permanent endowment funds | K26: Total current period | M26: Total last period
C27: to nearest £ | E27: to nearest £ | G27: to nearest £ | I27: to nearest £ | K27: to nearest £ | M27: to nearest £
K28: =SUM(C28:I28) -> 0
K29: =SUM(C29:I29) -> 0
K30: =SUM(C30:I30) -> 0
K31: =SUM(C31:I31) -> 0
K32: =SUM(C32:I32) -> 0
K33: =SUM(C33:I33) -> 0
K34: =SUM(C34:I34) -> 0
K35: =SUM(C35:I35) -> 0
A36: Total | C36: =SUM(C28:C35) -> 0 | E36: =SUM(E28:E35) -> 0 | G36: =SUM(G28:G35) -> 0 | I36: =SUM(I28:I35) -> 0 | K36: =SUM(K28:K35) -> 0 | M36: =SUM(M28:M35) -> 0
A39: 4 Payments relating directly to charitable activities
C40: Unrestricted funds | E40: Restricted funds | G40: Expendable endowment funds | I40: Permanent endowment funds | K40: Total current period | M40: Total last period
C41: to nearest £ | E41: to nearest £ | G41: to nearest £ | I41: to nearest £ | K41: to nearest £ | M41: to nearest £
K42: =SUM(C42:I42) -> 0
K43: =SUM(C43:I43) -> 0
K44: =SUM(C44:I44) -> 0
K45: =SUM(C45:I45) -> 0
K46: =SUM(C46:I46) -> 0
K47: =SUM(C47:I47) -> 0
K48: =SUM(C48:I48) -> 0
...

Sheet Additional notes (2)
G1: ='R&P Accounts'!L2 -> SC047640
A3: Additional analysis (2)
A5: 5 Breakdown of unrestricted funds
C6: Parential Contributions
E7: Total unrestricted funds | G7: Total unrestricted funds last period
A8: Receipts
A9: Donations | E9: =SUM(C9:D9) -> 0 | G9: 15969
A10: Legacies
A11: Grants | E11: 4125
A12: Receipts from fundraising activities | E12: =SUM(C12:D12) -> 0
A13: Gross trading receipts | E13: =SUM(C13:D13) -> 0
A14: Income from investments other than land and buildings | E14: =SUM(C14:D14) -> 0
A15: Rents from land & buildings | E15: =SUM(C15:D15) -> 0
A16: Gross receipts from other charitable activities | E16: =SUM(C16:D16) -> 0
A17: Sub total | C17: =SUM(C9:C16) -> 0 | E17: =SUM(E9:E16) -> 4125 | G17: =SUM(G9:G16) -> 15969
A18: Receipts from asset & investment sales
A19: Proceeds from sale of fixed assets | E19: =SUM(D19:D19) -> 0
A20: Proceeds from sale of investments | E20: =SUM(D20:D20) -> 0
A21: Sub total | C21: =SUM(C19:C20) -> 0 | E21: =SUM(E19:E20) -> 0 | G21: =SUM(G19:G20) -> 0
A23: Total receipts | C23: =C17+C21 -> 0 | E23: =E17+E21 -> 4125 | G23: =G17+G21 -> 15969
E24: =IF(E23='R&P Accounts'!B28,0,"cross ref error") -> 0
A26: Payments
A27: Expenses for fundraising activities | E27: =SUM(C27:D27) -> 0
A28: Gross trading payments | E28: =SUM(C28:D28) -> 0
A29: Investment management costs | E29: =SUM(C29:D29) -> 0
A30: Payments relating directly to charitable activities | E30: 2798 | G30: 21797
A31: Grants and donations | E31: =SUM(C31:D31) -> 0
A32: Governance costs: | E32: =SUM(C32:D32) -> 0
A33: Audit / independent examination | E33: =SUM(C33:D33) -> 0
A34: Preparation of annual accounts | E34: =SUM(C34:D34) -> 0
A35: Legal costs | E35: =SUM(C35:D35) -> 0
A36: Hibernian Comminity Foundation Merger | E36: =SUM(C36:D36) -> 0
E37: =SUM(C37:D37) -> 0
A38: Sub total | C38: =SUM(C27:C37) -> 0 | E38: =SUM(E27:E37) -> 2798 | G38: =SUM(G27:G37) -> 21797
A40: Payments relating to asset and investment movements
A41: Purchases of fixed assets | E41: =SUM(D41:D41) -> 0
A42: Purchase of investments | E42: =SUM(D42:D42) -> 0
A43: Sub total | C43: =C41+C42 -> 0 | E43: =E41+E42 -> 0 | G43: =G41+G42 -> 0
E44: =IF(E43='R&P Accounts'!B47,0,"cross ref error") -> 0
A45: Total payments | C45: =+C43+C38 -> 0 | E45: =+E43+E38 -> 2798 | G45: =+G43+G38 -> 21797
...

Sheet Additional notes (3)
C1: ='R&P Accounts'!B2 -> 0 | AE1: ='R&P Accounts'!L2 -> SC047640
A3: Additional analysis (3)
A5: 6 Breakdown of restricted funds
C6: East Lothian Council | E6: Scottish Para Football
AC7: Total restricted funds | AE7: Total restricted funds last period
A8: Receipts
A9: Donations | AC9: =SUM(C9:K9) -> 0
A10: Legacies | AC10: =SUM(C10:K10) -> 0
A11: Grants | C11: 14697 | E11: 10000 | AC11: =SUM(C11:Y11) -> 24697 | AE11: 129231
A12: Balance carried forward from last year | AC12: =SUM(C12:Y12) -> 0
A13: Receipts from fundraising activities | AC13: =SUM(C13:K13) -> 0
A14: Gross trading receipts | AC14: =SUM(C14:K14) -> 0
A15: Income from investments other than land and buildings | AC15: =SUM(C15:K15) -> 0
A16: Rents from land & buildings | AC16: =SUM(C16:K16) -> 0
A17: Gross receipts from other charitable activities | AC17: =SUM(C17:K17) -> 0
A18: Sub total | C18: =SUM(C9:C17) -> 14697 | E18: =SUM(E9:E17) -> 10000 | G18: =SUM(G9:G17) -> 0 | I18: =SUM(I9:I17) -> 0 | K18: =SUM(K9:K17) -> 0 | M18: =SUM(M9:M17) -> 0 | O18: =SUM(O9:O17) -> 0 | Q18: =SUM(Q9:Q17) -> 0 | S18: =SUM(S9:S17) -> 0 | U18: =SUM(U9:U17) -> 0 | W18: =SUM(W9:W17) -> 0 | Y18: =SUM(Y9:Y17) -> 0 | AA18: =SUM(AA9:AA17) -> 0 | AC18: =SUM(AC9:AC17) -> 24697 | AE18: =SUM(AE9:AE17) -> 129231
AC19: =IF(AC18='R&P Accounts'!D21,0,"cross ref error") -> 0
A20: Receipts from asset & investment sales
A21: Proceeds from sale of fixed assets | AC21: =SUM(C21:K21) -> 0
A22: Proceeds from sale of investments | AC22: =SUM(C22:K22) -> 0
A23: Sub total | C23: =SUM(C21:C22) -> 0 | E23: =SUM(E21:E22) -> 0 | G23: =SUM(G21:G22) -> 0 | I23: =SUM(I21:I22) -> 0 | K23: =SUM(K21:K22) -> 0 | M23: =SUM(M21:M22) -> 0 | O23: =SUM(O21:O22) -> 0 | Q23: =SUM(Q21:Q22) -> 0 | S23: =SUM(S21:S22) -> 0 | U23: =SUM(U21:U22) -> 0 | W23: =SUM(W21:W22) -> 0 | Y23: =SUM(Y21:Y22) -> 0 | AA23: =SUM(AA21:AA22) -> 0 | AC23: =SUM(AC21:AC22) -> 0 | AE23: =SUM(AE21:AE22) -> 0
A25: Total receipts | C25: =C18+C23 -> 14697 | E25: =E18+E23 -> 10000 | G25: =G18+G23 -> 0 | I25: =I18+I23 -> 0 | K25: =K18+K23 -> 0 | M25: =M18+M23 -> 0 | O25: =O18+O23 -> 0 | Q25: =Q18+Q23 -> 0 | S25: =S18+S23 -> 0 | U25: =U18+U23 -> 0 | W25: =W18+W23 -> 0 | Y25: =Y18+Y23 -> 0 | AA25: =SUM(AA16:AA24) -> 0 | AC25: =AC18+AC23 -> 24697 | AE25: =AE18+AE23 -> 129231
AC26: =IF(AC25='R&P Accounts'!D28,0,"cross ref error") -> 0
A28: Payments
A29: Expenses for fundraising activities | AC29: =SUM(C29:K29) -> 0
A30: Gross trading payments | AC30: =SUM(C30:K30) -> 0
A31: Investment management costs | AC31: =SUM(C31:K31) -> 0
A32: Payments relating directly to charitable activities | C32: 12907 | E32: 10000 | AC32: =SUM(C32:K32) -> 22907 | AE32: 123868 | AH32: =73742-AC32 -> 50835
A33: Grants and donations | AC33: =SUM(C33:K33) -> 0
A34: Governance costs: | AC34: =SUM(C34:K34) -> 0
A35: Audit / independent examination | AC35: =SUM(C35:K35) -> 0
A36: Preparation of annual accounts | AC36: =SUM(C36:K36) -> 0
A37: Legal costs | AC37: =SUM(C37:K37) -> 0
A38: Transfer to Hibs Community Foundation | AC38: =SUM(C38:K38) -> 0
AC39: =SUM(C39:K39) -> 0
A40: Sub total | C40: =SUM(C29:C39) -> 12907 | E40: =SUM(E29:E39) -> 10000 | G40: =SUM(G29:G39) -> 0 | I40: =SUM(I29:I38) -> 0 | K40: =SUM(K29:K39) -> 0 | M40: =SUM(M29:M39) -> 0 | O40: =SUM(O29:O39) -> 0 | Q40: =SUM(Q29:Q39) -> 0 | S40: =SUM(S29:S39) -> 0 | U40: =SUM(U29:U39) -> 0 | W40: =SUM(W29:W39) -> 0 | Y40: =SUM(Y29:Y39) -> 0 | AA40: =SUM(AA29:AA39) -> 0 | AC40: =SUM(AC29:AC39) -> 22907 | AE40: =SUM(AE29:AE39) -> 123868
A42: Payments relating to asset and investment movements
A43: Purchases of fixed assets | AC43: =SUM(C43:K43) -> 0
A44: Purchase of investments | AC44: =SUM(C44:K44) -> 0
A45: Sub total | C45: =C43+C44 -> 0 | E45: =E43+E44 -> 0 | G45: =G43+G44 -> 0 | I45: =I43+I44 -> 0 | K45: =K43+K44 -> 0 | M45: =M43+M44 -> 0 | O45: =O43+O44 -> 0 | Q45: =Q43+Q44 -> 0 | S45: =S43+S44 -> 0 | U45: =U43+U44 -> 0 | W45: =W43+W44 -> 0 | Y45: =Y43+Y44 -> 0 | AA45: =AA43+AA44 -> 0 | AC45: =AC43+AC44 -> 0 | AE45: =AE43+AE44 -> 0
...
