Workbook

Sheet Statement of balances
A2: ='[1]OSCR Receipt & Pay''ts Detail p9'!A2 -> Milngavie United Free Church of Scotland | O2: ='[1]OSCR Receipt & Pay''ts Detail p9'!N2 -> Presbytery of the West | R2: Page 8
A4: Statement of Balances and Movement on Congregation Funds for Year ending 31 December 2025
A6: Fund * | B6: Nature | C6: Balance | E6: Receipts | G6: (Payments) | I6: Surplus | K6: Net Fund | M6: Net change | O6: Balance | Q6: Held as
B7: of Fund ** | C7: 31.12.24 | E7: 2025 | G7: 2025 | I7: (Deficit) | K7: Transfers | M7: on Fund | O7: 31.12.25 | Q7: follows
C8: £ | E8: £ | G8: £ | I8: £ | K8: £ | M8: £ | O8: £ | Q8: Bank etc. | R8: £
A9: General | B9: Unrestricted | C9: 32858.11 | E9: ='[1]OSCR Receipt & Pay''ts Detail p9'!D35 -> 72844.74 | G9: ='[1]OSCR Receipt & Pay''ts Detail p9'!D73 -> 61330.55 | I9: =E9-G9 -> 11514.19 | K9: ='[1]OSCR Receipt & Pay''ts Detail p9'!D77+'[1]OSCR Receipt & Pay''ts Detail p9'!D78 -> 0 | M9: =I9+K9 -> 11514.19 | O9: =C9+M9 -> 44372.3 | Q9: RBS Current A/C | R9: 1085.6
B10: Note 1 | Q10: RBS High Int A/C | R10: 47425.52
C12: 0 | I12: =E12-G12 -> 0 | K12: ='[1]OSCR Receipt & Pay''ts Detail p9'!F77+'[1]OSCR Receipt & Pay''ts Detail p9'!F78 -> 0 | M12: =I12+K12 -> 0 | O12: =C12+M12 -> 0 | Q12: Uncashed Chqs | R12: -4138.82
A15: ='[1]OSCR Receipt & Pay''ts Detail p9'!H6 -> Fabric / Building | B15: ='[1]OSCR Receipt & Pay''ts Detail p9'!H7 -> Designated | C15: 0 | E15: ='[1]OSCR Receipt & Pay''ts Detail p9'!H35 -> 0 | G15: ='[1]OSCR Receipt & Pay''ts Detail p9'!H73 -> 0 | I15: =E15-G15 -> 0 | K15: ='[1]OSCR Receipt & Pay''ts Detail p9'!H77+'[1]OSCR Receipt & Pay''ts Detail p9'!H78 -> 0 | M15: =I15+K15 -> 0 | O15: =C15+M15 -> 0
B16: Note 3
C18: 0 | E18: ='[1]OSCR Receipt & Pay''ts Detail p9'!J35 -> 0 | G18: ='[1]OSCR Receipt & Pay''ts Detail p9'!J73 -> 0 | I18: =E18-G18 -> 0 | K18: ='[1]OSCR Receipt & Pay''ts Detail p9'!J77+'[1]OSCR Receipt & Pay''ts Detail p9'!J78 -> 0 | M18: =I18+K18 -> 0 | O18: =C18+M18 -> 0
C21: 0 | E21: ='[1]OSCR Receipt & Pay''ts Detail p9'!L35 -> 0 | G21: ='[1]OSCR Receipt & Pay''ts Detail p9'!L73 -> 0 | I21: =E21-G21 -> 0 | K21: ='[1]OSCR Receipt & Pay''ts Detail p9'!L77+'[1]OSCR Receipt & Pay''ts Detail p9'!L78 -> 0 | M21: =I21+K21 -> 0 | O21: =C21+M21 -> 0
A24: Total Congregation Funds | C24: =SUM(C9:C23) -> 32858.11 | E24: =SUM(E9:E23) -> 72844.74 | G24: =SUM(G9:G23) -> 61330.55 | I24: =SUM(I9:I23) -> 11514.19 | K24: =SUM(K9:K23) -> 0 | M24: =SUM(M9:M23) -> 11514.19 | O24: =SUM(O9:O23) -> 44372.3 | R24: =SUM(R9:R23) -> 44372.3
A29: Notes to the Financial Statements for the Year ending 2025
A31: Nature of Congregation Funds:
A32: General | B32: Unrestricted | C32: Note 1 | E32: Ordinary receipts and payments of the Congregation. Office Bearers may 'designate' unrestricted funds for general reserves or for specified purpose(s).
A34: Mission | B34: Designated | C34: Note 2 | E34: To support charitable and missionary outreach work at home and overseas
A36: Fabric / Building | B36: Designated | C36: Note 3 | E36: To repairs to external and internal fabric and/or furnishings of Church, Hall or Manse
A38: Youth | B38: Designated | C38: Note 4 | E38: To establish, deliver and develop a range of activities to support children/youths and families, and to promote education in the Christian faith
A41: Manse | B41: Designated | C41: Note 5 | E41: Net income from let of Manse, for repairs, decoration and refurbishment of the Manse
A43: Governance | C43: Note 6 | E43: No governance costs are incurred during the year. Duties relating to governance are provided voluntarily
A45: Property | B45: Church | C45: Note 7 | E45: Congregation property is held for the use of the Congregation in fulfilling its aims and mission to its members, adherents and the community it serves; not for investment or resale. No market value is placed on these properties.
B46: Manse, Hall
A49: Investments | C49: Note 8 | E49: Investments held on behalf of the Congregation which have a variable Market Value are included in the above Statement of Balances at the value at the year end. Revaluations during the year are reported in the table above as 'Net Change in Fund'
A53: Contingent Liabilities | C53: Note 9 | E53: Financial Statements present the receipts received and payments made during the year. In the event there are any material outstandings,contingent liabilities and /or commiments these are noted below :-
E56: There are no contingent liabilities at the date of this Report and Financial Statement.
A58: Payments to Trustees | C58: Note 10 | E58: No payments have been been made to any Trustee for the performance of their duties as Trustees of the Congregation
A62: Approval of Congregation Financial Statements for the year ending 31 December 2025 as set out on Pages 8, 9 and 10 by Office Bearers authorised to sign :
A65: Interim Moderator | G65: Rev B McDowall | O65: Name : | Q65: Rev Bruce McDowall
A67: Clerk to Congregatioal Board | G67: Ian Buchanan | O67: Name : | Q67: Ian Buchanan
A69: Treasurer | G69: Kathleen Johnston | O69: Name : | Q69: Kathleen Johnston
A71: Date | G71: 46074
A74: ***Typed signature is acceptable

Sheet Receipts and Pay'mts
A2: Milngavie United Free Church of Scotland | N2: Presbytery of the West | P2: Page 9
A4: Receipts and Payments for the Year ending 31 December 2025 (comparative year to 31 December 2024)
A6: Fund* : | C6: Notes | D6: General | F6: Mission | H6: Fabric / Building | J6: Youth | L6: Manse | N6: Total | P6: Total
A7: Nature of Fund** : | C7: Details | D7: Unrestricted | F7: Designated | H7: Designated | J7: Designated | L7: Designated | N7: 2025 | P7: 2024
A8: Receipts
A9: Offerings | B9: Open Plate | D9: 9685.87 | N9: =SUM(D9:M9) -> 9685.87 | P9: 10141.86
B10: Freewill | D10: 0 | N10: =SUM(D10:M10) -> 0 | P10: 0
B11: Freewill (Gift Aid) | D11: 30210 | N11: =SUM(D11:M11) -> 30210 | P11: 37901
B12: Gift Aid Tax | D12: 9886.16 | N12: =SUM(D12:M12) -> 9886.16 | P12: 12014.71
B13: Other | C13: Page 9.1 | D13: 61 | N13: =SUM(D13:M13) -> 61 | P13: 52.13
B14: Sub Total | D14: =SUM(D9:D13) -> 49843.03 | F14: =SUM(F9:F13) -> 0 | H14: =SUM(H9:H13) -> 0 | J14: =SUM(J9:J13) -> 0 | L14: =SUM(L9:L13) -> 0 | N14: =SUM(D14:M14) -> 49843.03 | P14: =SUM(P9:P13) -> 60109.7
A15: Donations | B15: Organisations | C15: Page 9:2 | N15: =SUM(D15:M15) -> 0 | P15: 0
B16: Other | C16: Page 9:2 | D16: 1365 | N16: =SUM(D16:M16) -> 1365 | P16: 8200
B17: Sub Total | D17: =SUM(D15:D16) -> 1365 | F17: =SUM(F15:F16) -> 0 | H17: =SUM(H15:H16) -> 0 | J17: =SUM(J15:J16) -> 0 | L17: =SUM(L15:L16) -> 0 | N17: =SUM(D17:M17) -> 1365 | P17: =SUM(P15:P16) -> 8200
A18: Other | B18: Bank Interest | D18: 804.76 | N18: =SUM(D18:M18) -> 804.76 | P18: 641.25
B19: Rent / Let | D19: 11127.42 | N19: =SUM(D19:M19) -> 11127.42 | P19: 0
B20: Stedfast | D20: 150 | N20: =SUM(D20:M20) -> 150 | P20: 228
B21: Miscellaneous | C21: Page 9:3 | D21: 6378.82 | N21: =SUM(D21:M21) -> 6378.82 | P21: 1209.4
B22: Sub Total | D22: =SUM(D18:D21) -> 18461 | F22: =SUM(F18:F21) -> 0 | H22: =SUM(H18:H21) -> 0 | J22: =SUM(J18:J21) -> 0 | L22: =SUM(L18:L21) -> 0 | N22: =SUM(D22:M22) -> 18461 | P22: =SUM(P18:P21) -> 2078.65
A24: Events | B24: Fundraising | D24: 0 | F24: 0 | H24: 0 | J24: 0 | L24: 0 | N24: =SUM(D24:M24) -> 0 | P24: 0
A26: Total Ordinary Receipts | D26: =SUM(D24+D22+D17+D14) -> 69669.03 | F26: =SUM(F24+F22+F17+F14) -> 0 | H26: =SUM(H24+H22+H17+H14) -> 0 | J26: =SUM(J24+J22+J17+J14) -> 0 | L26: =SUM(L24+L22+L17+L14) -> 0 | N26: =SUM(D26:M26) -> 69669.03 | P26: =SUM(P24+P22+P17+P14) -> 70388.35
A28: Extraordinary | B28: Donation / Bequest | N28: =SUM(D28:M28) -> 0 | P28: 2000
B29: Grant | M29: =SUM(M28) -> 0 | N29: =SUM(D29:M29) -> 0
B30: Other | C30: Page 9.4 | N30: =SUM(D30:M30) -> 0
B31: Sub Total | D31: =SUM(D28:D30) -> 0 | F31: =SUM(F28:F30) -> 0 | H31: =SUM(H28:H30) -> 0 | J31: =SUM(J28:J30) -> 0 | L31: =SUM(L28:L30) -> 0 | N31: =SUM(D31:M31) -> 0 | P31: =SUM(P28:P30) -> 2000
A33: Missions | B33: Other charities | C33: Page 9.5 | D33: 3175.71 | F33: 0 | H33: 0 | J33: 0 | L33: 0 | N33: =SUM(D33:M33) -> 3175.71 | P33: 1305.65
A35: Total Receipts (Ordinary plus Extraordinary) | D35: =SUM(D26+D31+D33) -> 72844.74 | F35: =SUM(F26+F31+F33) -> 0 | H35: =SUM(H26+H31+H33) -> 0 | J35: =SUM(J26+J31+J33) -> 0 | L35: =SUM(L26+L31+L33) -> 0 | N35: =SUM(D35:M35) -> 72844.74 | P35: =SUM(P26+P31+P33) -> 73694
A37: Payments
A38: Ministry | B38: Stipend/Salary & NIC | N38: =SUM(D38:M38) -> 0 | P38: 18213.19
B39: Expenses | D39: 0 | N39: =SUM(D39:M39) -> 0 | P39: 332.43
B40: Pulpit Supply | D40: 6690 | N40: =SUM(D40:M40) -> 6690 | P40: 4225
B41: Int Moderator Fee, Exp | D41: 600 | N41: =SUM(D41:M41) -> 600
B42: Sub Total | D42: =SUM(D38:D41) -> 7290 | F42: =SUM(F38:F41) -> 0 | H42: =SUM(H38:H41) -> 0 | J42: =SUM(J38:J41) -> 0 | L42: =SUM(L38:L41) -> 0 | N42: =SUM(D42:M42) -> 7290 | P42: =SUM(P38:P41) -> 22770.62
A44: Other Salary | B44: Church Officer / Cleaner | D44: 2120 | F44: 0 | H44: 0 | J44: 0 | L44: 0 | N44: =SUM(D44:M44) -> 2120 | P44: 2120
A46: Property | B46: Council Tax | D46: 1464.51 | N46: =SUM(D46:M46) -> 1464.51 | P46: 3675.98
B47: Insurance | D47: 3723.64 | N47: =SUM(D47:M47) -> 3723.64 | P47: 3233.61
B48: Heat & light | D48: 4679.62 | N48: =SUM(D48:M48) -> 4679.62 | P48: 6335.69
B49: Repairs, upkeep | D49: 22959.1 | N49: =SUM(D49:M49) -> 22959.1 | P49: 9438.62
B50: Equipment, Furnishing | N50: =SUM(D50:M50) -> 0
B51: Other | C51: Page 9.6 | D51: 422.1 | N51: =SUM(D51:M51) -> 422.1 | P51: 289.04
...

Sheet Supplementary
A1: ='[1]OSCR Receipt & Pay''ts Detail p9'!A2 -> Milngavie United Free Church of Scotland | K1: Page 10
A3: Supplementary Sheet and Notes - Year ending 31 December 2025
C5: ='[1]OSCR Receipt & Pay''ts Detail p9'!D6 -> General | E5: ='[1]OSCR Receipt & Pay''ts Detail p9'!F6 -> Mission | G5: ='[1]OSCR Receipt & Pay''ts Detail p9'!H6 -> Fabric / Building | I5: ='[1]OSCR Receipt & Pay''ts Detail p9'!J6 -> Youth | K5: ='[1]OSCR Receipt & Pay''ts Detail p9'!L6 -> Manse
C6: ='[1]OSCR Receipt & Pay''ts Detail p9'!D7 -> Unrestricted | E6: ='[1]OSCR Receipt & Pay''ts Detail p9'!F7 -> Designated | G6: ='[1]OSCR Receipt & Pay''ts Detail p9'!H7 -> Designated | I6: ='[1]OSCR Receipt & Pay''ts Detail p9'!J7 -> Designated | K6: ='[1]OSCR Receipt & Pay''ts Detail p9'!L7 -> Designated
C7: £ | E7: £ | G7: £ | I7: £ | K7: £
A8: Note | B8: Details of Receipts
A9: 9.1 | B9: Offerings - Other
B10: Pennies | C10: 61
C12: =SUM(C9:C11) -> 61 | E12: =SUM(E9:E11) -> 0 | G12: =SUM(G9:G11) -> 0 | I12: =SUM(I9:I11) -> 0 | K12: =SUM(K9:K11) -> 0
A14: 9.2 | B14: Donations - Organisations & Other
B15: General | C15: 1365
C17: =SUM(C14:C16) -> 1365 | E17: =SUM(E14:E16) -> 0 | G17: =SUM(G14:G16) -> 0 | I17: =SUM(I14:I16) -> 0 | K17: =SUM(K14:K16) -> 0
A19: 9.3 | B19: Other - Miscellaneous
B20: Salary D/D Error | C20: 5514.9
B21: Utilities Refund | C21: 151.46
B22: Insurance Refund | C22: 137.31
B23: EDC Refund | C23: 575.15
C24: =SUM(C19:C23) -> 6378.82 | E24: =SUM(E19:E23) -> 0 | G24: =SUM(G19:G23) -> 0 | I24: =SUM(I19:I23) -> 0 | K24: =SUM(K19:K23) -> 0
A26: 9.4 | B26: Extra-ordinary - Other
C29: =SUM(C26:C28) -> 0 | E29: =SUM(E26:E28) -> 0 | G29: =SUM(G26:G28) -> 0 | I29: =SUM(I26:I28) -> 0 | K29: =SUM(K26:K28) -> 0
A31: 9.5 | B31: Receipts from Missions
B32: Prayer Union | C32: 20
B33: Children for Christ | C33: 303.4
B34: Holy Week Services | C34: 1733.81
B35: Release International | C35: 267.5
B36: Macmillam Cancer Care | C36: 596
B37: TearFund | C37: 255
C38: =SUM(C31:C37) -> 3175.71 | E38: =SUM(E31:E34) -> 0 | G38: =SUM(G31:G34) -> 0 | I38: =SUM(I31:I34) -> 0 | K38: =SUM(K31:K34) -> 0
A40: Note | B40: Details of Payments
A41: 9.6 | B41: Property - Other
B42: Vodafone | C42: 422.1
C44: =SUM(C41:C43) -> 422.1 | E44: =SUM(E41:E43) -> 0 | G44: =SUM(G41:G43) -> 0 | I44: =SUM(I41:I43) -> 0 | K44: =SUM(K41:K43) -> 0
A46: 9.7 | B46: Office & Publicity
B47: CCLI | C47: 264
B48: Advertising | C48: 284.93
B49: Internet | C49: 144
C50: =SUM(C46:C49) -> 692.93 | E50: =SUM(E46:E49) -> 0 | G50: =SUM(G46:G49) -> 0 | I50: =SUM(I46:I49) -> 0 | K50: =SUM(K46:K49) -> 0
A52: 9.8 | B52: Miscellaneous
B53: Salary D/D Error | C53: 5514.9
B54: Bank Difference | C54: 25
...
