Workbook

Sheet Front Sheet
A7: Parkhead Congregational Church
D8: 77 Westmuir Street
E9: Glasgow
E10: G31 5EU
A17: Accounts for the Year Ended 31 December 2025

Sheet 2
B6: Contact Address | D6: Pearl Punshon
D7: 77 Westmuir Street
D8: Glasgow
D9: G31 5EU
B12: Charity Number | D12: SC001033
B14: Company Number | D14: SC489331
B16: List of Trustees | D16: Rev John Graham | G16: Minister
D18: Mrs Pearl Punshon | G18: Treasurer
D20: Miss Marjorie Martin | G20: Secretary
D22: Mrs Mairi Armstrong
D24: Mrs Elizabeth Seed
D26: Mrs Isobel Finbow
D28: Miss Valerie McFarlane
D30: Mrs Lynn Moffat
D32: Mr James Gallacher
D34: Mrs Michelle Kittridge
D36: Mrs Alison Glen
D38: Mrs Moira Baird

Sheet 3
A1: Governing Document
A3: The charity is governed by a Limited Company by Guarantee and constitution. It is administered
A4: in accordance with the Articles of Association and Members Handbook of Parkhead
A5: Congregational Church.
A7: Other Relevant Information
A8: The Church has submitted for Charity reorganisation under OSCR rules to change from a Deed
A9: of Trust to a Company Limited by Guarantee and this process is ongoing.
A11: The Trustees head Teams made up of Members and adherents who are charged with the day to day
A12: running of the Church.
A14: There are four Teams each consisting of at least three Members of the Church:
A16: - | B16: Spiritual Guidance Team, led by the Minister
A17: - | B17: Administration Team, made up of two sections, Secretarial and Finance and includes
B18: the Secretary and Treasurer
A19: - | B19: Ministries Team
A20: - | B20: Buidings and Facilities Team
A22: The Quorum for transacting business of the Board of Trustees shall be five, preferably including one
A23: Member of each Team in accordance with the Church Rules. The Board of Trustees should meet at
A24: least quarterly. Minutes are made of all meeting and records the names of all present.
A25: The Church Meeting has ultimate authority and supremacy over other meetings within the Church.
A28: Appointment of Trustees
A30: Appointment and removal of Trustees is in accordance with the Members' Handbook which requires
A31: that appointment is approved by the Church Meeting. These appointments will be reviewed
A32: annually with one Trustee from each Team retiring from Office at the Annual General Meeting (AGM)
A33: but who may, if willing to act, be re-elected by the Members at the meeting
A36: Charitable Purpose
A38: The Church exists for the advancement of the Christian faith in Parkhead and beyond, by all means
A39: consistent with the Bible and the Congregational Principles, including; worship, preaching, ministry,
... A41: charitable organisations; and the relief of poverty and other social needs.

Sheet 4
A1: Activities and Achievements
A3: The Church seeks to fulfill its purpose by:
A5: - | B5: providing an environment that allows its members to come together in fellowship
B6: and worship
A7: - | B7: encouraging community development and involvement, strengthening community cohesion
B8: and becoming a focal point for a range of community based activities and programmmes
A9: - | B9: providing learning and educational development opportunities for young people and other
B10: members of the public
A12: In 2025, the Church as a body of God's people has continued to:
A14: - | B14: hold religious services weekly
A15: - | B15: hold weekly prayer meetings for the support of individuals on a personal basis and for needs
B16: identified either locally, nationally or within the wider world
A17: - | B17: hold small Bible study groups to encourage study and discussion of the Bible
B18: and to support the members in their spiritual growth
A19: - | B19: provides spiritual and emotional support for its members and visitors either within the Church
B20: building or within various domestic or other settings e.g. hospital
A21: - | B21: provide premises and support to self help groups and those groups who work with young and older people
A22: - | B22: provide premises for recreational groups e.g. line dancing and local concert band
A23: - | B23: provide premises to the local Housing Association for meetings and events
A24: - | B24: utilise its café to provide fellowship and informal support to people from the local area.
A25: - | B25: raise funds to be disbursed to UK charitable bodies for the promotion of their work
B26: throughout the world and to individuals in need
A27: - | B27: undertake to provide pastoral care to all seeking help
A28: - | B28: raise funds for the continual maintenance and improvement of its property
A30: The youth group, Ignite, for primary 7 school children up to S6, continue to meet about every 3 months
A31: in our church. The young people from all churches and schools within the Parkhead area meet to | S31: l
A32: read and discuss the Bible, pray together, have fun together and sometimes enjoy food together. They
A33: enjoy this time while developing and growing in their faith.
A34: Our church hosted a musical theatre group called SHINE. This is a group of young people and they do what
A35: it says on the tin - they shine with happiness and enthusiasm and perform through, song and dance,
A36: brilliantly.
A37: Our church also hosted a women's event 'GROW' on behalf of Easterhill Community Church. All women
A38: welcome. Theme: Women Worship Word.
A39: The Tear Fund Big Quiz Night took place in our church compered by one of our young men.
A40: Our younger children attended a local theatre to attend their pantomime 'A Christmas Carol' and had a great
A41: day and as they were leaving the theatre each child was presented with a well-packed goody bag.
A42: Each child in the Rainbow Riders (name of our Sunday School) and the creche was gifted a Christmas bauble
A43: with their name on it.
... A47: Our church continues to work in the Parkhead area and beyond.

Sheet 5
A1: Financial Review
A3: The minister receives a paid salary, benefits from a pension contribution to the Congregational
A4: Federation Pension scheme and is recompensed for travel expenses. The overall yearly cost
A5: to the Church for 2025 was £56,022.00
A7: No property revaluation in 2025
A11: Reserves
A13: Sufficient funds are normally held in reserve for three months for operational costs.
A21: Approved by the Trustees and signed on their behalf.
A24: Signature
A27: Date
A30: Signature
A33: Date

Sheet 6
A1: PARKHEAD CONGREGATIONAL CHURCH
A2: PROFIT AND LOSS ACCOUNT
A3: FOR THE YEAR ENDED 31 DECEMBER 2025
E5: 2025 | H5: 2024
A7: Income
A9: Offerings | E9: =ETB!P21+ETB!P23 -> 48619.34 | H9: 45460.87
A10: Gift Aid | E10: =ETB!P22 -> 10963.34 | H10: 11767.22
A11: Fundraising Activities | E11: =ETB!P26 -> 6763.5 | H11: 3618.18
A12: Donations and Bequests | E12: =ETB!P24+ETB!P25+ETB!P29 -> 20322.27 | H12: 160322.74
A13: Sundry Income | E13: =+ETB!P30+ETB!P27+ETB!P31 -> 2939.05 | H13: 2562.64
F14: =SUM(E9:E13) -> 89607.5 | H14: =SUM(H7:H13) -> 223731.65
A17: Expenditure
A19: Salary, Pension and Travel Costs | E19: =ETB!O32 -> 56021.77 | H19: 55666.48
A20: Expenditure on charitable activities | E20: =ETB!O37+ETB!O46+ETB!O43 -> 29706.56 | H20: 22008.67
A21: Services for Church | E21: =ETB!O35-ETB!P28 -> 17197.15 | H21: 21571.82
A22: Administration Expenses | E22: =ETB!O39 -> 3973.94 | H22: 4006.04
A23: Sundry Expenses | E23: =ETB!O34+ETB!O40+ETB!O41+ETB!O45+ETB!O47+ETB!O42 -> 1617.07 | H23: 3397.16
F24: =SUM(E19:E23) -> 108516.49 | H24: =SUM(H19:H23) -> 106650.17
A26: Profit for the year | F26: =F14-F24 -> -18908.99 | H26: =H14-H24 -> 117081.48

Sheet 7
A1: PARKHEAD CONGREGATIONAL CHURCH
A2: BALANCE SHEET
A3: AS AT 31 DECEMBER 2025
C5: 2025 | E5: 2024
A6: Fixed Assets
A7: Church Building & Fittings (Westmuir Street) | C7: =ETB!O9 -> 250000 | E7: 250000
A9: Debtors
A10: Prepayments | B10: =ETB!O10 -> 11471.13 | E10: 12260.8
C12: =SUM(B10:B10) -> 11471.13 | E12: =SUM(E10:E11) -> 12260.8
A14: Cash and Bank
A15: General Fund | B15: =ETB!O12 -> 73531.72 | E15: 158673.46
A16: Benevolent Fund | B16: =ETB!O13 -> 3337.12 | E16: 6342.58
A17: Geezabreak | B17: =ETB!O14 -> 66.58 | E17: 66.58
A18: Youth Fellowship Fund | B18: =ETB!O15 -> 124.95 | E18: 74.95
A19: Reserve & Renovation Fund | B19: =ETB!O16 -> 85125.5 | E19: 13829.5
C21: =SUM(B15:B19) -> 162185.87 | E21: =SUM(E15:E20) -> 178987.07
A24: Creditors
A25: Accruals | B25: =ETB!P17 -> 2865.1126 | E25: 1581.7126
A26: Other taxation and social security | B26: =ETB!P18 -> 1257.6 | E26: 1222.88
C28: =SUM(B25:B26) -> 4122.7126 | E28: =SUM(E25:E26) -> 2804.5926
C30: =C7+C12+C21-C28 -> 419534.29 | E30: =E7+E12+E21-E28 -> 438443.28
A34: Represented by
A35: Congregational Capital Account 31/12/2025 | B35: =E37 -> 438443.27 | E35: 321361.79
A36: Profit for the year | B36: ='6'!F26 -> -18908.99 | E36: 117081.48
C37: =SUM(B35:B36) -> 419534.28 | E37: =SUM(E35:E36) -> 438443.27
A39: "For the financial year in question the company was entitled to exemption under section 477 of the
A40: Companies Act 2006 relating to small companies.
A41: No members have required the company to obtain an audit of its accounts for the year in question in accordance
A42: with section 476 of the Companies Act 2006.
A43: The directors acknowledge their responsibility for complying with the requirements of the Act with respect
A44: to accounting records and for the preparation of accounts.
A45: These accounts have been prepared in accordance with the provisions applicable to companies subject to
A48: Approved by the Trustees and signed on their behalf
A50: Signature | C50: Signature
A53: Full Name | C53: Full Name
A56: Position: Trustee | C56: Position: Trustee
A59: Date | C59: Date

Sheet Independent Examiners Report
A1: Independent Examiner's Report to the Trustees of Parkhead Congregational Church
A3: I report on the accounts of the charity for the year ended 31 December 2025, which are set out on
A4: pages 1 to 7.
A6: Respective Responsibilities of Trustees and Examiner
A8: The charity's trustees are responsible for the preparation of accounts in accordance with the terms of
A9: the Charities and Trustee investment (Scotland) Act 2005 and the Charities Accounts (Scotland)
A10: Regulations 2006. The charity trustees consider that the audit requirement of Regulations 10(1)(d) of the
A11: Accounts Regulations does not apply. It is my responsibility to examine the accounts as required under
A12: section 44(1)(c) of the Act and to state whether particular matters have come to my attention.
A14: Basis of Independent Examiner's Statement
A16: My examination is carried out in accordance with Regulation 11 of the Charities Accounts (Scotland)
A17: Regulations 2006. An examination includes a review of the accounting records kept by the charity and
... A25: In the course of my examination, no matter has come to my attention
A27: 1 | B27: which gives me reasonable cause to believe that in any material respect the requirements:
C29: to keep accounting records in accordance with Section 44(1)(a) of the 2005 Act
C30: and Regulation 4 of the 2006 Accounts Regulations, and
C32: to prepare accounts which accord with the accounting records and comply with
C33: Regulation 8 of the 2006 Accounts Regulations
B35: have not been met, or
A37: 2 | B37: to which, in my opinion, attention should be drawn in order to enable a proper understanding
B38: of the accounts to be reached.
A41: Name | B41: Lynn Marie Kelly
A47: Address | B47: 99 Inveresk Street
B48: Greenfield
B49: Glasgow
B50: G32 6QL
A52: Date | B52: 2nd May 2025

Sheet ETB
A1: PARKHEAD CONGREGATIONAL CHURCH
A2: Extended TB
A3: Year Ended 31 December 2025
F4: OPENING TB | I4: PER CHURCH ACCOUNTS | L4: JOURNALS | O4: CLOSING T.B.
F7: DR | G7: CR | L7: DR | M7: CR
A9: Church Building & Fittings (Westmuir Street) | F9: 250000 | O9: =F9-G9+I9-J9+L9-M9 -> 250000
A10: Prepayments | F10: 12260.8 | L10: 11471.13 | M10: 12260.8 | O10: =F10-G10+I10-J10+L10-M10 -> 11471.13
A11: Debtors | F11: 0 | O11: =F11-G11+I11-J11+L11-M11 -> 0
A12: Bank | B12: General Fund | F12: 158673.46 | J12: 85141.74 | O12: =F12-G12+I12-J12+L12-M12 -> 73531.72
B13: Benevolent Fund | F13: 6342.58 | J13: 3005.46 | O13: =F13-G13+I13-J13+L13-M13 -> 3337.12
B14: Geezabreak | F14: 66.58 | O14: =F14-G14+I14-J14+L14-M14 -> 66.58
B15: Youth Fellowship Fund | F15: 74.95 | I15: 50 | O15: =F15-G15+I15-J15+L15-M15 -> 124.95
B16: Reserve & Renovation Fund | F16: 13829.5 | I16: =71393.32 -> 71393.32 | M16: 97.32 | O16: =F16-G16+I16-J16+L16-M16 -> 85125.5
A17: Acruals | G17: 1581.7126 | L17: 1581.71 | M17: 2865.11 | P17: =G17-F17+J17-I17+M17-L17 -> 2865.1126
A18: Other taxation and social security | G18: 1222.88 | L18: 1222.88 | M18: 1257.6 | P18: =G18-F18+J18-I18+M18-L18 -> 1257.6
A19: Capital | G19: =321361.8+117081.48 -> 438443.28 | P19: =G19-F19+J19-I19+M19-L19 -> 438443.28
A20: Revaluation | P20: =G20-F20+J20-I20+M20-L20 -> 0
A21: Offerings | J21: 47297.84 | P21: =G21-F21+J21-I21+M21-L21 -> 47297.84
A22: Gift Aid tax | J22: 11767.22 | L22: 11767.22 | M22: 10963.34 | P22: =G22-F22+J22-I22+M22-L22 -> 10963.34
A23: Retiral & Other Offerings | J23: 1321.5 | P23: =G23-F23+J23-I23+M23-L23 -> 1321.5
A24: Donations | J24: =50+2854.54+7084.1 -> 9988.64 | P24: =G24-F24+J24-I24+M24-L24 -> 9988.64
A25: Donations for use of Halls/Church | J25: 10090 | P25: =G25-F25+J25-I25+M25-L25 -> 10090
A26: Fund Raising | J26: 6763.5 | P26: =G26-F26+J26-I26+M26-L26 -> 6763.5
A27: Flowers | J27: 1179.75 | P27: =G27-F27+J27-I27+M27-L27 -> 1179.75
A28: Grants | J28: 350 | P28: =G28-F28+J28-I28+M28-L28 -> 350
A29: Reserve & Renovation Fund | J29: 243.63 | P29: =G29-F29+J29-I29+M29-L29 -> 243.63
A30: Other | J30: 463.3 | P30: =G30-F30+J30-I30+M30-L30 -> 463.3
A31: Bank Interest | J31: 1393.32 | L31: 97.32 | P31: =G31-F31+J31-I31+M31-L31 -> 1296
A32: Employment costs | I32: 55987.05 | L32: 1257.6 | M32: 1222.88 | O32: =F32-G32+I32-J32+L32-M32+L33-M33 -> 56021.77
O33: =F33-G33+I33-J33+L33-M33+L34-M34 -> 0
A34: Pulpit Supply | O34: =F34-G34+I34-J34+L34-M34 -> 0
A35: Services (Church) | I35: 16263.75 | M35: 1581.71 | O35: =F35-G35+I35-J35+L35-M35+F36-G36+I36-J36+L36-M36 -> 17547.15
L36: 2865.11
A37: Halls & Property | I37: 19090 | L37: 493.58 | M37: 507.79 | O37: =F37-G37+I37-J37+L37-M37+L38-M38 -> 19075.79
A39: Office | I39: 3973.94 | O39: =F39-G39+I39-J39+L39-M39 -> 3973.94
A40: Flowers | I40: 775 | O40: =F40-G40+I40-J40+L40-M40 -> 775
A41: Coffee Days | I41: 59.97 | O41: =F41-G41+I41-J41+L41-M41 -> 59.97
A42: Sunday School | O42: =F42-G42+I42-J42+L42-M42 -> 0
A43: Expenditure on charitable activities | I43: 3469.44 | O43: =F43-G43+I43-J43+L43-M43 -> 3469.44
A44: 150th Anniversary | O44: =F44-G44+I44-J44+L44-M44 -> 0
...

Sheet Journals
A1: PARKHEAD CONGREGATIONAL CHURCH
A2: Journals
A3: Year Ended 31 December 2025
F5: DR | G5: CR
A7: 1 | B7: Accruals | F7: 2804.59
B8: Services (Church) | G8: 1164.1
B9: Services (Church) | G9: 417.61
B10: Employment costs | G10: 1222.88
B12: Reversal of 2024 accruals | I12: a
A14: 2 | B14: Services (Church) | F14: 1592.48
B15: Services (Church) | F15: 1272.6268
B16: Employment Costs | F16: 1257.6
B17: Accruals | G17: =SUM(F14:F16) -> 4122.7068
B19: Accruals for 2025 | I19: a
A22: 3 | B22: Prepayments | F22: =SUM(G23:G24) -> 11471.13
B23: Gift Aid | G23: 10963.34
B24: Halls & property | G24: 507.79
I25: a
B26: Prepayments for 2025
A28: 4 | B28: Gift Aid | F28: 11767.22
B29: Halls & property | F29: 493.58
B30: Prepayments | G30: 12260.8
B32: Reversal of 2024 prepayments | I32: a
A34: 5 | B34: Bank interest | F34: 97.32
B35: Reserve & Renovation Fund | G35: 97.32
B37: Correct interest received amount | I37: a
