Workbook

Sheet cover and guidance
A1: Blank formatted accounts in Receipts and Payments style
A3: General Guidance starts at cell A43 below | L3: Specific guidance, comments etc
A9: Croftfoot Parish Church of Scotland | L9: enter name of church | O9: will also enter on all pages
A16: Receipts and Payments Accounts
A18: =CONCATENATE("for the year ended 31 December ",'R&P Account'!$D$8) -> for the year ended 31 December 2025 | L18: date will be pulled in from D8 on R&P Account
A28: Congregation No: 160925 | L28: enter No | N28: will also enter in TAR
A29: Charity No: SC009761 | L29: enter No | N29: will also enter in TAR and IER
A43: Guidance Notes
A44: Protection
A45: The workbook has been built to work as a protected one so that formulae which have been set up will not be accidentally overwritten.
A46: Cells are either locked or unlocked and the status of a cell can be seen and changed in the Protection Section of Format in the Home menu. First unprotect sheet, then lock or unlock cell(s) as desired and reprotect sheet.
A47: The workbook is already set up with cells unlocked where it is anticipated that the user may want to enter figures or edit a narrative.
A48: Otherwise cells are locked
A49: It will of course be necessary from time to time to change a locked cell or insert additional lines and in that event the sheet should be unprotected, the necessary change made and the sheet returned to protected status. Inserted lines adopt a default setting equivalent to the line above the insertion.
A51: Group
A52: At various points in the ref info and Trustees Report sheets there is guidance which is hidden by using the Group option in the Data menu. To see it unprotect the sheet and click on the + sign in the left margin. When finished, to ensure hidden when printing, click on the - sign and reprotect sheet . (There won't be a margin unless grouping has been done)
A54: Page Numbering
A55: The sheets have page numbers set up in footers (excluding the cover which is not numbered) Done in Print Titles in Page Layout menu.
A56: If only printing 1 sheet the numbering will start at 1. However, if you print the whole workbook the numbering will be continuous (1 to 11 for basic model and will adjust if you write a lot in let's say the Trustees Report)
... A74: Where there are rows that are not required it may well be easier to group them (as happens in terms of advice in Trustees Report (noted in Group above)) rather than delete them with potential for knocking out formulae.

Sheet ref info
A1: ='cover and guidance'!$A$9 -> Croftfoot Parish Church of Scotland
A2: Reference and Administrative Information
A5: Charity Name: | F5: ='cover and guidance'!A9 -> Croftfoot Parish Church of Scotland
A6: Charity Registration Number: | F6: =RIGHT('cover and guidance'!A29,8) -> SC009761
A7: Congregation Reference Number: | F7: =RIGHT('cover and guidance'!A28,6) -> 160925
A8: Contact Address | F8: 318 Croftpark Av
F9: Croftfoot
F10: Glasgow
F11: G44 5NS
A12: (The contact address shown should be the same as that held by OSCR)
A14: Trustees
A15: List all trustees who served during the year up to date of signing the accounts
A16: List Kirk Session members separately from Congrgational Board Members
A17: Where a Kirk session member is also a Board member then that person need
A18: only be listed once but indicate member of Board.
A20: Kirk Session Members
A21: Alan Duncan | D21: Fiona Shepherd | G21: Linda McKendrick
A22: Alison Eadie Resigned 2025) | D22: Flora McAulay (Resigned 2025) | G22: Margaret Park
A23: Alison Whitelaw | D23: Flora Nimmo | G23: Martha Williams
A24: Barbara Drummond | D24: Ian Henderson | G24: Mary Grant
A25: Brian Williams | D25: Janet Allardice | G25: Michael Thomson
A26: Carol McQuarrie | D26: Jean Shepherd | G26: Moira Jackson
A27: Donald Matheson | D27: Joan Foster | G27: Paul Marshall
A28: Graham Eadie | D28: John Mason | G28: Robert Foster
A29: Elizabeth Henderson | D29: Karen Alston | G29: Robert Silver
A30: Elizabeth Murphy | D30: Kevin Black | G30: Stacey McGarrigle
A31: Fiona Matheson | D31: Kimberly Duncan | G31: Thomas Malcolm
G32: Wilma Morrison
A36: Principal Office-bearers
A37: Minister: | D37: Rev. Robert Silver BD
A38: Session Clerk: | D38: Mrs Fiona Matheson
A39: Clerk to the Board: | D39: N/A
A40: Church Treasurer: | D40: Graham Eadie
A42: Independent Examiner | D42: Mrs Anne Bryce
A43: (Name & address should be given) | D43: 8 Kingshill Drive
D44: 8 Kingshill Drive
D45: Glasgow, G44 4QX
A47: Bankers: | C47: Virgin Money,
C48: 21 Kilmarnock Road
A49: Address should be given | C49: Glasgow
...

Sheet Trustees Report
A1: ='cover and guidance'!$A$9 -> Croftfoot Parish Church of Scotland | K1: Specific guidance, comments etc
A2: Trustees' Annual Report
A3: =CONCATENATE("for the year ended 31 December ",'R&P Account'!$D$8) -> for the year ended 31 December 2025
A5: Structure, Governance and Management
A7: Governing Document
A8: The Church is administered in accordance with the terms of the Unitary Constitution.
A10: Recruitment and Appointment of Trustees | K10: See SORP sample accounts if Unitary Constitution
A11: Members of the Kirk Session are the charity trustees. The Kirk Session members are the elders of the church and are chosen from those members of the church who are considered to have the appropriate gifts and skills. The minister, who is a member of the Kirk Session, is elected by the congregation and inducted by Presbytery. | K11: alternative sample wording re Congregational Board
K12: The Congregational Board consists of the minister, all the elders and a number of members, who are believed to have the skills and commitment to contribute to the management affairs of the Church, elected at the Stated Annual Meeting of the Congregation. The number so elected is decided by the Congregation, but must not exceed the number of elders at the date of the election. They serve for a maximum period of three years after which they are eligible for re-election at the next Stated Annual Meeting.
A13: Organisational Structure
A14: (This section should be amended as appropriate).
A15: The Kirk Session meets regularly during the year and is responsible for all spiritual affairs within the
A16: the church together with the finances and the upkeep of the Church Property. Certain responsibilities are delegated to the Finance Committee and the Property Committee as appropriate. The Pastoral Committee looks after pastoral activities. | K16: adjust as appropriate
A18: Objectives and Activities
A19: The Church of Scotland is Trinitarian in doctrine, Reformed in tradition and Presbyterian in polity. It exists to glorify God and to work for the advancement of Christ’s Kingdom throughout the world. As a national Church, it acknowledges a distinctive call and duty to bring the ordinances of religion to the people in every parish of Scotland through a territorial ministry. It co-operates with other Churches in various ecumenical bodies in Scotland and beyond.
A20: (Give details of other activities particular to the indivual congregation eg Services of worship, Youth Activities, Sunday School, Bible Classes, Social Events, Community Activities.)
A21: We have a lively morning service each week with around 70 adults and 20 children. We run a twice weekly Parent and Toddler Group, a weekly Youth Club, Sunday school and creche. The church is a coummunity hub for youth and adult organisations. | K21: Advice on completion hidden by using "Group". To see it unprotect the sheet and click on the + sign in the left margin. When finished, to ensure hidden when printing, click on the - sign. Adjust column height to cater for the amount of text you enter and reprotect sheet.
A22: We have family film nights which are well loved.
A23: We have an estabished choir, men's breakfast and we have 6 prayer meetings every month,visit a part of the Parish each year and run an Alpha Course every Autumn. Each week we run a busy foodbank and offer English Classes. We have recently opened a Healing Room where people receive prayer and care.
A25: Achievements and Performance
A26: Rev. Robert Silver leads our worship and we have 3 trained worship leaders who cover for him. Robert covers preaching and pastoring and there is also a Pastoral Committee who caeres for people and a healing ministry team which councels andc prays for individuals. On several occasions people received healing during pastoral prayer times. Our foodbank has met the needs of dozens of people with the giving out of food and household accessories. A visit from our Presbytery, which oversees us, gave us a very good report.
A28: Financial Review
A29: Comment on the results for the year and the key factors affecting them with comparison to last year and any significant matters likely to affect next year
A30: Our Free will Offering was down by £2533 on 2024 at £10,727 but our Gift Aid Donations increased by £3301 at £42,452. Open plate was down slightly by £621 at £6,351. We also had another good Gift Day total of £3320. Our manse is in good order and is inspected annually to ensure the all necessary maintenance is carried out. We do still hold some investments, which are held by the Church of Scotland in Edinburgh. We did claim tax back this year at a total of £11,468. In our Restricted Funds which inclde Refurbishment/Benevolent Fund, Flower Fund, The Guild,The Sunday School,The little Lambs, SWAG & The pantry there is a total of £16,312.
A31: Reserves Policy
A32: This section should be amended as appropriate.
A33: The charity trustees have considered the reserves required and have taken into account their current and future liabilities. At the year end the church held unrestricted funds of £41,326, of which £26,163 which had been designated for fabric fund. In our Restricted Funds which include Refurbishment/Benevolent Fund, The guild, The Sunday Schhol, The Little Lambs, SWAG & The Pantry there is a total of £16,312. | K33: adjust as appropriate
A36: Statement of Trustees' Responsibilities
A37: The Trustees must prepare financial statements which give sufficient detail to enable an appreciation of the transactions of the Church during the financial year. The Trustees are responsible for keeping proper accounting records which, on request, must reflect the financial position of the Church at that time. This must be done to ensure that the financial statements comply with the Charities and Trustee Investment (Scotland) Act 2005, the Charities Accounts (Scotland) Regulations 2006 (as amended) and the Regulations Anent Congregational Finance approved by the General Assembly of the Church of Scotland in 2016. They are also responsible for safeguarding the assets of the Church and must take reasonable steps for the prevention and/or detection of fraud and other irregularities.
A39: Approved by the Trustees on …..... and signed on their behalf by. | K39: adjust as appropriate
A43: Fiona Matheson
A44: Session Clerk

Sheet Examiners Report
A1: Croftfoot Parish Church | M1: Specific guidance, comments etc
A2: ='ref info'!F6 -> SC009761
A4: Independent Examiner's Report to the Trustees of Croftfoot Parish Church of Scotland
A6: =CONCATENATE("I report on the accounts of the charity for the year ended 31 December ",'R&P Account'!$D$8)&" which are set out on pages 5 to 10." -> I report on the accounts of the charity for the year ended 31 December 2025 which are set out on pages 5 to 10.
M7: adjust page numbers as appropriate
A9: Respective responsibilities of trustees and examiner
A10: The charity's trustees are responsible for the preparation of the accounts in accordance with the terms of the Charities and Trustee Investment (Scotland) Act 2005 and the Charities Accounts (Scotland) Regulations 2006 (as amended).
A11: The charity trustees consider that the audit requirement of Regulation 10(1)(d) of the Accounts Regulations does not apply. It is my responsibility to examine the accounts as required under section 44(1)(c) of the Act and to state whether particular matters have come to my attention.
A13: Basis of independent examiner’s statement
A14: An examination is carried out in accordance with Regulation 11 of the Charities Accounts (Scotland) Regulations 2006 (as amended). An examination includes a review of the accounting records kept by the charity and a comparison of the accounts presented with those records. It also includes consideration of any unusual items or disclosures in the accounts, and seeks explanations from the trustees concerning any such matters. The procedures undertaken do not provide all the evidence that would be required in an audit, and consequently I do not express an audit opinion on the view given by the accounts.
A16: Independent examiner’s statement
A17: In the course of my examination, no matter has come to my attention [other than disclosed below*] | M17: * | N17: Please delete the words in brackets if they do not apply.
A18: 1. | B18: which gives me reasonable cause to believe that in any material respect the requirements: | N18: If the words do apply set out those matters which have come to your attention.
B19: ● | C19: to keep accounting records in accordance with Section 44 (1)(a) of the 2005 Act and Regulation 4 of the 2006 Accounts Regulations (as amended), and
B20: ● | C20: to prepare accounts which accord with the accounting records and comply with Regulation 9 of the 2006 Accounts Regulations (as amended) have not been met, or
A21: 2. | B21: to which, in my opinion, attention should be drawn in order to enable a proper understanding of the accounts to be reached.
A23: Name: Anne Bryce
A25: Address:
A26: 8 Kingshill Drive
A27: Glasgow
A28: G44 4QX
A29: Date:

Sheet R&P Account
A1: ='cover and guidance'!$A$9 -> Croftfoot Parish Church of Scotland
A2: Receipts and Payments Account | K2: Specific guidance, comments etc
A3: =CONCATENATE("for the year ended 31 December ",$D$8) -> for the year ended 31 December 2025
D6: Unrestricted | E6: Restricted | F6: Endowment
D7: Funds | E7: Funds | F7: Funds | G7: Total | H7: Total
D8: 2025 | E8: =$D$8 -> 2025 | F8: =$D$8 -> 2025 | G8: =$D$8 -> 2025 | H8: =$D$8-1 -> 2024 | K8: put year in D8 and it will spin through accounts
C9: Note | D9: £ | E9: £ | F9: £ | G9: £ | H9: £
A10: Receipts
A11: Donations | C11: 3 | D11: ='Notes to Accounts'!E60 -> 152887.87 | E11: ='Notes to Accounts'!F60 -> 30338 | F11: ='Notes to Accounts'!G60 -> 0 | G11: ='Notes to Accounts'!H60 -> 183225.87 | H11: 134287 | K11: Where there is note number sheet will import value from note
A12: Legacies | D12: 5000 | E12: 0 | F12: 0 | G12: =SUM(D12:F12) -> 5000 | H12: 0
A13: Activities for Generating Funds | D13: - | E13: 0 | F13: 0 | G13: =SUM(D13:F13) -> 0 | K13: Otherwise enter amount (except where formula to calculate total)
A14: Bank & Deposit Interest | D14: 0 | E14: 0 | F14: 0 | G14: =SUM(D14:F14) -> 0 | H14: 0 | K14: Currently all cells where you may put a figure have a 0 which will be
A15: Investment Income | D15: =SUM([1]summary!$C$15) -> 274.46 | E15: 0 | F15: 0 | G15: =SUM(D15:F15) -> 274.46 | H15: 274 | K15: replaced when you type your figure
A16: Rental of Premises | D16: =SUM([1]summary!$C$13) -> 7789.6 | E16: 0 | F16: 0 | G16: =SUM(D16:F16) -> 7789.6 | H16: 10809
A17: Grants | D17: 0 | E17: 0 | F17: 0 | G17: =SUM(D17:F17) -> 0 | H17: 0 | K17: Sheet should be protected to ensure formulae not overridden accidently
A18: Drawn down from General Trustees | D18: 0 | E18: 0 | F18: 0 | G18: =SUM(D18:F18) -> 0 | H18: 0
A19: Other Receipts | E19: 0 | F19: 0 | G19: =SUM(D19:F19) -> 0 | H19: -
D20: ------------ | E20: ---------- | F20: ---------- | G20: ------------ | H20: ------------
D21: =SUM(D11:D19) -> 165951.93 | E21: =SUM(E11:E19) -> 30338 | F21: =SUM(F11:F19) -> 0 | G21: =SUM(G11:G19) -> 196289.93 | H21: =SUM(H11:H19) -> 145370
A22: Assets and Investments
A23: Sale of fixed assets | D23: 0 | E23: 0 | F23: 0 | G23: =SUM(D23:F23) -> 0 | H23: 0
A24: Sale of Investments | D24: 0 | E24: 0 | G24: =SUM(D24:F24) -> 0 | H24: 0
D25: ------------ | E25: ---------- | F25: ---------- | G25: ------------ | H25: ------------
A26: Total Receipts | D26: =SUM(D21:D25) -> 165951.93 | E26: =SUM(E21:E25) -> 30338 | F26: =SUM(F21:F25) -> 0 | G26: =SUM(G21:G25) -> 196289.93 | H26: =SUM(H21:H25) -> 145370
A28: Payments
A29: Cost of Generating Funds | C29: 4 | D29: ='Notes to Accounts'!E68 -> 0 | E29: ='Notes to Accounts'!F68 -> 0 | F29: ='Notes to Accounts'!G68 -> 0 | G29: ='Notes to Accounts'!H68 -> 0 | H29: ='Notes to Accounts'!I68 -> 0
A30: Charitable Activities | C30: 4 | D30: ='Notes to Accounts'!E84 -> 143513.93 | E30: =SUM('Notes to Accounts'!F84) -> 19818 | F30: ='Notes to Accounts'!G84 -> 0 | G30: ='Notes to Accounts'!H84 -> 163331.93 | H30: ='Notes to Accounts'!I84 -> 159692
A31: Governance Costs | C31: 4 | D31: ='Notes to Accounts'!E87 -> 150 | E31: ='Notes to Accounts'!F87 -> 0 | F31: ='Notes to Accounts'!G87 -> 0 | G31: ='Notes to Accounts'!H87 -> 150 | H31: ='Notes to Accounts'!I87 -> 150
D32: ------------ | E32: ---------- | F32: ---------- | G32: ------------ | H32: ------------
D33: =SUM(D29:D32) -> 143663.93 | E33: =SUM(E29:E32) -> 19818 | F33: =SUM(F29:F32) -> 0 | G33: =SUM(G29:G32) -> 163481.93 | H33: =SUM(H29:H32) -> 159842
A35: Assets & Investments | C35: 4 | D35: ='Notes to Accounts'!E93 -> 0 | E35: ='Notes to Accounts'!F93 -> 0 | F35: ='Notes to Accounts'!G93 -> 0 | G35: ='Notes to Accounts'!H93 -> 0 | H35: ='Notes to Accounts'!I93 -> 0
D36: ------------ | E36: ---------- | F36: ---------- | G36: ------------ | H36: ------------
A37: Total Payments | D37: =SUM(D33:D36) -> 143663.93 | E37: =SUM(E33:E35) -> 19818 | F37: =SUM(F33:F35) -> 0 | G37: =SUM(G33:G35) -> 163481.93 | H37: =SUM(H33:H35) -> 159842
D38: ------------ | E38: ---------- | F38: ---------- | G38: ------------ | H38: ------------
A39: Excess of Receipts over Payments
A40: for the year before transfers | D40: =D26-D37 -> 22288 | E40: =SUM(E26-E37) -> 10520 | F40: =F26-F37 -> 0 | G40: =G26-G37 -> 32808 | H40: =H26-H37 -> -14472
A41: Transfers | C41: 2 | D41: ='Notes to Accounts'!H17 -> 0 | E41: ='Notes to Accounts'!H30 -> 0 | F41: ='Notes to Accounts'!H33 -> 0 | G41: =SUM(D41:F41) -> 0 | H41: 0
D42: ------------ | E42: ---------- | F42: ---------- | G42: ------------ | H42: ------------
A43: Excess of Receipts over Payments | D43: =SUM(D40:D42) -> 22288 | E43: =SUM(E40:E42) -> 10520 | F43: =SUM(F40:F42) -> 0 | G43: =SUM(G40:G42) -> 32808 | H43: =SUM(H40:H42) -> -14472
D44: ======= | E44: ====== | F44: ====== | G44: ======= | H44: =======

Sheet Statement of Balances
A1: ='cover and guidance'!$A$9 -> Croftfoot Parish Church of Scotland
A2: Statement of Balances | K2: Specific guidance, comments etc
A3: =CONCATENATE("At 31 December ",'R&P Account'!$D$8) -> At 31 December 2025
D6: Unrestricted | E6: Restricted | F6: Endowment
D7: Funds | E7: Funds | F7: Funds | G7: Total | H7: Total
D8: ='R&P Account'!$D$8 -> 2025 | E8: ='R&P Account'!$D$8 -> 2025 | F8: ='R&P Account'!$D$8 -> 2025 | G8: ='R&P Account'!$D$8 -> 2025 | H8: ='R&P Account'!$D$8-1 -> 2024
C9: Note | D9: £ | E9: £ | F9: £ | G9: £ | H9: £
A11: Bank and Deposit Balances
A12: Bank and deposit balances
A13: brought forward | D13: ='Notes to Accounts'!E17 -> 19038 | E13: ='Notes to Accounts'!E30 -> 5792 | F13: ='Notes to Accounts'!E35 -> 0 | G13: =SUM(D13:F13) -> 24830 | H13: 39303
A15: Movement in year:
A16: Excess of Receipts over
A17: Payments | D17: ='R&P Account'!D43 -> 22288 | E17: ='R&P Account'!E43 -> 10520 | F17: ='R&P Account'!F43 -> 0 | G17: ='R&P Account'!G43 -> 32808 | H17: -14472
D18: ------------ | E18: ---------- | F18: ---------- | G18: ------------ | H18: ------------
A19: Bank and deposit balances
A20: carried forward | C20: 2 | D20: =SUM(D13:D17) -> 41326 | E20: =SUM(E13:E17) -> 16312 | F20: =SUM(F13:F17) -> 0 | G20: =SUM(G13:G17) -> 57638 | H20: =SUM(H13:H17) -> 24831 | K20: all bank figures should flow through from notes / R&P A/c
D21: ======= | E21: ====== | F21: ====== | G21: ======= | H21: =======
A23: Investments at market value
A24: (cost - £3609) | C24: 7 | D24: ='Notes to Accounts'!I112 -> 13987 | E24: 0 | F24: ='Notes to Accounts'!I118 -> 0 | G24: =SUM(D24:F24) -> 13987 | H24: 12971
D25: ======= | E25: ====== | F25: ======= | G25: ======= | H25: =======
A27: Assets
A28: Gift Aid Receivable | D28: 0 | G28: =SUM(D28:F28) -> 0 | H28: 0 | K28: adjust as appropriate
D29: -------------- | E29: ---------- | F29: ---------- | G29: -------------- | H29: --------------
D30: =SUM(D28:D29) -> 0 | E30: =SUM(E28:E29) -> 0 | F30: =SUM(F28:F29) -> 0 | G30: =SUM(G28:G29) -> 0 | H30: =SUM(H28:H29) -> 0
D31: ======== | E31: ====== | F31: ====== | G31: ======== | H31: ========
A32: Liabilities
A33: Ministries & Mission Contributions | D33: 0 | E33: 0 | F33: 0 | G33: =SUM(D33:F33) -> 0 | H33: 0 | K33: adjust as appropriate
D34: ======= | E34: ====== | F34: ======= | G34: ======= | H34: =======
A36: The accounts were approved by the Trustees 2026 and signed on their behalf by:
A40: Fiona Matheson | F40: Session Clerk
A43: Graham Eadie | F43: Treasurer

Sheet Notes to Accounts
A1: ='cover and guidance'!$A$9 -> Croftfoot Parish Church of Scotland
A2: Notes forming part of the accounts
A3: =CONCATENATE("for the year ended 31 December ",'R&P Account'!$D$8) -> for the year ended 31 December 2025 | L3: Specific guidance, comments etc
A6: 1 | B6: Basis of Accounting
B7: These accounts have been prepared on the Receipts & Payments basis in accordance with the Charities and Trustee Investment (Scotland) Act 2005, The Charities Accounts (Scotland) Regulations 2006 (as amended) and the Regulations anent Congregational Finance approved by the General Assembly of the Church of Scotland in 2016.
A9: 2 | B9: Movement in Funds
E10: At 1 Jan | I10: At 31 Dec
E11: 2025 | F11: Receipts | G11: Payments | H11: Transfers | I11: 2025
E12: £ | F12: £ | G12: £ | H12: £ | I12: £
B13: Unrestricted funds | L13: enter payments as negatives
B14: Designated Fabric Fund | E14: 3719 | F14: 43416 | G14: -20972 | H14: 0 | I14: =SUM(E14:H14) -> 26163
B15: General Fund | E15: 15319 | F15: ='R&P Account'!D26-F14 -> 122535.93 | G15: =-'R&P Account'!D37-G14 -> -122691.93 | I15: =SUM(E15:H15) -> 15163 | M15: closing check
E16: ----------- | F16: ------------- | G16: ------------- | H16: ---------- | I16: ----------- | M16: to see agrees with Statement of Balances
E17: =SUM(E14:E16) -> 19038 | F17: =SUM(F14:F16) -> 165951.93 | G17: =SUM(G14:G16) -> -143663.93 | H17: =SUM(H14:H16) -> 0 | I17: =SUM(I14:I16) -> 41326 | M17: =IF(I17='Statement of Balances'!D20,"ok",'Statement of Balances'!D20-'Notes to Accounts'!I17) -> ok
E18: ----------- | F18: ------------- | G18: ------------- | H18: ---------- | I18: -----------
B19: Restricted funds
B20: Refurbishment Fund | E20: 0 | F20: 7868 | G20: -620 | I20: =SUM(E20:H20) -> 7248
B21: Benevolent Fund | E21: 473 | F21: 455 | G21: -120 | I21: =SUM(E21:H21) -> 808
B22: Flower Fund | E22: 1712 | F22: =SUM([1]summary!$F$32) -> 680 | G22: -863 | I22: =SUM(E22:H22) -> 1529
B23: The Guild | E23: 880 | F23: 1739 | G23: -1630 | I23: =SUM(E23:H23) -> 989
B24: The Sunday School | E24: 467 | F24: 10 | G24: -60 | I24: =SUM(E24:H24) -> 417
B25: The Little Lambs | E25: 49 | F25: 2040 | G25: -2072 | I25: =SUM(E25:H25) -> 17
B26: SWAG | E26: 301 | F26: 170 | G26: -166 | I26: =SUM(E26:H26) -> 305
B27: The Pantry | E27: 1910 | F27: 13279 | G27: -12430 | I27: =SUM(E27:H27) -> 2759
B28: Pastoral | E28: 0 | F28: 4097 | G28: -1857 | I28: =SUM(E28:H28) -> 2240
E29: ---------- | F29: ------------ | G29: ------------ | H29: ---------- | I29: ----------- | M29: to see agrees with Statement of Balances
E30: =SUM(E20:E29) -> 5792 | F30: =SUM(F20:F29) -> 30338 | G30: =SUM(G20:G29) -> -19818 | H30: =SUM(H21:H29) -> 0 | I30: =SUM(I20:I29) -> 16312 | M30: =IF(I30='Statement of Balances'!E20,"ok",'Statement of Balances'!E20-'Notes to Accounts'!I30) -> ok
E31: ---------- | F31: ------------ | G31: ------------ | H31: ---------- | I31: -----------
B32: Endowment funds
B33: General Fund Bequests | E33: 0 | F33: 0 | G33: 0 | H33: 0 | I33: =SUM(E33:H33) -> 0 | M33: closing check
E34: ------------ | F34: ----------- | G34: ------------ | H34: ---------- | I34: ------------- | M34: to see agrees with Statement of Balances
E35: =SUM(E33:E34) -> 0 | F35: =SUM(F33:F34) -> 0 | G35: =SUM(G33:G34) -> 0 | H35: =SUM(H33:H34) -> 0 | I35: =SUM(I33:I34) -> 0 | M35: =IF(I35='Statement of Balances'!F20,"ok",'Statement of Balances'!F20-'Notes to Accounts'!I35) -> ok
E36: ------------ | F36: ------------- | G36: ------------- | H36: ---------- | I36: -------------
B37: Total Funds | E37: =E17+E30+E35 -> 24830 | F37: =F17+F30+F35 -> 196289.93 | G37: =G17+G30+G35 -> -163481.93 | H37: =H17+H30+H35 -> 0 | I37: =I17+I30+I35 -> 57638
E38: ======= | F38: ======== | G38: ======== | H38: ====== | I38: =======
B40: Purpose of Funds
B41: Benevolent Fund - Supported by income from the Kirk Session.
B42: Flower Fund - Supported by income from the Congregation, it provides flowers for display during services of worship which are then distributed to the sick and bereaved.
B43: Youth Fund - Supported by income from offerings from the children & donations from congregation, it provides funds for youth work in the parish
B44: Fabric Fund - The Trustees have set aside funds for maintenance of the Church property
...

Sheet Appendix
A1: ='cover and guidance'!$A$9 -> Croftfoot Parish Church of Scotland
A2: Year ended 31 December 2025
A3: Appendix
A5: FUNDS HELD ON BEHALF OF THE CONGREGATION
A6: BY THE CHURCH OF SCOTLAND GENERAL TRUSTEES
G9: 2025 | I9: 2024
G10: £ | I10: £
A12: CAPITAL ACCOUNT
A14: Credit Balances held at 31 December at cost | G14: 4643 | I14: 11735
A17: Market Value of Balances at 31 December | G17: 4643 | I17: 11735
A21: REVENUE ACCOUNT
A23: Credit Balance at 31 December | G23: -112 | I23: 2648

Sheet Sheet1
