Workbook

Sheet Instructions for use
A1: Instructions
A3: On the INCOME tab enter your unit's name, charity number (if applicable) and year end date, in B3, B4 and B5 respectively . These will copy across to subsequent pages. Do not add these manually to the other sheets.
A5: On the INCOME tab enter all of the income for the year, starting in cell A8. Add the value into the relevant column of the sheet (for example column E for subscriptions income). In the method select the method of payment from the list. The sheet will add up the values in each column automatically and provide an overall total in cell O7. Use the reference column to record any additional information, for example if a girl is paying subscriptions in instalments, you can add in the instalment number for ease.
A7: All totals will copy across to the relevant subsequent pages.
A9: On the EXPENDITURE tab enter all of the expenditure for the year starting in cell A8. Add the value into the relevant column of the sheet (for example column F for subscriptions). In the method select the method of payment from the list. The sheet will add up the values in each column automatically and provide an overall total in cell P5. In the reference column you can add in detail about what the payment was for ease of reference or information that allows you to easily check amounts against the bank account / cash tin.
A11: In the STATEMENT OF INCOME AND PAYMENTS, the values for the current year will automatically copy for the previous sheets. Add in the values from the previous year in column D. The sheet will calculate the surplus / deficit for the year.
A13: In the STATEMENT OF BALANCES tab, add in the relevant start and end of year bank balances and the amount held in cash at the start and end of the year. Add in the value of any cheques written during the year, but not cashed at the year end. The values in B13 and B20 should be the same.
A15: In the TRUSTEES REPORT tab add in your district and division details (as relevant - delete one of the lines if you do not require both). Add in the name of the trustees (unit leaders), the registered address (as is registered with OSCR) and the total number of girls who have been in the unit within the year in line 25 (not necessarily all at the same time). In line 26, if your accounts vary significantly from those of the previous year, add in any reasons why this might be.
A17: In the INDEPENDENT EXAMINER tab, once the accounts have been examined, the independent examiner should add their name, address and signature.
A19: The STATEMENT OF BALANCES and TRUSTEES ANNUAL REPORT needs to be signed by the leader who prepared the accounts .
A21: 3RD PARTY FUNDRAISING: if your unit has raised money for another charity, the amount raised should be shown in the in the ‘INCOME’ tab, and the expenses/donation in the ‘EXPENDITURE’ tab. These 2 values must be the same. For example, if you hold a coffee morning for Children In Need, the money collected (i.e. £43.50) should be shown in ‘INCOME’ and £43.50 should be shown also in ‘EXPENDITURE’. This could be the whole £43.50 was donated to Children in Need, or £38 was donated to Children in Need & £5.50 was spent on tea/coffee/biscuits for the event. Please note: The money your unit receives in donations or subscriptions (whether OSCR registered or not) should be used for the unit, so should not be used to donate to other charities (i.e. rounding up the Payment to Children in Need to £50)
A23: Some things to be mindful of:
... A30: The independent examiner need not be an accountant. If you are having trouble finding someone to sign off your accounts, please speak to your commissioner in the first instance. The independent examiner should NOT be your local commissioner if she is linked at all with your unit (i.e. she is a leader within it, related to one of the leaders, is a bank signatory, or the registered contact for OSCR).

Sheet Income 
A1: INCOME
A3: Unit: | B3: 2nd Dalkeith Rainbows
A4: Charity number: | B4: SCO36590
A5: Year end date: | B5: 31st December 2025
A6: Date | B6: Received from | C6: Method | D6: Reference | E6: Membership subscriptions | F6: Trips | G6: Residential events | H6: 3rd Party fundraising | I6: Unit fundraising | J6: Bank interest | K6: Donations received | L6: Gift aid | M6: Grants received | N6: Miscellaneous | O6: TOTAL
A7: TOTALS | E7: {=SUM(E8:E377)} -> 1927.99 | F7: {=SUM(F8:F377)} -> 0 | G7: {=SUM(G8:G377)} -> 460 | H7: {=SUM(H8:H377)} -> 0 | I7: {=SUM(I8:I377)} -> 483.5 | J7: {=SUM(J8:J377)} -> 9.76 | K7: {=SUM(K8:K377)} -> 0 | L7: {=SUM(L8:L377)} -> 0 | ... N7: {=SUM(N8:N377)} -> 0 | O7: {=SUM(E7:N7)} -> 2881.25
A8: 45666 | B8: Fleour Flood | C8: Bank transfer | D8: Jan-Mar 25 Subs | E8: 40 | O8: {=SUM(E8:N8)} -> 40
A9: 45677 | B9: Lindsay Haddow | C9: Bank transfer | D9: Spring fayre stall holder | I9: 15 | O9: {=SUM(E9:N9)} -> 15
A10: 45679 | B10: Amelie Brogan | C10: Bank transfer | D10: Jan-Mar 25 Subs | E10: 40 | O10: {=SUM(E10:N10)} -> 40
A11: 45680 | B11: Poppy Nimmo | C11: Bank transfer | D11: Jan-Mar 25 Subs | E11: 40 | O11: {=SUM(E11:N11)} -> 40
A12: 45680 | B12: Iona Ruthven | C12: Bank transfer | D12: Jan-Mar 25 Subs | E12: 40 | O12: {=SUM(E12:N12)} -> 40
A13: 45684 | B13: Emily Gallagher | C13: Bank transfer | D13: Sleepover | G13: 15 | O13: {=SUM(E13:N13)} -> 15
A14: 45684 | B14: Abbie & Niamh Melrose | C14: Bank transfer | D14: Jan-Mar 25 Subs+ Sleepover | E14: 80 | G14: 50 | O14: {=SUM(E14:N14)} -> 130
A15: 45684 | B15: Emily Gallagher | C15: Bank transfer | D15: Jan-Mar 25 Subs | E15: 40 | O15: {=SUM(E15:N15)} -> 40
A16: 45684 | B16: Lily Crichton | C16: Bank transfer | D16: Jan-Mar 25 Subs | E16: 40 | O16: {=SUM(E16:N16)} -> 40
A17: 45684 | B17: Lily Crichton | C17: Bank transfer | D17: Sleepover | G17: 15 | O17: {=SUM(E17:N17)} -> 15
A18: 45686 | B18: Carrie Oliphant | C18: Bank transfer | D18: Jan-Mar 25 Subs | E18: 40 | O18: {=SUM(E18:N18)} -> 40
A19: 45686 | B19: Cara craven | C19: Bank transfer | D19: Jan-Mar 25 Subs+ Sleepover | E19: 40 | G19: 15 | O19: {=SUM(E19:N19)} -> 55
A20: 45691 | B20: Mia Ross | C20: Bank transfer | D20: Jan-Mar 25 Subs | E20: 40 | O20: {=SUM(E20:N20)} -> 40
A21: 45693 | B21: Lyla Young | C21: Bank transfer | D21: Jan-Mar 25 Subs | E21: 40 | O21: {=SUM(E21:N21)} -> 40
A22: 45693 | B22: Ellis McGowan | C22: Bank transfer | D22: Jan-Mar 25 Subs | E22: 40 | O22: {=SUM(E22:N22)} -> 40
A23: 45693 | B23: Ella McKechnie | C23: Bank transfer | D23: Jan-Mar 25 Subs+ Sleepover | E23: 40 | G23: 15 | O23: {=SUM(E23:N23)} -> 55
A24: 45693 | B24: Abigail Shanks | C24: Bank transfer | D24: Jan-Mar 25 Subs | E24: 40 | O24: {=SUM(E24:N24)} -> 40
A25: 45694 | B25: Vaila Drummond Sante | C25: Bank transfer | D25: Jan-Mar 25 Subs | E25: 40 | O25: {=SUM(E25:N25)} -> 40
A26: 45729 | B26: Vaila Drummond Sante | C26: Bank transfer | D26: Sleepover | G26: 15 | O26: {=SUM(E26:N26)} -> 15
A27: 45729 | B27: Louise McKnight | C27: Bank transfer | D27: Spring fayre stall holder | I27: 15 | O27: {=SUM(E27:N27)} -> 15
A28: 45729 | B28: Fleour Flood | C28: Bank transfer | D28: Sleepover | G28: 15 | O28: {=SUM(E28:N28)} -> 15
A29: 45729 | B29: Abigail Shanks | C29: Bank transfer | D29: Fundraising | I29: 10 | O29: {=SUM(E29:N29)} -> 10
A30: 45729 | B30: Abigail Shanks | C30: Bank transfer | D30: Sleepover | G30: 15 | O30: {=SUM(E30:N30)} -> 15
A31: 45737 | B31: Amelie Brogan | C31: Bank transfer | D31: Sleepover | G31: 15 | O31: {=SUM(E31:N31)} -> 15
A32: 45744 | B32: Bank | C32: Bank transfer | D32: Interest | J32: 2.98 | O32: {=SUM(E32:N32)} -> 2.98
A33: 45747 | B33: Cash to bank | C33: Bank transfer | D33: Fundraiser | I33: 370.4 | O33: {=SUM(E33:N33)} -> 370.4
A34: 45748 | B34: Lyla Young | C34: Bank transfer | D34: Fundraising | I34: 35 | O34: {=SUM(E34:N34)} -> 35
A35: 45761 | B35: Ellis McGowan | C35: Bank transfer | D35: Sleepover | G35: 15 | O35: {=SUM(E35:N35)} -> 15
A36: 45761 | B36: Natasha Stevens | C36: Bank transfer | D36: Fundraising | I36: 38.1 | O36: {=SUM(E36:N36)} -> 38.1
A37: 45769 | B37: Ella McKechnie | C37: Bank transfer | D37: Camp Hoodie | G37: 16 | O37: {=SUM(E37:N37)} -> 16
A38: 45769 | B38: Fleour Flood | C38: Bank transfer | D38: Camp hoodie | G38: 18 | O38: {=SUM(E38:N38)} -> 18
A39: 45769 | B39: Abbie & Niamh Melrose | C39: Bank transfer | D39: Camp hoodie | G39: 24 | O39: {=SUM(E39:N39)} -> 24
A40: 45769 | B40: Emily Gallagher | C40: Bank transfer | D40: Camp hoodie | G40: 18 | O40: {=SUM(E40:N40)} -> 18
A41: 45769 | B41: Cara craven | C41: Bank transfer | D41: Camp hoodies | G41: 18 | O41: {=SUM(E41:N41)} -> 18
...

Sheet Expenditure
A1: EXPENDITURE
A3: Unit: | B3: {='Income '!B3} -> 2nd Dalkeith Rainbows
A4: Charity number: | B4: {='Income '!B4} -> SCO36590
A5: Year end date: | B5: {='Income '!B5} -> 31st December 2025
A6: Date | B6: Payee | C6: Method | D6: Reference | E6: Meeting expenses | F6: Membership subscriptions | G6: Property costs and rent | H6: Unit Fundraising | I6: 3rd Party Fundraising | J6: Trips | K6: Residential events | L6: Admin, stationery / postage | M6: Training | N6: Badges and resources | O6: Miscellaneous expenditure | P6: TOTAL
A7: TOTAL | E7: {=SUM(E8:E320)} -> 316.21 | F7: {=SUM(F8:F241)} -> 1071 | G7: {=SUM(G8:G241)} -> 0 | H7: {=SUM(H8:H241)} -> 0 | I7: {=SUM(I8:I241)} -> 0 | J7: {=SUM(J8:J241)} -> 0 | K7: {=SUM(K8:K241)} -> 1005.59 | L7: {=SUM(L8:L241)} -> 0 | M7: {=SUM(M8:M241)} -> 0 | ... O7: {=SUM(O8:O241)} -> 0 | P7: {=SUM(E7:O7)} -> 2783.51
A8: 45687 | B8: Tesco | C8: Debit card | D8: Activity resource | E8: 14.67 | P8: {=SUM(E8:O8)} -> 14.67
A9: 45698 | B9: Lidl | C9: Debit card | D9: Activity Resiurces | E9: 14.94 | P9: {=SUM(E9:O9)} -> 14.94
A10: 45698 | B10: Lidl | C10: Debit card | D10: Activity resource | E10: 4.98 | P10: {=SUM(E10:O10)} -> 4.98
A11: 45707 | B11: Girlguiding | C11: Debit card | D11: Subscription | F11: 1071 | P11: {=SUM(E11:O11)} -> 1071
A12: 45730 | B12: Girlguiding | C12: Debit card | D12: Badges andceetifates | N12: 99.95 | P12: {=SUM(E12:O12)} -> 99.95
A13: 45741 | B13: Kat Anderson | C13: Cheque | D13: Pizza party craft | E13: 11.94 | P13: {=SUM(E13:O13)} -> 11.94
A14: 45741 | B14: Kat Anderson | C14: Cheque | D14: Pizza party craft | E14: 15.94 | P14: {=SUM(E14:O14)} -> 15.94
A15: 45741 | B15: Kat Anderson | C15: Cheque | D15: Uniform | E15: 42.25 | P15: {=SUM(E15:O15)} -> 42.25
A16: 45769 | B16: B & Q | C16: Debit card | D16: Storage boxes | K16: 27.5 | P16: {=SUM(E16:O16)} -> 27.5
A17: 45771 | B17: B & Q | C17: Debit card | D17: Folding trolley | K17: 79.98 | P17: {=SUM(E17:O17)} -> 79.98
A18: 45771 | B18: One stop scouting | C18: Debit card | D18: Camp hoodies/T-Shirt | K18: 263.5 | P18: {=SUM(E18:O18)} -> 263.5
A19: 45771 | B19: One stop scouting | C19: Debit card | D19: Camp hoodies/T-Shirt | K19: 17.95 | P19: {=SUM(E19:O19)} -> 17.95
A20: 45771 | B20: One stop scouting | C20: Debit card | D20: Camp hoodies/T-Shirt | K20: 24.5 | P20: {=SUM(E20:O20)} -> 24.5
A21: 45778 | B21: Morrison | C21: Debit card | D21: Meeting Resciutses | E21: 16 | P21: {=SUM(E21:O21)} -> 16
A22: 45786 | B22: Iceland | C22: Debit card | D22: Sleepover food | K22: 31.25 | P22: {=SUM(E22:O22)} -> 31.25
A23: 45786 | B23: Tesco | C23: Debit card | D23: Sleepover food | K23: 43.86 | P23: {=SUM(E23:O23)} -> 43.86
A24: 45789 | B24: Asda | C24: Debit card | D24: Sleepover food | K24: 76.61 | P24: {=SUM(E24:O24)} -> 76.61
A25: 45789 | B25: Tesco | C25: Debit card | D25: Meeting Resciurses | E25: 15.09 | P25: {=SUM(E25:O25)} -> 15.09
A26: 45789 | B26: Vogrie brownie house | C26: Cheque | D26: House balance | K26: 225 | P26: {=SUM(E26:O26)} -> 225
A27: 45796 | B27: Girlguiding | C27: Debit card | D27: Badges andceetifates | N27: 69.35 | P27: {=SUM(E27:O27)} -> 69.35
A28: 45820 | B28: Girlguiding | C28: Debit card | D28: Badges andceetifates | N28: 14.45 | P28: {=SUM(E28:O28)} -> 14.45
A29: 45874 | B29: Girlguiding | C29: Debit card | D29: Badges & Certificates | N29: 7.95 | P29: {=SUM(E29:O29)} -> 7.95
A30: 45884 | B30: Amazon | C30: Debit card | D30: Meeting Rescourses | E30: 14.98 | P30: {=SUM(E30:O30)} -> 14.98
A31: 45910 | B31: Tesco | C31: Debit card | D31: Meeting Rescourses | E31: 16.23 | P31: {=SUM(E31:O31)} -> 16.23
A32: 45926 | B32: Amazon | C32: Debit card | D32: Used. Wrong card | E32: 7.99 | P32: {=SUM(E32:O32)} -> 7.99
A33: 45940 | B33: Ruth Bulter | C33: Cheque | D33: Meeting resources | E33: 26.84 | P33: {=SUM(E33:O33)} -> 26.84
A34: 45940 | B34: Kat Anderson | C34: Cheque | D34: Sleepover | K34: 91.04 | P34: {=SUM(E34:O34)} -> 91.04
A35: 45951 | B35: Scout Scotland | C35: Debit card | D35: Fordell Firs Deposit | K35: 124.4 | P35: {=SUM(E35:O35)} -> 124.4
A36: 45953 | B36: Morrisons | C36: Debit card | D36: Meeting Rescourses | E36: 13.55 | P36: {=SUM(E36:O36)} -> 13.55
A37: 45953 | B37: Morrisons | C37: Debit card | D37: Meeting Rescourses | E37: 18.81 | P37: {=SUM(E37:O37)} -> 18.81
A38: 45957 | B38: Tradesoutsshop | C38: Debit card | D38: Flag pole, carrier & Carrie bag | E38: 82 | P38: {=SUM(E38:O38)} -> 82
A39: 45987 | B39: Girlguiding | C39: Debit card | D39: Badges & Certificates | N39: 177.06 | P39: {=SUM(E39:O39)} -> 177.06
A40: 45989 | B40: Girlguiding | C40: Debit card | D40: Badges & Certificates | N40: 15.15 | P40: {=SUM(E40:O40)} -> 15.15
A41: 45995 | B41: Guide shop | C41: Debit card | D41: Badges & Certificates | N41: 6.8 | P41: {=SUM(E41:O41)} -> 6.8
...

Sheet Statement of Income & Payments
A1: Receipts and Payments Account
A3: For the Year ended | B3: {='Income '!B5} -> 31st December 2025
A4: Unit name | B4: {='Income '!B3} -> 2nd Dalkeith Rainbows
A5: Charity Number | B5: {='Income '!B4} -> SCO36590
B7: 2025 | D7: 2024
A8: Receipts
A9: Membership Subscriptions | B9: {='Income '!E7} -> 1927.99 | D9: 1812
A10: Donations received | B10: {='Income '!K7} -> 0 | D10: 0
A11: Unit Fundraising | B11: {='Income '!I7} -> 483.5 | D11: 47.36
A12: 3rd Party Fundraising | B12: {='Income '!H7} -> 0 | D12: 0
A13: Bank Interest | B13: {='Income '!J7} -> 9.76 | D13: 14.31
A14: Gift Aid | B14: {='Income '!L7} -> 0 | D14: 0
A15: Trips | B15: {='Income '!F7} -> 0 | D15: 35
A16: Grants received | B16: {='Income '!M7} -> 0 | D16: 0
A17: Residential events | B17: {='Income '!G7} -> 460 | D17: 400
A18: Miscellaneous Income | B18: {='Income '!N7} -> 0 | D18: 0
A19: Total Receipts | B19: {=SUM(B9:B18)} -> 2881.25 | D19: {=SUM(D9:D18)} -> 2308.67
A21: Payments
A22: Fundraising expenses
A23: Unit fundraising | B23: {='Expenditure'!H7} -> 0 | D23: 0
A24: 3rd Party Fundraising/Donation | B24: {='Expenditure'!I7} -> 0 | D24: 0
A26: Payments for charitable activities
A27: Subscriptions | B27: {='Expenditure'!F7} -> 1071 | D27: 1008
A28: Meeting expenses | B28: {='Expenditure'!E7} -> 316.21 | D28: 348.74
A29: Property costs/rent | B29: {='Expenditure'!G7} -> 0 | D29: 200
A30: Trips | B30: {='Expenditure'!J7} -> 0 | D30: 20
A31: Residential events | B31: {='Expenditure'!K7} -> 1005.59 | D31: 528.12
A32: Admin/Postage & Stationery | B32: {='Expenditure'!L7} -> 0 | D32: 0
A33: Training | B33: {='Expenditure'!M7} -> 0 | D33: 0
A34: Badges & Resources | B34: {='Expenditure'!N7} -> 390.71 | D34: 205.2
A35: Miscellaneous Expenditure | B35: {='Expenditure'!O7} -> 0 | D35: 0
A36: Total Payments | B36: {=SUM(B23:B35)} -> 2783.51 | D36: {=SUM(D23:D35)} -> 2310.06
A38: Surplus/(Deficit) for year | B38: {=SUM(B19-B36)} -> 97.74 | D38: {=SUM(D19-D36)} -> -1.39

Sheet Statement of Balances
A1: Statement of balances
A3: For the year ended | B3: {='Income '!B5} -> 31st December 2025
A4: {='Statement of Income & Payments'!A4} -> Unit name | B4: {='Income '!B3} -> 2nd Dalkeith Rainbows
A5: Charity Number | B5: {='Income '!B4} -> SCO36590
B7: 2025 | D7: 2024
A8: Opening Balances
A9: Cash | B9: 0 | D9: 0
A10: Bank | B10: 832.81 | D10: 834.76
A12: Surplus/(Deficit) for year | B12: {='Statement of Income & Payments'!B38} -> 97.74 | D12: {='Statement of Income & Payments'!D38} -> -1.39
A13: Total | B13: {=SUM(B9+B10+B12)} -> 930.55 | D13: {=SUM(D9+D10+D12)} -> 833.37
A16: Closing Balances
A17: Cash | B17: 0 | D17: 0
A18: Bank | B18: 930.55 | D18: 962.51
A19: less outstanding cheques | B19: 0 | D19: 129.7
A20: Total | B20: {=SUM(B17+B18-B19)} -> 930.55 | D20: {=SUM(D17+D18-D19)} -> 832.81
A22: Assets & Liabilities:
A23: In addition to the above cash & bank balances, the unit has equipment to the value of: | D23: 0
A26: Prepared by (signature): N.Stevens | D26: Unit Leader
A28: Date: 24/07/2026

Sheet Trustees Report
A1: Trustees Annual Report
A3: For year ended: | B3: {='Income '!B5} -> 31st December 2025
A5: Charity (Unit) Name: | B5: {='Income '!B3} -> 2nd Dalkeith Rainbows
A7: Charity Number | B7: {='Income '!B4} -> SCO36590
A9: District | B9: INSERT DISTRICT
A10: Division | B10: INSERT DIVISION
A12: Charity Trustees | B12: Natasha Stevens | C12: Insert name
B13: Alice Murray | C13: Insert name
B14: Ruth Bulter
B15: Kat Anderson
A17: Charity Address | B17: 12 Chester view, Mayfield
B18: Dalkeith
B19: EH22 5PJ
A22: The above charity (unit) is an unincorporated association. It has no written constitution, but operates in accordance with the policies and procedures, published by Girlguiding, the operating name of the Guide Association.
A24: Its trustees are the volunteer adult leaders trained and appointed as per the Girlguiding policies and procedures. Update training is available throughout the year.
A26: The charity's aim is to deliver a programme of informal education in accordance with the ethos and principles of Girlguiding. During the above period the charity provided this programme to X girls.
A27: The charity's main income is subscription income. The charity aims to hold sufficient cash funds to meet all expenditure due and anticipated during a 2 month period. If the accounts for the year differ substantially from those of the previous year, add in a short explanation as to why (for example, a trip or large camp).
A28: During the year the trustees did not receive any remuneration.
A30: Signed on behalf of the trustees by
A33: ____________________________ | E33: ______________
A34: Signature | B34: N.Stevens | E34: Date: | F34: 46227
A37: Name: Natasha Stevens

Sheet Ind Examiner Report
A1: Independent examiners report
A2: For the year ended | C2: {='Income '!B5} -> 31st December 2025
A3: For | C3: {='Income '!B3} -> 2nd Dalkeith Rainbows
A4: Charity number | C4: {='Income '!B4} -> SCO36590
A6: Respective responsibilities of trustees and examiner
A7: The charity’s trustees are responsible for the preparation of the accounts in accordance with the terms of the Charities and Trustee Investment (Scotland) 2005 Act and the Charities Accounts (Scotland) Regulations 2006. The charity trustees consider that the audit requirement of Regulation 10(1) (a) to (c) of the Accounts Regulations does not apply. It is my responsibility to examine the accounts as required under section 44(1) (c) of the Act and to state whether particular matters have come to my attention.
A9: Basis of Independent Examiners Statement
A10: My examination is carried out in accordance with Regulation 11 of the Charities Accounts (Scotland) Regulations 2006. An examination includes a review of the accounting records kept by the charity and a comparison of the accounts presented with those records. It also includes consideration of any unusual items or disclosures in the accounts and seeks explanations from the trustees concerning any such matters. The procedures undertaken do not provide all the evidence that would be required in an audit and, consequently, I do not express an audit opinion on the accounts.
A12: Independent Examiners Statement
A13: In the course of my examination, no matter has come to my attention
A15: 1 | B15: which gives me reasonable cause to believe that in any material respect the requirements:
A16: • | B16: to keep accounting records in accordance with section 44(1) (a) of the 2005 Act and Regulation 4 of the 2006 Accounts Regulations, and
A17: • | B17: to prepare accounts which accord with the accounting records and comply with Regulation 9 of the 2006 Accounts Regulations
A19: have not been met, or
A21: 2 | B21: to which, in my opinion, attention should be drawn in order to enable a proper understanding of the accounts to be reached.
G25: 8.9.27
A26: Signature | G26: Date
A29: Name: | C29: Louise Beveridge
A32: Address: | C32: 2F Miner Walk, Dalkeith, EH22 2AL
