Workbook

Sheet R&P Accounts
B1: Enter charity name below | L1: Enter SC No. below
B2: Korean Language Classes | L2: SC
B3: Receipts and payments accounts | L3: 049992
B4: For the period from | D4: Period start date | G4: to | H4: Period end date
A8: Section A Statement of receipts and payments
B9: Unrestricted funds | D9: Restricted funds | F9: Expendable endowment funds | H9: Permanent endowment funds | J9: Total funds current period | L9: Total funds last period
B10: to nearest £ | D10: to nearest £ | F10: to nearest £ | H10: to nearest £ | J10: to nearest £ | L10: to nearest £
A11: A1 Receipts
A12: Donations | J12: =H12+D12+B12+F12 -> 0
A13: Legacies | J13: =H13+D13+B13+F13 -> 0
A14: Grants | J14: =H14+D14+B14+F14 -> 0
A15: Receipts from fundraising activities | J15: =H15+D15+B15+F15 -> 0
A16: Gross trading receipts | J16: =H16+D16+B16+F16 -> 0
A17: Income from investments other than land and buildings | J17: =H17+D17+B17+F17 -> 0
A18: Rents from land & buildings | J18: =H18+D18+B18+F18 -> 0
A19: Gross receipts from other charitable activities | B19: 4962 | J19: =H19+D19+B19+F19 -> 4962 | L19: 5678
J20: =H20+D20+B20+F20 -> 0
A21: A1 Sub total | B21: =SUM(B12:B20) -> 4962 | D21: =SUM(D12:D20) -> 0 | F21: =SUM(F12:F20) -> 0 | H21: =SUM(H12:H20) -> 0 | J21: =H21+D21+B21+F21 -> 4962 | L21: =SUM(L12:L20) -> 5678
J22: =IF(B21+D21+F21+H21-J21=0," ","error")
A23: A2 Receipts from asset & investment sales
A24: Proceeds from sale of fixed assets | J24: =H24+D24+B24+F24 -> 0
A25: Proceeds from sale of investments | J25: =H25+D25+B25+F25 -> 0
A26: A2 Sub total | B26: =SUM(B24:B25) -> 0 | D26: =SUM(D24:D25) -> 0 | F26: =SUM(F24:F25) -> 0 | H26: =SUM(H24:H25) -> 0 | J26: =SUM(J24:J25) -> 0 | L26: =SUM(L24:L25) -> 0
J27: =IF(B26+D26+F26+H26-J26=0," ","error")
A28: Total receipts | B28: =B26+B21 -> 4962 | D28: =D26+D21 -> 0 | F28: =F26+F21 -> 0 | H28: =H26+H21 -> 0 | J28: =J26+J21 -> 4962 | L28: =L26+L21 -> 5678
J29: =IF(B28+D28+H28-J28=0," ","error")
A30: A3 Payments
A31: Expenses for fundraising activities | J31: =H31+D31+B31+F31 -> 0
A32: Gross trading payments | J32: =H32+D32+B32+F32 -> 0
A33: Investment management costs | J33: =H33+D33+B33+F33 -> 0
A34: Payments relating directly to charitable activities | B34: 5274.94 | J34: =H34+D34+B34+F34 -> 5274.94 | L34: 5684
A35: Grants and donations | J35: =H35+D35+B35+F35 -> 0
A36: Governance costs: | J36: =H36+D36+B36+F36 -> 0
A37: Audit / independent examination | J37: =H37+D37+B37+F37 -> 0
A38: Preparation of annual accounts | J38: =H38+D38+B38+F38 -> 0
A39: Legal costs | J39: =H39+D39+B39+F39 -> 0
A40: Other | J40: =H40+D40+B40+F40 -> 0
J41: =H41+D41+B41+F41 -> 0
A42: A3 Sub total | B42: =SUM(B31:B41) -> 5274.94 | D42: =SUM(D31:D41) -> 0 | F42: =SUM(F31:F41) -> 0 | H42: =SUM(H31:H41) -> 0 | J42: =SUM(J31:J41) -> 5274.94 | L42: =SUM(L31:L41) -> 5684
J43: =IF(B42+D42+F42+H42-J42=0," ","error")
...

Sheet Statement of balances
B1: ='R&P Accounts'!B2 -> Korean Language Classes | N1: SC049992
A2: Section B Statement of balances
A3: Categories | B3: Details | F3: Unrestricted funds | H3: Restricted funds | J3: Expendable endowment funds | L3: Permanent endowment funds | N3: Total current period | P3: Total last period
F4: to nearest £ | H4: to nearest £ | J4: to nearest £ | L4: to nearest £ | N4: to nearest £ | P4: to nearest £
A5: B1 Cash funds | B5: Cash and bank balances at start of year | F5: 364 | N5: 340.64 | P5: 371
B6: Surplus / (deficit) shown on receipts and payments account | F6: ='R&P Accounts'!B55 -> -312.94 | N6: =F6+H6+J6+L6 -> -312.94 | P6: -6
N7: =F7+H7+J7+L7 -> 0 | P7: 0
N8: =F8+H8+J8+L8 -> 0 | P8: 0
B9: Cash and bank balances at end of year | F9: =SUM(F5:F8) -> 51.06 | H9: =SUM(H5:H8) -> 0 | J9: =SUM(J5:J8) -> 0 | L9: =SUM(L5:L8) -> 0 | N9: =F9+H9+J9+L9 -> 51.06 | P9: =SUM(P5:P8) -> 365
B10: (Agree balances with receipts and payments account(s)) | F10: =F6-'R&P Accounts'!B55 -> 0 | H10: =H6-'R&P Accounts'!D55 -> 0 | J10: =J6-'R&P Accounts'!F55 -> 0 | L10: =L6-'R&P Accounts'!H55 -> 0 | N10: =N6-'R&P Accounts'!J55 -> 0 | P10: =P6-'R&P Accounts'!L55 -> 0
B12: Details | J12: Fund to which asset belongs | N12: Market valuation | P12: Last year
N13: to nearest £ | P13: to nearest £
A14: B2 Investments
L19: Total | N19: =SUM(N14:N18) -> 0 | P19: =SUM(P14:P18) -> 0
B21: Details | H21: Fund to which asset belongs | L21: Cost (if available) | N21: Current value (if available) | P21: Last year
L22: to nearest £ | N22: to nearest £ | P22: to nearest £
A23: B3 Other assets
J32: Total | L32: =SUM(L23:L31) -> 0 | N32: =SUM(N23:N31) -> 0 | P32: =SUM(P23:P31) -> 0
B34: Details | J34: Fund to which liability relates | N34: Amount due | P34: Last year
N35: to nearest £ | P35: to nearest £
A36: B4 Liabilities
L41: Total | N41: =SUM(N36:N40) -> 0 | P41: =SUM(P36:P40) -> 0
B43: Details | J43: Fund to which liability relates | N43: Amount due (estimate) | P43: Last year
N44: to nearest £ | P44: to nearest £
A45: B5 Contingent liabilities
L48: Total | N48: =SUM(N45:N47) -> 0 | P48: =SUM(P45:P47) -> 0
A50: Signed by one or two trustees on behalf of all the trustees | B50: Signature | H50: Print Name | P50: Date of approval
B51: Misook Bang | H51: Misook Bang | P51: 46248

Sheet Notes (1)
D1: Korean Language classes
D3: Notes to the Accounts - For the Year Ended 31 December 2025
B5: 1. | C5: Basis of Accounting
C6: These accounts have been prepared on the Receipts & payments basis in accordance with the Charities & Trustee Investment (Scotland) Act 2005 and the Charities Accounts (Scotland) Regulations 2006 (as amended).
B7: 2. | C7: Nature and purpose of funds
C8: Unrestricted funds are those that may be used at the discretion of the trustees in furtherance of the objects of the charity. Restricted funds have to be used for the purpose for which they were given. During the year there were no restricted funds. During the year the Charity maintained a single unrestricted fund for the day to day running of the charity.
B10: 3. | C10: Receipts
E11: Total | F11: Total | G11: Total
E12: 2025 | F12: 2024 | G12: 2023
C14: Donations
C15: Grants
C16: Student Payments | E16: ='R&P Accounts'!B28 -> 4962 | F16: ='R&P Accounts'!B19 -> 4962 | G16: 5678
C18: Total | E18: =E16 -> 4962 | F18: =F16 -> 4962 | G18: 5678
D22: Korean Lanugage Classes
D24: Notes to the Accounts - For the Year Ended 31 December 2025
B26: 4. | C26: Payments | E26: Total | F26: Total | G26: Total
E27: 2025 | F27: 2024 | G27: 2023
C29: Tuition Fees and Expenses | E29: ='R&P Accounts'!B42 -> 5274.94 | F29: ='R&P Accounts'!B42 -> 5274.94 | G29: 5684
C32: Total | E32: =E29 -> 5274.94 | F32: =F29 -> 5274.94 | G32: 5684

Sheet Notes (2)
B1: ='R&P Accounts'!B2 -> Korean Language Classes | K1: SC049992
A3: Section C Notes to the Accounts
A5: C1 Nature and purpose of funds (may be stated on analysis of funds worksheets) | B5: Unrestricted funds are those that may be used at the discretion of the trustees in furtherance of the objects of the charity. Restricted funds have to be used for the purpose for which they were given. During the year there were no restricted funds. During the year the Charity maintained a single unrestricted fund for the day to day running of the charity.
B11: Type of activity or project supported | H11: Individual / institution | J11: Number of grants made | K11: £
A12: C2 Grants
B17: Total | K17: =SUM(K12:K16) -> 0
A19: C3a Trustee remuneration | B19: If no remuneration was paid during the period to any charity trustee or person connected to a trustee cross this box (otherwise complete section 3b) | K19: x
B22: Authority under which paid | K22: £
A23: C3b Trustee remuneration - details
A29: C4a Trustee expenses | B29: If no expenses were paid to any charity trustee during the period then cross this box (otherwise complete section 4b)
J32: Number of trustees | K32: £
A33: C4b Trustee expenses - details
B39: Nature of relationship | F39: Nature of transaction | J39: Transaction amount (£) | K39: Balance outstanding at period end (£)
A40: C5 Transactions with trustees and connected persons | B40: Trustee1 | F40: Teacher's allowance | J40: 401
B41: Trustee2 | F41: Teacher's allowance | J41: 1041
A46: C6 Other information | B46: Three trustees served as teacher of the Korean language classes and received teacher's allowances.

Sheet Additional notes (1)  
C1: ='R&P Accounts'!B2 -> Korean Language Classes | M1: ='R&P Accounts'!L2 -> SC
A3: Additional analysis (1)
A5: Analysis of receipts and payments
A7: 1 Donations
C8: Unrestricted funds | E8: Restricted funds | G8: Expendable endowment funds | I8: Permanent endowment funds | K8: Total current period | M8: Total last period
C9: to nearest £ | E9: to nearest £ | G9: to nearest £ | I9: to nearest £ | K9: to nearest £ | M9: to nearest £
K10: =SUM(C10:I10) -> 0
K11: =SUM(C11:I11) -> 0
K12: =SUM(C12:I12) -> 0
K13: =SUM(C13:I13) -> 0
A14: Total | C14: =SUM(C10:C13) -> 0 | E14: =SUM(E10:E13) -> 0 | G14: =SUM(G10:G13) -> 0 | I14: =SUM(I10:I13) -> 0 | K14: =SUM(K10:K13) -> 0 | M14: =SUM(M10:M13) -> 0
C16: =IF('R&P Accounts'!B12-'Additional notes (1) '!C14=0,0,"reference error") -> 0 | E16: =IF('R&P Accounts'!D12-'Additional notes (1) '!E14=0,0,"reference error") -> 0 | F16: =IF('R&P Accounts'!E12-'Additional notes (1) '!F14=0,0,"reference error") -> 0 | G16: =IF('R&P Accounts'!F12-'Additional notes (1) '!G14=0,0,"reference error") -> 0 | H16: =IF('R&P Accounts'!G12-'Additional notes (1) '!H14=0,0,"reference error") -> 0 | I16: =IF('R&P Accounts'!H12-'Additional notes (1) '!I14=0,0,"reference error") -> 0 | J16: =IF('R&P Accounts'!I12-'Additional notes (1) '!J14=0,0,"reference error") -> 0 | K16: =IF('R&P Accounts'!J12-'Additional notes (1) '!K14=0,0,"reference error") -> 0 | L16: =IF('R&P Accounts'!K12-'Additional notes (1) '!L14=0,0,"reference error") -> 0 | M16: =IF('R&P Accounts'!L12-'Additional notes (1) '!M14=0,0,"reference error") -> 0
A18: 2 Grants
C19: Unrestricted funds | E19: Restricted funds | K19: Total current period | M19: Total last period
C20: to nearest £ | E20: to nearest £ | K20: to nearest £ | M20: to nearest £
K21: =SUM(C21:I21) -> 0
K22: =SUM(C22:I22) -> 0
K23: =SUM(C23:I23) -> 0
K24: =SUM(C24:I24) -> 0
A25: Total | C25: =SUM(C21:C24) -> 0 | E25: =SUM(E21:E24) -> 0 | K25: =SUM(K21:K24) -> 0 | M25: =SUM(M21:M24) -> 0
C27: =IF('R&P Accounts'!B14-'Additional notes (1) '!C25=0,0,"reference error") -> 0 | E27: =IF('R&P Accounts'!D14-'Additional notes (1) '!E25=0,0,"reference error") -> 0 | F27: =IF('R&P Accounts'!E14-'Additional notes (1) '!F25=0,0,"reference error") -> 0 | J27: =IF('R&P Accounts'!I14-'Additional notes (1) '!J25=0,0,"reference error") -> 0 | K27: =IF('R&P Accounts'!J14-'Additional notes (1) '!K25=0,0,"reference error") -> 0 | L27: =IF('R&P Accounts'!K14-'Additional notes (1) '!L25=0,0,"reference error") -> 0 | M27: =IF('R&P Accounts'!L14-'Additional notes (1) '!M25=0,0,"reference error") -> 0
A29: 3 Gross receipts from other charitable activities
C30: Unrestricted funds | E30: Restricted funds | G30: Expendable endowment funds | I30: Permanent endowment funds | K30: Total current period | M30: Total last period
C31: to nearest £ | E31: to nearest £ | G31: to nearest £ | I31: to nearest £ | K31: to nearest £ | M31: to nearest £
K32: =SUM(C32:I32) -> 0
K33: =SUM(C33:I33) -> 0
K34: =SUM(C34:I34) -> 0
K35: =SUM(C35:I35) -> 0
K36: =SUM(C36:I36) -> 0
K37: =SUM(C37:I37) -> 0
K38: =SUM(C38:I38) -> 0
K39: =SUM(C39:I39) -> 0
A40: Total | C40: =SUM(C32:C39) -> 0 | E40: =SUM(E32:E39) -> 0 | G40: =SUM(G32:G39) -> 0 | I40: =SUM(I32:I39) -> 0 | K40: =SUM(K32:K39) -> 0 | M40: =SUM(M32:M39) -> 0
C42: =IF(C40-'R&P Accounts'!B19=0,0,"reference error") -> reference error | E42: =IF(E40-'R&P Accounts'!D19=0,0,"reference error") -> 0 | G42: =IF(G40-'R&P Accounts'!F19=0,0,"reference error") -> 0 | I42: =IF(I40-'R&P Accounts'!H19=0,0,"reference error") -> 0 | K42: =IF(K40-'R&P Accounts'!J19=0,0,"reference error") -> reference error | M42: =IF(M40-'R&P Accounts'!L19=0,0,"reference error") -> reference error
A44: 4 Payments relating directly to charitable activities
C45: Unrestricted funds | E45: Restricted funds | G45: Expendable endowment funds | I45: Permanent endowment funds | K45: Total current period | M45: Total last period
C46: to nearest £ | E46: to nearest £ | G46: to nearest £ | I46: to nearest £ | K46: to nearest £ | M46: to nearest £
K47: =SUM(C47:I47) -> 0
K48: =SUM(C48:I48) -> 0
K49: =SUM(C49:I49) -> 0
...

Sheet Additional notes (2)
C1: ='R&P Accounts'!B2 -> Korean Language Classes | M1: ='R&P Accounts'!L2 -> SC
A3: Additional analysis (2)
A5: 5 Breakdown of unrestricted funds
C6: Unrestricted fund 1 - enter name of fund below | E6: Unrestricted fund 2 - enter name of fund below | G6: Unrestricted fund 3 - enter name of fund below | I6: Unrestricted fund 4 - enter name of fund below
K7: Total unrestricted funds | M7: Total unrestricted funds last period
A8: Receipts
A9: Donations | K9: =SUM(C9:I9) -> 0
A10: Legacies | K10: =SUM(C10:I10) -> 0
A11: Grants | K11: =SUM(C11:I11) -> 0
A12: Receipts from fundraising activities | K12: =SUM(C12:I12) -> 0
A13: Gross trading receipts | K13: =SUM(C13:I13) -> 0
A14: Income from investments other than land and buildings | K14: =SUM(C14:I14) -> 0
A15: Rents from land & buildings | K15: =SUM(C15:I15) -> 0
A16: Gross receipts from other charitable activities | K16: =SUM(C16:I16) -> 0
A17: Sub total | C17: =SUM(C9:C16) -> 0 | E17: =SUM(E9:E16) -> 0 | G17: =SUM(G9:G16) -> 0 | I17: =SUM(I9:I16) -> 0 | K17: =SUM(K9:K16) -> 0 | M17: =SUM(M9:M16) -> 0
K18: =IF(K17='R&P Accounts'!B21,0,"cross ref error") -> cross ref error
A19: Receipts from asset & investment sales
A20: Proceeds from sale of fixed assets | K20: =SUM(C20:I20) -> 0
A21: Proceeds from sale of investments | K21: =SUM(C21:I21) -> 0
A22: Sub total | C22: =SUM(C20:C21) -> 0 | E22: =SUM(E20:E21) -> 0 | G22: =SUM(G20:G21) -> 0 | I22: =SUM(I20:I21) -> 0 | K22: =SUM(K20:K21) -> 0 | M22: =SUM(M20:M21) -> 0
A24: Total receipts | C24: =C17+C22 -> 0 | E24: =E17+E22 -> 0 | G24: =G17+G22 -> 0 | I24: =I17+I22 -> 0 | K24: =K17+K22 -> 0 | M24: =M17+M22 -> 0
K25: =IF(K24='R&P Accounts'!B28,0,"cross ref error") -> cross ref error
A27: Payments
A28: Expenses for fundraising activities | K28: =SUM(C28:I28) -> 0
A29: Gross trading payments | K29: =SUM(C29:I29) -> 0
A30: Investment management costs | K30: =SUM(C30:I30) -> 0
A31: Payments relating directly to charitable activities | K31: =SUM(C31:I31) -> 0
A32: Grants and donations | K32: =SUM(C32:I32) -> 0
A33: Governance costs: | K33: =SUM(C33:I33) -> 0
A34: Audit / independent examination | K34: =SUM(C34:I34) -> 0
A35: Preparation of annual accounts | K35: =SUM(C35:I35) -> 0
A36: Legal costs | K36: =SUM(C36:I36) -> 0
K37: =SUM(C37:I37) -> 0
K38: =SUM(C38:I38) -> 0
A39: Sub total | C39: =SUM(C28:C38) -> 0 | E39: =SUM(E28:E38) -> 0 | G39: =SUM(G28:G38) -> 0 | I39: =SUM(I28:I38) -> 0 | K39: =SUM(K28:K38) -> 0 | M39: =SUM(M28:M38) -> 0
K40: =IF(K39='R&P Accounts'!B42,0,"cross ref error") -> cross ref error
A41: Payments relating to asset and investment movements
A42: Purchases of fixed assets | K42: =SUM(C42:I42) -> 0
A43: Purchase of investments | K43: =SUM(C43:I43) -> 0
A44: Sub total | C44: =C42+C43 -> 0 | E44: =E42+E43 -> 0 | G44: =G42+G43 -> 0 | I44: =I42+I43 -> 0 | K44: =K42+K43 -> 0 | M44: =M42+M43 -> 0
...

Sheet Additional notes (3)
C1: ='R&P Accounts'!B2 -> Korean Language Classes | M1: ='R&P Accounts'!L2 -> SC
A3: Additional analysis (3)
A5: 6 Breakdown of restricted funds
C6: Restricted fund 1 - enter name of fund below | E6: Restricted fund 2 - enter name of fund below | G6: Restricted fund 3 - enter name of fund below | I6: Restricted fund 4 - enter name of fund below
K7: Total restricted funds | M7: Total restricted funds last period
A8: Receipts
A9: Donations | K9: =SUM(C9:I9) -> 0
A10: Legacies | K10: =SUM(C10:I10) -> 0
A11: Grants | K11: =SUM(C11:I11) -> 0
A12: Receipts from fundraising activities | K12: =SUM(C12:I12) -> 0
A13: Gross trading receipts | K13: =SUM(C13:I13) -> 0
A14: Income from investments other than land and buildings | K14: =SUM(C14:I14) -> 0
A15: Rents from land & buildings | K15: =SUM(C15:I15) -> 0
A16: Gross receipts from other charitable activities | K16: =SUM(C16:I16) -> 0
A17: Sub total | C17: =SUM(C9:C16) -> 0 | E17: =SUM(E9:E16) -> 0 | G17: =SUM(G9:G16) -> 0 | I17: =SUM(I9:I16) -> 0 | K17: =SUM(K9:K16) -> 0 | M17: =SUM(M9:M16) -> 0
K18: =IF(K17='R&P Accounts'!D21,0,"cross ref error") -> 0
A19: Receipts from asset & investment sales
A20: Proceeds from sale of fixed assets | K20: =SUM(C20:I20) -> 0
A21: Proceeds from sale of investments | K21: =SUM(C21:I21) -> 0
A22: Sub total | C22: =SUM(C20:C21) -> 0 | E22: =SUM(E20:E21) -> 0 | G22: =SUM(G20:G21) -> 0 | I22: =SUM(I20:I21) -> 0 | K22: =SUM(K20:K21) -> 0 | M22: =SUM(M20:M21) -> 0
A24: Total receipts | C24: =C17+C22 -> 0 | E24: =E17+E22 -> 0 | G24: =G17+G22 -> 0 | I24: =I17+I22 -> 0 | K24: =K17+K22 -> 0 | M24: =M17+M22 -> 0
K25: =IF(K24='R&P Accounts'!D28,0,"cross ref error") -> 0
A27: Payments
A28: Expenses for fundraising activities | K28: =SUM(C28:I28) -> 0
A29: Gross trading payments | K29: =SUM(C29:I29) -> 0
A30: Investment management costs | K30: =SUM(C30:I30) -> 0
A31: Payments relating directly to charitable activities | K31: =SUM(C31:I31) -> 0
A32: Grants and donations | K32: =SUM(C32:I32) -> 0
A33: Governance costs: | K33: =SUM(C33:I33) -> 0
A34: Audit / independent examination | K34: =SUM(C34:I34) -> 0
A35: Preparation of annual accounts | K35: =SUM(C35:I35) -> 0
A36: Legal costs | K36: =SUM(C36:I36) -> 0
K37: =SUM(C37:I37) -> 0
K38: =SUM(C38:I38) -> 0
A39: Sub total | C39: =SUM(C28:C38) -> 0 | E39: =SUM(E28:E38) -> 0 | G39: =SUM(G28:G38) -> 0 | I39: =SUM(I28:I38) -> 0 | K39: =SUM(K28:K38) -> 0 | M39: =SUM(M28:M38) -> 0
K40: =IF(K39='R&P Accounts'!D42,0,"cross ref error") -> 0
A41: Payments relating to asset and investment movements
A42: Purchases of fixed assets | K42: =SUM(C42:I42) -> 0
A43: Purchase of investments | K43: =SUM(C43:I43) -> 0
A44: Sub total | C44: =C42+C43 -> 0 | E44: =E42+E43 -> 0 | G44: =G42+G43 -> 0 | I44: =I42+I43 -> 0 | K44: =K42+K43 -> 0 | M44: =M42+M43 -> 0
...
